Workbook

Sheet График ОП
C1: СТД - | D1: стартовая диагностика | Q1: Утверждаю
Q2: Директор ГБОУ школы №570: Е.Ю.Панасюк
C3: График проведения оценочных процедур в 1-11-х классах ГБОУ школы №570 Невского района Санкт-Петербурга на I полугодие 2026-2027 учебного года
C4: 1 класс | F4: 2 класс | I4: 3 класс | M4: 4 класс | Q4: 5 класс | U4: 6 класс | Y4: 7 класс | AB4: 8 класс | AF4: 9 класс | AI4: 10 класс | AK4: 11 класс
C5: 2 - 5 урок | F5: 2 - 5 урок | I5: 2 - 5 урок | M5: 2 - 5 урок | Q5: 2 - 6 урок | U5: 2 - 6 урок | Y5: 2 - 6 урок | AB5: 2 - 6 урок | AF5: 2 - 6 урок | AI5: 2 - 6 урок | AK5: 2 - 6 урок
A6: дата | B6: день недели | C6: а | D6: б | E6: в | F6: а | G6: б | H6: в | I6: а | J6: б | K6: в | L6: г | M6: а | N6: б | O6: в | P6: г | Q6: а | R6: б | S6: в | T6: г | U6: а | V6: б | W6: в | X6: г | Y6: а | Z6: б | AA6: в | AB6: а | AC6: б | AD6: е | AE6: с | AF6: а | AG6: б | AH6: е | AI6: е | AJ6: с | AK6: е | AL6: с
A7: 46266 | B7: ВТ
A8: 46267 | B8: СР
A9: 46268 | B9: ЧТ
A10: 46269 | B10: ПТ
A11: 46270 | B11: СБ
A12: 46271 | B12: ВС
A13: 46272 | B13: ПН
A14: 46273 | B14: ВТ | C14: СТД | D14: СТД | E14: СТД
A15: 46274 | B15: СР | AI15: КР РУ | AJ15: КР РУ
A16: 46275 | B16: ЧТ
A17: 46276 | B17: ПТ
A18: 46277 | B18: СБ
A19: 46278 | B19: ВС
A20: 46279 | B20: ПН
A21: 46280 | B21: ВТ | F21: КР МА | G21: КР МА | H21: КР МА | I21: КР МА | J21: КР МА | K21: КР МА | M21: КР МА | N21: КР МА | O21: КР МА | P21: КР МА | U21: КР РУ | V21: КР РУ | W21: КР РУ | X21: КР РУ
A22: 46281 | B22: СР
A23: 46282 | B23: ЧТ | F23: КР РУ | G23: КР РУ | H23: КР РУ | I23: КР РУ | J23: КР РУ | K23: КР РУ | M23: КР РУ | N23: КР РУ | O23: КР РУ | P23: КР РУ
A24: 46283 | B24: ПТ | U24: КР МА | V24: КР МА | W24: КР МА | X24: КР МА
A25: 46284 | B25: СБ
A26: 46285 | B26: ВС
A27: 46286 | B27: ПН
A28: 46287 | B28: ВТ | Y28: КР РУ | Z28: КР РУ | AA28: КР РУ
A29: 46288 | B29: СР | Q29: КР РУ | R29: КР РУ | S29: КР РУ | T29: КР РУ | Y29: КР АЯ | Z29: КР АЯ | AB29: КР АЯ | AC29: КР АЯ | AF29: КР АЯ | AG29: КР АЯ
A30: 46289 | B30: ЧТ | Q30: КР ЛИ | R30: КР ЛИ | S30: КР ЛИ | T30: КР ЛИ | AA30: КР АЯ | AB30: КР РУ | AC30: КР РУ | AD30: КР РУ | AE30: КР РУ | AF30: КР РУ | AI30: КР ЛИ | AJ30: КР ЛИ | AK30: КР ГЕО | AL30: КР ГЕО
A31: 46290 | B31: ПТ | AD31: КР АЯ | AE31: КР АЯ | AH31: КР АЯ
A32: 46291 | B32: СБ
A33: 46292 | B33: ВС
A34: 46293 | B34: ПН | Q34: КР МА | R34: КР МА | S34: КР МА | T34: КР МА | Z34: КР ЛИ | AA34: КР ЛИ
A35: 46294 | B35: ВТ | T35: КР АЯ | Y35: КР ЛИ
A36: 46295 | B36: СР | Q36: КР АЯ | R36: КР АЯ | S36: КР АЯ | U36: КР ЛИ | V36: КР ЛИ | W36: КР ЛИ | X36: КР ЛИ
A37: 46296 | B37: ЧТ | W37: КР АЯ | AL37: КР БИО
A38: 46297 | B38: ПТ | U38: КР АЯ | V38: КР АЯ | X38: КР АЯ
A39: 46298 | B39: СБ
A40: 46299 | B40: ВС
A41: 46300 | B41: ПН
A42: 46301 | B42: ВТ | AK42: КР ГЕОМЕТРИЯ
A43: 46302 | B43: СР | U43: КР РУ | V43: КР РУ | W43: КР РУ | X43: КР РУ | Y43: КР РУ | Z43: КР РУ | AD43: КР ГЕОМЕТРИЯ | AL43: КР АЯ
A44: 46303 | B44: ЧТ | AA44: КР РУ | AB44: КР ГЕОМЕТРИЯ | AC44: КР ГЕОМЕТРИЯ | AE44: КР ГЕОМЕТРИЯ | AK44: КР АЛГЕБРА
A45: 46304 | B45: ПТ | U45: КР МА | V45: КР МА | W45: КР МА | X45: КР МА | AC45: КР АЯ | AK45: КР АЯ
A46: 46305 | B46: СБ
A47: 46306 | B47: ВС
A48: 46307 | B48: ПН
A49: 46308 | B49: ВТ | AF49: КР ГЕОМЕТРИЯ | AG49: КР ГЕОМЕТРИЯ | AH49: КР ГЕОМЕТРИЯ | AI49: КР АЛГЕБРА | AJ49: КР ГЕОМЕТРИЯ
A50: 46309 | B50: СР | F50: КР МА | G50: КР МА | H50: КР МА | I50: КР МА | J50: КР МА | K50: КР МА | M50: КР МА | N50: КР МА | O50: КР МА | P50: КР МА | AB50: КР АЯ | AD50: КР АЯ | AE50: КР АЯ | AI50: КР ЛИ | AJ50: КР ЛИ
A51: 46310 | B51: ЧТ | Z51: КР ВЕР И СТ | AA51: КР ВЕР И СТ | AB51: КР ФИЗ | AC51: КР ГЕО | AE51: КР ГЕО | AF51: НСИ | AG51: НСИ | AH51: НСИ
A52: 46311 | B52: ПТ | Y52: КР ВЕР И СТ | AB52: КР ГЕО | AD52: КР РУ | AF52: НСИ | AG52: НСИ | AH52: НСИ | AI52: КР РУ | AJ52: КР РУ
A53: 46312 | B53: СБ
A54: 46313 | B54: ВС
A55: 46314 | B55: ПН | Q55: КР МА | R55: КР МА | S55: КР МА | T55: КР МА | AK55: КР ИНФ | AL55: КР ИНФ
A56: 46315 | B56: ВТ | F56: КР РУ | G56: КР РУ | H56: КР РУ | I56: КР РУ | J56: КР РУ | K56: КР РУ | M56: КР РУ | N56: КР РУ | O56: КР РУ | P56: КР РУ | X56: КР АЯ | AB56: КР РУ | AC56: КР РУ | AD56: КР ГЕО | AE56: КР РУ | AF56: КР АЛГЕБРА | AG56: КР АЛГЕБРА | AH56: КР АЛГЕБРА
A57: 46316 | B57: СР | K57: КР АЯ | M57: КР АЯ | N57: КР АЯ | Q57: КР РУ | R57: КР РУ | S57: КР РУ | T57: КР РУ | U57: КР АЯ | V57: КР АЯ | W57: КР АЯ | Z57: КР АЛГЕБРА | AB57: КР АЛГЕБРА | AC57: КР АЛГЕБРА
A58: 46317 | B58: ЧТ | I58: КР АЯ | J58: КР АЯ | O58: КР АЯ | P58: КР АЯ | Y58: КР АЛГЕБРА | AA58: КР АЛГЕБРА | AD58: КР АЛГЕБРА | AE58: КР АЛГЕБРА | AF58: КР ГЕО | AG58: КР ГЕО | AH58: КР ГЕО | AI58: ВПР АЯ | AJ58: КР АЯ
A59: 46318 | B59: ПТ | AC59: КР ФИЗ | AD59: КР ФИЗ | AE59: КР ФИЗ | AI59: КР ГЕОМЕТРИЯ
A60: 46319 | B60: СБ
A61: 46320 | B61: ВС
A62: 46321 | B62: К
A63: 46322 | B63: А
A64: 46323 | B64: Н
A65: 46324 | B65: И
A66: 46325 | B66: К
A67: 46326 | B67: У
A68: 46327 | B68: Л
A69: 46328 | B69: Ы
A70: 46329 | B70: *
A71: 46330 | B71: *
... A76: 46335 | B76: ПН
A77: 46336 | B77: ВТ | X77: КР БИО | Y77: КР АЛГЕБРА | Z77: КР АЛГЕБРА | AB77: КР ГЕОМЕТРИЯ | AE77: КР ГЕОМЕТРИЯ | AI77: КР АЛГЕБРА | AJ77: КР АЛГЕБРА
A78: 46337 | B78: СР | W78: КР БИО | AA78: КР АЛГЕБРА | AC78: КР ГЕОМЕТРИЯ | AD78: КР ГЕОМЕТРИЯ | AF78: КР ХИМ | AG78: КР ХИМ
A79: 46338 | B79: ЧТ | W79: КР ГЕО | X79: КР ГЕО | AA79: КР АЯ | AB79: КР ХИМ | AC79: КР ХИМ | AI79: КР ГЕО | AJ79: КР ГЕО
A80: 46339 | B80: ПТ | Y80: КР АЯ | Z80: КР АЯ | AD80: КР ХИМ | AE80: КР ХИМ | AH80: КР ХИМ
A81: 46340 | B81: СБ
A82: 46341 | B82: ВС
A83: 46342 | B83: ПН | U83: КР ГЕО | V83: КР ГЕО
A84: 46343 | B84: ВТ | U84: КР РУ | V84: КР РУ | W84: КР РУ | Y84: КР БИО | Z84: КР БИО | AA84: КР РУ | AD84: КР РУ
A85: 46344 | B85: СР | F85: КР МА | G85: КР МА | H85: КР МА | Q85: КР РУ | R85: КР РУ | S85: КР РУ | T85: КР РУ | X85: КР РУ | Y85: КР РУ | Z85: КР РУ | AA85: КР БИО | AF85: КР РУ | AG85: КР РУ | AH85: КР РУ | AK85: КР ФИЗ | AL85: КР ФИЗ
A86: 46345 | B86: ЧТ | AB86: КР РУ | AC86: КР РУ | AE86: КР РУ
A87: 46346 | B87: ПТ | U87: КР БИО | V87: КР БИО | AF87: КР ГЕОМЕТРИЯ | AG87: КР ГЕОМЕТРИЯ | AH87: КР ГЕОМЕТРИЯ
A88: 46347 | B88: СБ
A89: 46348 | B89: ВС
A90: 46349 | B90: ПН | U90: КР МА | V90: КР МА | W90: КР МА | X90: КР МА
A91: 46350 | B91: ВТ | Q91: КР МА | R91: КР МА | S91: КР МА | T91: КР МА | Y91: КР ГЕО | Z91: КР ГЕО | AA91: КР ГЕО
A92: 46351 | B92: СР | M92: КР МА | N92: КР МА | O92: КР МА | P92: КР МА | U92: КР АЯ | V92: КР АЯ
A93: 46352 | B93: ЧТ | F93: КР РУ | G93: КР РУ | H93: КР РУ | W93: КР АЯ | X93: КР АЯ | AD93: КР АЯ | AE93: КР АЯ | AI93: КР ОБЩ | AJ93: КР ОБЩ
A94: 46353 | B94: ПТ | AB94: КР АЯ | AC94: КР АЯ | AI94: КР РУ | AJ94: КР РУ
A95: 46354 | B95: СБ
A96: 46355 | B96: ВС
A97: 46356 | B97: ПН
A98: 46357 | B98: ВТ | Q98: КР АЯ | R98: КР АЯ | T98: КР АЯ | AB98: КР АЛГЕБРА | AC98: КР АЛГЕБРА | AF98: КР АЛГЕБРА | AG98: КР АЛГЕБРА | AH98: КР АЛГЕБРА
A99: 46358 | B99: СР | S99: КР АЯ | AD99: КР АЛГЕБРА | AE99: КР АЛГЕБРА | AI99: КР ГЕО | AJ99: КР ГЕО
A100: 46359 | B100: ЧТ | AF100: КР ГЕОМЕТРИЯ | AG100: КР ГЕОМЕТРИЯ | AH100: КР ГЕОМЕТРИЯ
A101: 46360 | B101: ПТ
A102: 46361 | B102: СБ
A103: 46362 | B103: ВС
A104: 46363 | B104: ПН
...

Sheet календарь
B3: 2026 | Z3: 2026
C4: январь | J4: Февраль | R4: Март | Z4: январь
B5: понедельник | D5: 5 | E5: 12 | F5: =E5+7 -> 19 | G5: =F5+7 -> 26 | I5: понедельник | K5: =J11+1 -> 2 | L5: =K5+7 -> 9 | M5: =L5+7 -> 16 | N5: =M5+7 -> 23 | Q5: понедельник | S5: =R11+1 -> 2 | T5: =S5+7 -> 9 | U5: =T5+7 -> 16 | V5: =U5+7 -> 23 | W5: =V5+7 -> 30 | Y5: 1 | Z5: понедельник | AA5: 46034
B6: вторник | D6: =D5+1 -> 6 | E6: =E5+1 -> 13 | F6: =F5+1 -> 20 | G6: =G5+1 -> 27 | I6: вторник | K6: =K5+1 -> 3 | L6: =L5+1 -> 10 | M6: =M5+1 -> 17 | N6: =N5+1 -> 24 | Q6: вторник | S6: =S5+1 -> 3 | T6: =T5+1 -> 10 | U6: =U5+1 -> 17 | V6: =V5+1 -> 24 | W6: =W5+1 -> 31 | Y6: 2 | Z6: вторник | AA6: 46035
B7: среда | D7: =D6+1 -> 7 | E7: =E6+1 -> 14 | F7: =F6+1 -> 21 | G7: =G6+1 -> 28 | I7: среда | K7: =K6+1 -> 4 | L7: =L6+1 -> 11 | M7: =M6+1 -> 18 | N7: =N6+1 -> 25 | Q7: среда | S7: =S6+1 -> 4 | T7: =T6+1 -> 11 | U7: =U6+1 -> 18 | V7: =V6+1 -> 25 | Y7: 3 | Z7: среда | AA7: 46036
B8: четверг | C8: 1 | D8: =D7+1 -> 8 | E8: =E7+1 -> 15 | F8: =F7+1 -> 22 | G8: =G7+1 -> 29 | I8: четверг | K8: =K7+1 -> 5 | L8: =L7+1 -> 12 | M8: =M7+1 -> 19 | N8: =N7+1 -> 26 | Q8: четверг | S8: =S7+1 -> 5 | T8: =T7+1 -> 12 | U8: =U7+1 -> 19 | V8: =V7+1 -> 26 | Y8: 4 | Z8: четверг | AA8: 46037
B9: пятница | C9: =C8+1 -> 2 | D9: =D8+1 -> 9 | E9: =E8+1 -> 16 | F9: =F8+1 -> 23 | G9: =G8+1 -> 30 | I9: пятница | K9: =K8+1 -> 6 | L9: =L8+1 -> 13 | M9: =M8+1 -> 20 | N9: =N8+1 -> 27 | Q9: пятница | S9: =S8+1 -> 6 | T9: =T8+1 -> 13 | U9: =U8+1 -> 20 | V9: =V8+1 -> 27 | Y9: 5 | Z9: пятница | AA9: 46038
B10: суббота | C10: =C9+1 -> 3 | D10: =D9+1 -> 10 | E10: =E9+1 -> 17 | F10: =F9+1 -> 24 | G10: =G9+1 -> 31 | I10: суббота | K10: =K9+1 -> 7 | L10: =L9+1 -> 14 | M10: =M9+1 -> 21 | N10: =N9+1 -> 28 | Q10: суббота | S10: =S9+1 -> 7 | T10: =T9+1 -> 14 | U10: =U9+1 -> 21 | V10: =V9+1 -> 28 | Z10: суббота | AA10: 46039
B11: воскресенье | C11: =C10+1 -> 4 | D11: =D10+1 -> 11 | E11: =E10+1 -> 18 | F11: =F10+1 -> 25 | I11: воскресенье | J11: 1 | K11: =K10+1 -> 8 | L11: =L10+1 -> 15 | M11: =M10+1 -> 22 | Q11: воскресенье | R11: 1 | S11: =S10+1 -> 8 | T11: =T10+1 -> 15 | U11: =U10+1 -> 22 | V11: =V10+1 -> 29 | Z11: воскресенье | AA11: 46040
Z12: понедельник | AA12: 46041
Z13: вторник | AA13: 46042
C14: Апрель | J14: Май | R14: Сентябрь | Z14: среда | AA14: 46043
B15: понедельник | D15: =C21+1 -> 6 | E15: =D15+7 -> 13 | F15: =E15+7 -> 20 | G15: =F15+7 -> 27 | I15: понедельник | K15: =J21+1 -> 4 | L15: =K15+7 -> 11 | M15: =L15+7 -> 18 | N15: =M15+7 -> 25 | Q15: понедельник | S15: =R15+7 -> 7 | T15: =S15+7 -> 14 | U15: =T15+7 -> 21 | V15: =U15+7 -> 28 | Z15: четверг | AA15: 46044
B16: вторник | D16: =D15+1 -> 7 | E16: =E15+1 -> 14 | F16: =F15+1 -> 21 | G16: =G15+1 -> 28 | I16: вторник | K16: =K15+1 -> 5 | L16: =L15+1 -> 12 | M16: =M15+1 -> 19 | N16: =N15+1 -> 26 | Q16: вторник | R16: 1 | S16: =S15+1 -> 8 | T16: =T15+1 -> 15 | U16: =U15+1 -> 22 | V16: =V15+1 -> 29 | Z16: пятница | AA16: 46045
B17: среда | C17: 1 | D17: =D16+1 -> 8 | E17: =E16+1 -> 15 | F17: =F16+1 -> 22 | G17: =G16+1 -> 29 | I17: среда | K17: =K16+1 -> 6 | L17: =L16+1 -> 13 | M17: =M16+1 -> 20 | N17: =N16+1 -> 27 | Q17: среда | R17: =R16+1 -> 2 | S17: =S16+1 -> 9 | T17: =T16+1 -> 16 | U17: =U16+1 -> 23 | V17: =V16+1 -> 30 | Z17: суббота | AA17: 46046
B18: четверг | C18: =C17+1 -> 2 | D18: =D17+1 -> 9 | E18: =E17+1 -> 16 | F18: =F17+1 -> 23 | G18: =G17+1 -> 30 | I18: четверг | K18: =K17+1 -> 7 | L18: =L17+1 -> 14 | M18: =M17+1 -> 21 | N18: =N17+1 -> 28 | Q18: четверг | R18: =R17+1 -> 3 | S18: =S17+1 -> 10 | T18: =T17+1 -> 17 | U18: =U17+1 -> 24 | Z18: воскресенье | AA18: 46047
B19: пятница | C19: =C18+1 -> 3 | D19: =D18+1 -> 10 | E19: =E18+1 -> 17 | F19: =F18+1 -> 24 | I19: пятница | J19: 1 | K19: =K18+1 -> 8 | L19: =L18+1 -> 15 | M19: =M18+1 -> 22 | N19: =N18+1 -> 29 | Q19: пятница | R19: =R18+1 -> 4 | S19: =S18+1 -> 11 | T19: =T18+1 -> 18 | U19: =U18+1 -> 25 | Z19: понедельник | AA19: 46048
B20: суббота | C20: =C19+1 -> 4 | D20: =D19+1 -> 11 | E20: =E19+1 -> 18 | F20: =F19+1 -> 25 | I20: суббота | J20: =J19+1 -> 2 | K20: =K19+1 -> 9 | L20: =L19+1 -> 16 | M20: =M19+1 -> 23 | N20: =N19+1 -> 30 | Q20: суббота | R20: =R19+1 -> 5 | S20: =S19+1 -> 12 | T20: =T19+1 -> 19 | U20: =U19+1 -> 26 | Z20: вторник | AA20: 46049
B21: воскресенье | C21: =C20+1 -> 5 | D21: =D20+1 -> 12 | E21: =E20+1 -> 19 | F21: =F20+1 -> 26 | I21: воскресенье | J21: =J20+1 -> 3 | K21: =K20+1 -> 10 | L21: =L20+1 -> 17 | M21: =M20+1 -> 24 | N21: =N20+1 -> 31 | Q21: воскресенье | R21: =R20+1 -> 6 | S21: =S20+1 -> 13 | T21: =T20+1 -> 20 | U21: =U20+1 -> 27 | Z21: среда | AA21: 46050
Z22: четверг | AA22: 46051
Z23: пятница | AA23: 46052
C24: Октябрь | J24: Ноябрь | R24: Декабрь | Z24: суббота | AA24: 46053
B25: понедельник | D25: =C31+1 -> 5 | E25: =D25+7 -> 12 | F25: =E25+7 -> 19 | G25: =F25+7 -> 26 | I25: понедельник | K25: =J31+1 -> 2 | L25: =K25+7 -> 9 | M25: =L25+7 -> 16 | N25: =M25+7 -> 23 | O25: =N25+7 -> 30 | Q25: понедельник | S25: =R31+1 -> 7 | T25: =S25+7 -> 14 | U25: =T25+7 -> 21 | V25: =U25+7 -> 28
B26: вторник | D26: =D25+1 -> 6 | E26: =E25+1 -> 13 | F26: =F25+1 -> 20 | G26: =G25+1 -> 27 | I26: вторник | K26: =K25+1 -> 3 | L26: =L25+1 -> 10 | M26: =M25+1 -> 17 | N26: =N25+1 -> 24 | Q26: вторник | R26: 1 | S26: =S25+1 -> 8 | T26: =T25+1 -> 15 | U26: =U25+1 -> 22 | V26: =V25+1 -> 29
B27: среда | D27: =D26+1 -> 7 | E27: =E26+1 -> 14 | F27: =F26+1 -> 21 | G27: =G26+1 -> 28 | I27: среда | K27: =K26+1 -> 4 | L27: =L26+1 -> 11 | M27: =M26+1 -> 18 | N27: =N26+1 -> 25 | Q27: среда | R27: =R26+1 -> 2 | S27: =S26+1 -> 9 | T27: =T26+1 -> 16 | U27: =U26+1 -> 23 | V27: =V26+1 -> 30 | Z27: февраль
B28: четверг | C28: 1 | D28: =D27+1 -> 8 | E28: =E27+1 -> 15 | F28: =F27+1 -> 22 | G28: =G27+1 -> 29 | I28: четверг | K28: =K27+1 -> 5 | L28: =L27+1 -> 12 | M28: =M27+1 -> 19 | N28: =N27+1 -> 26 | Q28: четверг | R28: =R27+1 -> 3 | S28: =S27+1 -> 10 | T28: =T27+1 -> 17 | U28: =U27+1 -> 24 | V28: =V27+1 -> 31 | Z28: воскресенье | AA28: 46054
B29: пятница | C29: =C28+1 -> 2 | D29: =D28+1 -> 9 | E29: =E28+1 -> 16 | F29: =F28+1 -> 23 | G29: =G28+1 -> 30 | I29: пятница | K29: =K28+1 -> 6 | L29: =L28+1 -> 13 | M29: =M28+1 -> 20 | N29: =N28+1 -> 27 | Q29: пятница | R29: =R28+1 -> 4 | S29: =S28+1 -> 11 | T29: =T28+1 -> 18 | U29: =U28+1 -> 25 | Z29: понедельник | AA29: 46055
B30: суббота | C30: =C29+1 -> 3 | D30: =D29+1 -> 10 | E30: =E29+1 -> 17 | F30: =F29+1 -> 24 | G30: =G29+1 -> 31 | I30: суббота | K30: =K29+1 -> 7 | L30: =L29+1 -> 14 | M30: =M29+1 -> 21 | N30: =N29+1 -> 28 | Q30: суббота | R30: =R29+1 -> 5 | S30: =S29+1 -> 12 | T30: =T29+1 -> 19 | U30: =U29+1 -> 26 | Z30: вторник | AA30: 46056
B31: воскресенье | C31: =C30+1 -> 4 | D31: =D30+1 -> 11 | E31: =E30+1 -> 18 | F31: =F30+1 -> 25 | I31: воскресенье | J31: 1 | K31: =K30+1 -> 8 | L31: =L30+1 -> 15 | M31: =M30+1 -> 22 | N31: =N30+1 -> 29 | Q31: воскресенье | R31: =R30+1 -> 6 | S31: =S30+1 -> 13 | T31: =T30+1 -> 20 | U31: =U30+1 -> 27 | Z31: среда | AA31: 46057
Z32: четверг | AA32: 46058
B33: 2027 | Z33: пятница | AA33: 46059
C34: январь | J34: Февраль | R34: Март | Z34: суббота | AA34: 46060
B35: понедельник | D35: =C41+1 -> 4 | E35: =D41+1 -> 11 | F35: =E35+7 -> 18 | G35: =F35+7 -> 25 | I35: понедельник | J35: 1 | K35: =J41+1 -> 8 | L35: =K35+7 -> 15 | M35: =L35+7 -> 22 | Q35: понедельник | R35: 1 | S35: =R41+1 -> 8 | T35: =S35+7 -> 15 | U35: =T35+7 -> 22 | V35: =U35+7 -> 29 | Z35: воскресенье | AA35: 46061
B36: вторник | D36: =D35+1 -> 5 | E36: =E35+1 -> 12 | F36: =F35+1 -> 19 | G36: =G35+1 -> 26 | I36: вторник | J36: =J35+1 -> 2 | K36: =K35+1 -> 9 | L36: =L35+1 -> 16 | M36: =M35+1 -> 23 | Q36: вторник | R36: =R35+1 -> 2 | S36: =S35+1 -> 9 | T36: =T35+1 -> 16 | U36: =U35+1 -> 23 | V36: =V35+1 -> 30 | Z36: понедельник | AA36: 46062
B37: среда | D37: =D36+1 -> 6 | E37: =E36+1 -> 13 | F37: =F36+1 -> 20 | G37: =G36+1 -> 27 | I37: среда | J37: =J36+1 -> 3 | K37: =K36+1 -> 10 | L37: =L36+1 -> 17 | M37: =M36+1 -> 24 | Q37: среда | R37: =R36+1 -> 3 | S37: =S36+1 -> 10 | T37: =T36+1 -> 17 | U37: =U36+1 -> 24 | V37: =V36+1 -> 31 | Z37: вторник | AA37: 46063
B38: четверг | D38: =D37+1 -> 7 | E38: =E37+1 -> 14 | F38: =F37+1 -> 21 | G38: =G37+1 -> 28 | I38: четверг | J38: =J37+1 -> 4 | K38: =K37+1 -> 11 | L38: =L37+1 -> 18 | M38: =M37+1 -> 25 | Q38: четверг | R38: =R37+1 -> 4 | S38: =S37+1 -> 11 | T38: =T37+1 -> 18 | U38: =U37+1 -> 25 | Z38: среда | AA38: 46064
B39: пятница | C39: =C38+1 -> 1 | D39: =D38+1 -> 8 | E39: =E38+1 -> 15 | F39: =F38+1 -> 22 | G39: =G38+1 -> 29 | I39: пятница | J39: =J38+1 -> 5 | K39: =K38+1 -> 12 | L39: =L38+1 -> 19 | M39: =M38+1 -> 26 | Q39: пятница | R39: =R38+1 -> 5 | S39: =S38+1 -> 12 | T39: =T38+1 -> 19 | U39: =U38+1 -> 26 | Z39: четверг | AA39: 46065
B40: суббота | C40: =C39+1 -> 2 | D40: =D39+1 -> 9 | E40: =E39+1 -> 16 | F40: =F39+1 -> 23 | G40: =G39+1 -> 30 | I40: суббота | J40: =J39+1 -> 6 | K40: =K39+1 -> 13 | L40: =L39+1 -> 20 | M40: =M39+1 -> 27 | Q40: суббота | R40: =R39+1 -> 6 | S40: =S39+1 -> 13 | T40: =T39+1 -> 20 | U40: =U39+1 -> 27 | Z40: пятница | AA40: 46066
B41: воскресенье | C41: =C40+1 -> 3 | D41: =D40+1 -> 10 | E41: =E40+1 -> 17 | F41: =F40+1 -> 24 | G41: =G40+1 -> 31 | I41: воскресенье | J41: =J40+1 -> 7 | K41: =K40+1 -> 14 | L41: =L40+1 -> 21 | M41: =M40+1 -> 28 | Q41: воскресенье | R41: =R40+1 -> 7 | S41: =S40+1 -> 14 | T41: =T40+1 -> 21 | U41: =U40+1 -> 28 | Z41: суббота | AA41: 46067
Z42: воскресенье | AA42: 46068
Z43: понедельник | AA43: 46069
C44: Апрель | J44: Май | R44: Сентябрь | Z44: вторник | AA44: 46070
B45: понедельник | D45: =C51+1 -> 5 | E45: =D45+7 -> 12 | F45: =E45+7 -> 19 | G45: =F45+7 -> 26 | I45: понедельник | K45: =J51+1 -> 3 | L45: =K45+7 -> 10 | M45: =L45+7 -> 17 | N45: =M45+7 -> 24 | O45: =N45+7 -> 31 | Q45: понедельник | S45: =R51+1 -> 6 | T45: =S45+7 -> 13 | U45: =T45+7 -> 20 | V45: =U45+7 -> 27 | Z45: среда | AA45: 46071
B46: вторник | D46: =D45+1 -> 6 | E46: =E45+1 -> 13 | F46: =F45+1 -> 20 | G46: =G45+1 -> 27 | I46: вторник | K46: =K45+1 -> 4 | L46: =L45+1 -> 11 | M46: =M45+1 -> 18 | N46: =N45+1 -> 25 | Q46: вторник | S46: =S45+1 -> 7 | T46: =T45+1 -> 14 | U46: =U45+1 -> 21 | V46: =V45+1 -> 28 | Z46: четверг | AA46: 46072
B47: среда | D47: =D46+1 -> 7 | E47: =E46+1 -> 14 | F47: =F46+1 -> 21 | G47: =G46+1 -> 28 | I47: среда | K47: =K46+1 -> 5 | L47: =L46+1 -> 12 | M47: =M46+1 -> 19 | N47: =N46+1 -> 26 | Q47: среда | R47: 1 | S47: =S46+1 -> 8 | T47: =T46+1 -> 15 | U47: =U46+1 -> 22 | V47: =V46+1 -> 29 | Z47: пятница | AA47: 46073
B48: четверг | C48: 1 | D48: =D47+1 -> 8 | E48: =E47+1 -> 15 | F48: =F47+1 -> 22 | G48: =G47+1 -> 29 | I48: четверг | K48: =K47+1 -> 6 | L48: =L47+1 -> 13 | M48: =M47+1 -> 20 | N48: =N47+1 -> 27 | Q48: четверг | R48: =R47+1 -> 2 | S48: =S47+1 -> 9 | T48: =T47+1 -> 16 | U48: =U47+1 -> 23 | V48: =V47+1 -> 30 | Z48: суббота | AA48: 46074
B49: пятница | C49: =C48+1 -> 2 | D49: =D48+1 -> 9 | E49: =E48+1 -> 16 | F49: =F48+1 -> 23 | G49: =G48+1 -> 30 | I49: пятница | K49: =K48+1 -> 7 | L49: =L48+1 -> 14 | M49: =M48+1 -> 21 | N49: =N48+1 -> 28 | Q49: пятница | R49: =R48+1 -> 3 | S49: =S48+1 -> 10 | T49: =T48+1 -> 17 | U49: =U48+1 -> 24 | Z49: воскресенье | AA49: 46075
B50: суббота | C50: =C49+1 -> 3 | D50: =D49+1 -> 10 | E50: =E49+1 -> 17 | F50: =F49+1 -> 24 | I50: суббота | J50: =J49+1 -> 1 | K50: =K49+1 -> 8 | L50: =L49+1 -> 15 | M50: =M49+1 -> 22 | N50: =N49+1 -> 29 | Q50: суббота | R50: =R49+1 -> 4 | S50: =S49+1 -> 11 | T50: =T49+1 -> 18 | U50: =U49+1 -> 25 | Z50: понедельник | AA50: 46076
B51: воскресенье | C51: =C50+1 -> 4 | D51: =D50+1 -> 11 | E51: =E50+1 -> 18 | F51: =F50+1 -> 25 | I51: воскресенье | J51: =J50+1 -> 2 | K51: =K50+1 -> 9 | L51: =L50+1 -> 16 | M51: =M50+1 -> 23 | N51: =N50+1 -> 30 | Q51: воскресенье | R51: =R50+1 -> 5 | S51: =S50+1 -> 12 | T51: =T50+1 -> 19 | U51: =U50+1 -> 26 | Z51: вторник | AA51: 46077
Z52: среда | AA52: 46078
Z53: четверг | AA53: 46079
C54: Октябрь | J54: Ноябрь | R54: Декабрь | Z54: пятница | AA54: 46080
B55: понедельник | D55: =C61+1 -> 4 | E55: =D55+7 -> 11 | F55: =E55+7 -> 18 | G55: =F55+7 -> 25 | I55: понедельник | J55: =I54+1 -> 1 | K55: =J61+1 -> 8 | L55: =K55+7 -> 15 | M55: =L55+7 -> 22 | N55: =M55+7 -> 29 | Q55: понедельник | S55: =R61+1 -> 6 | T55: =S55+7 -> 13 | U55: =T55+7 -> 20 | V55: =U55+7 -> 27 | Z55: суббота | AA55: 46081
B56: вторник | D56: =D55+1 -> 5 | E56: =E55+1 -> 12 | F56: =F55+1 -> 19 | G56: =G55+1 -> 26 | I56: вторник | J56: =J55+1 -> 2 | K56: =K55+1 -> 9 | L56: =L55+1 -> 16 | M56: =M55+1 -> 23 | N56: =N55+1 -> 30 | Q56: вторник | S56: =S55+1 -> 7 | T56: =T55+1 -> 14 | U56: =U55+1 -> 21 | V56: =V55+1 -> 28 | Z56: воскресенье
B57: среда | D57: =D56+1 -> 6 | E57: =E56+1 -> 13 | F57: =F56+1 -> 20 | G57: =G56+1 -> 27 | I57: среда | J57: =J56+1 -> 3 | K57: =K56+1 -> 10 | L57: =L56+1 -> 17 | M57: =M56+1 -> 24 | Q57: среда | R57: =R56+1 -> 1 | S57: =S56+1 -> 8 | T57: =T56+1 -> 15 | U57: =U56+1 -> 22 | V57: =V56+1 -> 29
B58: четверг | D58: =D57+1 -> 7 | E58: =E57+1 -> 14 | F58: =F57+1 -> 21 | G58: =G57+1 -> 28 | I58: четверг | J58: =J57+1 -> 4 | K58: =K57+1 -> 11 | L58: =L57+1 -> 18 | M58: =M57+1 -> 25 | Q58: четверг | R58: =R57+1 -> 2 | S58: =S57+1 -> 9 | T58: =T57+1 -> 16 | U58: =U57+1 -> 23 | V58: =V57+1 -> 30
B59: пятница | C59: =C58+1 -> 1 | D59: =D58+1 -> 8 | E59: =E58+1 -> 15 | F59: =F58+1 -> 22 | G59: =G58+1 -> 29 | I59: пятница | J59: =J58+1 -> 5 | K59: =K58+1 -> 12 | L59: =L58+1 -> 19 | M59: =M58+1 -> 26 | Q59: пятница | R59: =R58+1 -> 3 | S59: =S58+1 -> 10 | T59: =T58+1 -> 17 | U59: =U58+1 -> 24 | V59: =V58+1 -> 31
B60: суббота | C60: =C59+1 -> 2 | D60: =D59+1 -> 9 | E60: =E59+1 -> 16 | F60: =F59+1 -> 23 | G60: =G59+1 -> 30 | I60: суббота | J60: =J59+1 -> 6 | K60: =K59+1 -> 13 | L60: =L59+1 -> 20 | M60: =M59+1 -> 27 | Q60: суббота | R60: =R59+1 -> 4 | S60: =S59+1 -> 11 | T60: =T59+1 -> 18 | U60: =U59+1 -> 25
B61: воскресенье | C61: =C60+1 -> 3 | D61: =D60+1 -> 10 | E61: =E60+1 -> 17 | F61: =F60+1 -> 24 | G61: =G60+1 -> 31 | I61: воскресенье | J61: =J60+1 -> 7 | K61: =K60+1 -> 14 | L61: =L60+1 -> 21 | M61: =M60+1 -> 28 | Q61: воскресенье | R61: =R60+1 -> 5 | S61: =S60+1 -> 12 | T61: =T60+1 -> 19 | U61: =U60+1 -> 26

Sheet предметы
A2: 1 класс | B2: 2 класс | C2: 3 класс | D2: 4 класс | E2: 5 класс | F2: 6 класс | G2: 7 класс | H2: 8 класс | I2: 9 класс | J2: 10 класс | K2: 11 класс
A3: СТД МА | B3: КР АЯ | C3: КР АЯ | D3: ВПР АЯ | E3: ВПР АЯ | F3: ВПР АЯ | G3: ВПР АЯ | H3: ВПР АЯ | I3: КР АЯ | J3: ВПР АЯ | K3: КР АЯ
A4: СТД РУ | B4: КР НЕМ | C4: КР НЕМ | D4: ВПР МА | E4: ВПР МА | F4: ВПР МА | G4: ВПР МА | H4: ВПР МА | I4: КР АЛГЕБРА | J4: ВПР МА | K4: КР АЛГЕБРА
A5: СТД ОКР | B5: КР ФР | C5: КР ФР | D5: ВПР РУ | E5: ВПР РУ | F5: ВПР РУ | G5: ВПР РУ | H5: ВПР РУ | I5: КР ГЕОМЕТРИЯ | J5: ВПР РУ | K5: КР ГЕОМЕТРИЯ
B6: КР МА | C6: КР МА | D6: ВПР ОКР | E6: ВПР БИО | F6: ВПР БИО | G6: ВПР БИО | H6: ВПР БИО | I6: КР ВЕР И СТ | J6: ВПР БИО | K6: КР ВЕР И СТ
B7: КР РУ | C7: КР РУ | D7: ВПР ЛИ | E7: ВПР ГЕО | F7: ВПР ГЕО | G7: ВПР ГЕО | H7: ВПР ГЕО | I7: КР РУ | J7: ВПР ГЕО | K7: КР РУ
B8: КР ОКР | C8: КР ОКР | D8: ВПР НЕМ | E8: ВПР ИСТ | F8: ВПР ИСТ | G8: ВПР ИСТ | H8: ВПР ИСТ | I8: КР БИО | J8: ВПР ИСТ | K8: КР БИО
B9: КР ЛИ | C9: КР ЛИ | D9: ВПР ФР | E9: ВПР ЛИ | F9: ВПР ЛИ | G9: ВПР ЛИ | H9: ВПР ЛИ | I9: КР ГЕО | J9: ВПР ЛИ | K9: КР ГЕО
B10: СТД МА | D10: КР НЕМ | E10: ВПР НЕМ | F10: ВПР НЕМ | G10: ВПР ФИЗ | H10: ВПР ФИЗ | I10: КР ИСТ | J10: ВПР ФИЗ | K10: КР ИСТ
B11: СТД РУ | D11: КР ФР | E11: ВПР ФР | F11: ВПР ФР | G11: ВПР НЕМ | H11: ВПР НЕМ | I11: КР ЛИ | J11: ВПР НЕМ | K11: КР ЛИ
D12: КР АЯ | E12: КР АЯ | F12: ВПР ОБЩ | G12: ВПР ФР | H12: ВПР ФР | I12: КР ФИЗ | J12: ВПР ФР | K12: КР ФИЗ
D13: КР МА | E13: КР МА | F13: КР АЯ | G13: ВПР ОБЩ | H13: ВПР ОБЩ | I13: КР НЕМ | J13: ВПР ОБЩ | K13: КР НЕМ
D14: КР РУ | E14: КР РУ | F14: КР МА | G14: ВПР ИНФ | H14: ВПР ИНФ | I14: КР ФР | J14: ВПР ИНФ | K14: КР ФР
D15: КР ОКР | E15: КР БИО | F15: КР РУ | G15: КР АЯ | H15: ВПР ХИМ | I15: КР ОБЩ | J15: ВПР ХИМ | K15: КР ОБЩ
D16: КР ЛИ | E16: КР ГЕО | F16: КР БИО | G16: КР АЛГЕБРА | H16: КР АЯ | I16: КР ИНФ | J16: КР АЯ | K16: КР ИНФ
E17: КР ИСТ | F17: КР ГЕО | G17: КР ГЕОМЕТРИЯ | H17: КР АЛГЕБРА | I17: КР ХИМ | J17: КР АЛГЕБРА | K17: КР ХИМ
E18: КР ЛИ | F18: КР ИСТ | G18: КР ВЕР И СТ | H18: КР ГЕОМЕТРИЯ | I18: СТД ОБЩ | J18: КР ГЕОМЕТРИЯ
E19: КР НЕМ | F19: КР ЛИ | G19: КР РУ | H19: КР ВЕР И СТ | J19: КР ВЕР И СТ
E20: КР ФР | F20: КР НЕМ | G20: КР БИО | H20: КР РУ | J20: КР РУ
E21: СТД АЯ | F21: КР ФР | G21: КР ГЕО | H21: КР БИО | J21: КР БИО
E22: СТД МА | F22: КР ОБЩ | G22: КР ИСТ | H22: КР ГЕО | J22: КР ГЕО
E23: СТД РУ | G23: КР ЛИ | H23: КР ИСТ | J23: КР ИСТ
E24: СТД БИО | G24: КР ФИЗ | H24: КР ЛИ | J24: КР ЛИ
E25: СТД ГЕО | G25: КР НЕМ | H25: КР ФИЗ | J25: КР ФИЗ
E26: СТД ИСТ | G26: КР ФР | H26: КР НЕМ | J26: КР НЕМ
E27: СТД ЛИ | G27: КР ОБЩ | H27: КР ФР | J27: КР ФР
E28: СТД НЕМ | G28: КР ИНФ | H28: КР ОБЩ | J28: КР ОБЩ
E29: СТД ФР | G29: СТД ИНФ | H29: КР ИНФ | J29: КР ИНФ
G30: СТД АЛГЕБРА | H30: КР ХИМ | J30: КР ХИМ
G31: СТД ГЕОМЕТРИЯ | H31: СТД ХИМ
G32: СТД ВЕР И СТ
G33: СТД ФИЗ

Sheet Проверка
C3: 1 класс | I3: 2 класс | O3: 3 класс | U3: 4 класс | AA3: 5 класс | AG3: 6 класс | AM3: 7 класс | AS3: 8 класс | AY3: 9 класс | BE3: 10 класс | BK3: 11 класс
C4: 2 - 5 урок | I4: 2 - 5 урок | O4: 2 - 5 урок | U4: 2 - 5 урок | AA4: 2 - 6 урок | AG4: 2 - 6 урок | AM4: 2 - 6 урок | AS4: 2 - 6 урок | AY4: 2 - 6 урок | BE4: 2 - 6 урок | BK4: 2 - 6 урок
A5: дата | B5: день недели | C5: а | D5: б | E5: в | F5: г | G5: д | H5: е | I5: а | J5: б | K5: в | L5: г | M5: д | N5: е | O5: а | P5: б | Q5: в | R5: г | S5: д | T5: е | U5: а | V5: б | W5: в | X5: г | Y5: д | Z5: е | AA5: а | AB5: б | AC5: в | AD5: г | AE5: д | AF5: е | AG5: а | AH5: б | AI5: в | AJ5: г | AK5: д | AL5: е | AM5: а | AN5: б | AO5: в | AP5: г | AQ5: д | AR5: е | AS5: а | AT5: б | AU5: в | AV5: г | AW5: д | AX5: е | AY5: а | AZ5: б | BA5: в | BB5: г | BC5: д | BD5: е | BE5: а | BF5: б | BG5: в | BH5: г | BI5: д | BJ5: е | BK5: а | BL5: б | BM5: в | BN5: г | BO5: д | BP5: е
A6: 46266 | B6: ВТ | C6: =IF(COUNTIFS('График ОП'!C7:C23,'График ОП'!C7)>1,"<17 (ВПР, КР)","*") -> * | D6: =IF(COUNTIFS('График ОП'!D7:D23,'График ОП'!D7)>1,"<17 (ВПР, КР)","*") -> * | E6: =IF(COUNTIFS('График ОП'!E7:E23,'График ОП'!E7)>1,"<17 (ВПР, КР)","*") -> * | F6: =IF(COUNTIFS('График ОП'!#REF!,'График ОП'!#REF!)>1,"<17 (ВПР, КР)","*") -> #REF! | G6: =IF(COUNTIFS('График ОП'!#REF!,'График ОП'!#REF!)>1,"<17 (ВПР, КР)","*") -> #REF! | H6: =IF(COUNTIFS('График ОП'!#REF!,'График ОП'!#REF!)>1,"<17 (ВПР, КР)","*") -> #REF! | I6: =IF(COUNTIFS('График ОП'!F7:F23,'График ОП'!F7)>1,"<17 (ВПР, КР)","*") -> * | J6: =IF(COUNTIFS('График ОП'!G7:G23,'График ОП'!G7)>1,"<17 (ВПР, КР)","*") -> * | K6: =IF(COUNTIFS('График ОП'!H7:H23,'График ОП'!H7)>1,"<17 (ВПР, КР)","*") -> * | L6: =IF(COUNTIFS('График ОП'!#REF!,'График ОП'!#REF!)>1,"<17 (ВПР, КР)","*") -> #REF! | M6: =IF(COUNTIFS('График ОП'!#REF!,'График ОП'!#REF!)>1,"<17 (ВПР, КР)","*") -> #REF! | N6: =IF(COUNTIFS('График ОП'!#REF!,'График ОП'!#REF!)>1,"<17 (ВПР, КР)","*") -> #REF! | O6: =IF(COUNTIFS('График ОП'!I7:I23,'График ОП'!I7)>1,"<17 (ВПР, КР)","*") -> * | P6: =IF(COUNTIFS('График ОП'!J7:J23,'График ОП'!J7)>1,"<17 (ВПР, КР)","*") -> * | Q6: =IF(COUNTIFS('График ОП'!K7:K23,'График ОП'!K7)>1,"<17 (ВПР, КР)","*") -> * | R6: =IF(COUNTIFS('График ОП'!L7:L23,'График ОП'!L7)>1,"<17 (ВПР, КР)","*") -> * | S6: =IF(COUNTIFS('График ОП'!#REF!,'График ОП'!#REF!)>1,"<17 (ВПР, КР)","*") -> #REF! | T6: =IF(COUNTIFS('График ОП'!#REF!,'График ОП'!#REF!)>1,"<17 (ВПР, КР)","*") -> #REF! | U6: =IF(OR(COUNTIFS('График ОП'!M7:M23,'График ОП'!M7)>1,AND('График ОП'!M7=предметы!$D$3,COUNTIFS('График ОП'!M7:M23,предметы!$D$12)>0),AND('График ОП'!M7=предметы!$D$12,COUNTIFS('График ОП'!M7:M23,предметы!$D$3)>0),AND('График ОП'!M7=предметы!$D$4,COUNTIFS('График ОП'!M7:M23,предметы!$D$13)>0),AND('График ОП'!M7=предметы!$D$13,COUNTIFS('График ОП'!M7:M23,предметы!$D$4)>0),AND('График ОП'!M7=предметы!$D$14,COUNTIFS('График ОП'!M7:M23,предметы!$D$5)>0),AND('График ОП'!M7=предметы!$D$5,COUNTIFS('График ОП'!M7:M23,предметы!$D$14)>0),AND('График ОП'!M7=предметы!$D$15,COUNTIFS('График ОП'!M7:M23,предметы!$D$6)>0),AND('График ОП'!M7=предметы!$D$6,COUNTIFS('График ОП'!M7:M23,предметы!$D$15)>0),AND('График ОП'!M7=предметы!$D$16,COUNTIFS('График ОП'!M7:M23,предметы!$D$7)>0),AND('График ОП'!M7=предметы!$D$7,COUNTIFS('График ОП'!M7:M23,предметы!$D$16)>0),AND('График ОП'!M7=предметы!$D$8,COUNTIFS('График ОП'!M7:M23,предметы!$D$10)>0),AND('График ОП'!M7=предметы!$D$10,COUNTIFS('График ОП'!M7:M23,предметы!$D$8)>0),AND('График ОП'!M7=предметы!$D$9,COUNTIFS('График ОП'!M7:M23,предметы!$D$11)>0),AND('График ОП'!M7=предметы!$D$11,COUNTIFS('График ОП'!M7:M23,предметы!$D$9)>0)),"<17 (ВПР, КР)","*") -> * | V6: =IF(OR(COUNTIFS('График ОП'!N7:N23,'График ОП'!N7)>1,AND('График ОП'!N7=предметы!$D$3,COUNTIFS('График ОП'!N7:N23,предметы!$D$12)>0),AND('График ОП'!N7=предметы!$D$12,COUNTIFS('График ОП'!N7:N23,предметы!$D$3)>0),AND('График ОП'!N7=предметы!$D$4,COUNTIFS('График ОП'!N7:N23,предметы!$D$13)>0),AND('График ОП'!N7=предметы!$D$13,COUNTIFS('График ОП'!N7:N23,предметы!$D$4)>0),AND('График ОП'!N7=предметы!$D$14,COUNTIFS('График ОП'!N7:N23,предметы!$D$5)>0),AND('График ОП'!N7=предметы!$D$5,COUNTIFS('График ОП'!N7:N23,предметы!$D$14)>0),AND('График ОП'!N7=предметы!$D$15,COUNTIFS('График ОП'!N7:N23,предметы!$D$6)>0),AND('График ОП'!N7=предметы!$D$6,COUNTIFS('График ОП'!N7:N23,предметы!$D$15)>0),AND('График ОП'!N7=предметы!$D$16,COUNTIFS('График ОП'!N7:N23,предметы!$D$7)>0),AND('График ОП'!N7=предметы!$D$7,COUNTIFS('График ОП'!N7:N23,предметы!$D$16)>0),AND('График ОП'!N7=предметы!$D$8,COUNTIFS('График ОП'!N7:N23,предметы!$D$10)>0),AND('График ОП'!N7=предметы!$D$10,COUNTIFS('График ОП'!N7:N23,предметы!$D$8)>0),AND('График ОП'!N7=предметы!$D$9,COUNTIFS('График ОП'!N7:N23,предметы!$D$11)>0),AND('График ОП'!N7=предметы!$D$11,COUNTIFS('График ОП'!N7:N23,предметы!$D$9)>0)),"<17 (ВПР, КР)","*") -> * | W6: =IF(OR(COUNTIFS('График ОП'!O7:O23,'График ОП'!O7)>1,AND('График ОП'!O7=предметы!$D$3,COUNTIFS('График ОП'!O7:O23,предметы!$D$12)>0),AND('График ОП'!O7=предметы!$D$12,COUNTIFS('График ОП'!O7:O23,предметы!$D$3)>0),AND('График ОП'!O7=предметы!$D$4,COUNTIFS('График ОП'!O7:O23,предметы!$D$13)>0),AND('График ОП'!O7=предметы!$D$13,COUNTIFS('График ОП'!O7:O23,предметы!$D$4)>0),AND('График ОП'!O7=предметы!$D$14,COUNTIFS('График ОП'!O7:O23,предметы!$D$5)>0),AND('График ОП'!O7=предметы!$D$5,COUNTIFS('График ОП'!O7:O23,предметы!$D$14)>0),AND('График ОП'!O7=предметы!$D$15,COUNTIFS('График ОП'!O7:O23,предметы!$D$6)>0),AND('График ОП'!O7=предметы!$D$6,COUNTIFS('График ОП'!O7:O23,предметы!$D$15)>0),AND('График ОП'!O7=предметы!$D$16,COUNTIFS('График ОП'!O7:O23,предметы!$D$7)>0),AND('График ОП'!O7=предметы!$D$7,COUNTIFS('График ОП'!O7:O23,предметы!$D$16)>0),AND('График ОП'!O7=предметы!$D$8,COUNTIFS('График ОП'!O7:O23,предметы!$D$10)>0),AND('График ОП'!O7=предметы!$D$10,COUNTIFS('График ОП'!O7:O23,предметы!$D$8)>0),AND('График ОП'!O7=предметы!$D$9,COUNTIFS('График ОП'!O7:O23,предметы!$D$11)>0),AND('График ОП'!O7=предметы!$D$11,COUNTIFS('График ОП'!O7:O23,предметы!$D$9)>0)),"<17 (ВПР, КР)","*") -> * | X6: =IF(OR(COUNTIFS('График ОП'!P7:P23,'График ОП'!P7)>1,AND('График ОП'!P7=предметы!$D$3,COUNTIFS('График ОП'!P7:P23,предметы!$D$12)>0),AND('График ОП'!P7=предметы!$D$12,COUNTIFS('График ОП'!P7:P23,предметы!$D$3)>0),AND('График ОП'!P7=предметы!$D$4,COUNTIFS('График ОП'!P7:P23,предметы!$D$13)>0),AND('График ОП'!P7=предметы!$D$13,COUNTIFS('График ОП'!P7:P23,предметы!$D$4)>0),AND('График ОП'!P7=предметы!$D$14,COUNTIFS('График ОП'!P7:P23,предметы!$D$5)>0),AND('График ОП'!P7=предметы!$D$5,COUNTIFS('График ОП'!P7:P23,предметы!$D$14)>0),AND('График ОП'!P7=предметы!$D$15,COUNTIFS('График ОП'!P7:P23,предметы!$D$6)>0),AND('График ОП'!P7=предметы!$D$6,COUNTIFS('График ОП'!P7:P23,предметы!$D$15)>0),AND('График ОП'!P7=предметы!$D$16,COUNTIFS('График ОП'!P7:P23,предметы!$D$7)>0),AND('График ОП'!P7=предметы!$D$7,COUNTIFS('График ОП'!P7:P23,предметы!$D$16)>0),AND('График ОП'!P7=предметы!$D$8,COUNTIFS('График ОП'!P7:P23,предметы!$D$10)>0),AND('График ОП'!P7=предметы!$D$10,COUNTIFS('График ОП'!P7:P23,предметы!$D$8)>0),AND('График ОП'!P7=предметы!$D$9,COUNTIFS('График ОП'!P7:P23,предметы!$D$11)>0),AND('График ОП'!P7=предметы!$D$11,COUNTIFS('График ОП'!P7:P23,предметы!$D$9)>0)),"<17 (ВПР, КР)","*") -> * | Y6: =IF(OR(COUNTIFS('График ОП'!#REF!,'График ОП'!#REF!)>1,AND('График ОП'!#REF!=предметы!$D$3,COUNTIFS('График ОП'!#REF!,предметы!$D$12)>0),AND('График ОП'!#REF!=предметы!$D$12,COUNTIFS('График ОП'!#REF!,предметы!$D$3)>0),AND('График ОП'!#REF!=предметы!$D$4,COUNTIFS('График ОП'!#REF!,предметы!$D$13)>0),AND('График ОП'!#REF!=предметы!$D$13,COUNTIFS('График ОП'!#REF!,предметы!$D$4)>0),AND('График ОП'!#REF!=предметы!$D$14,COUNTIFS('График ОП'!#REF!,предметы!$D$5)>0),AND('График ОП'!#REF!=предметы!$D$5,COUNTIFS('График ОП'!#REF!,предметы!$D$14)>0),AND('График ОП'!#REF!=предметы!$D$15,COUNTIFS('График ОП'!#REF!,предметы!$D$6)>0),AND('График ОП'!#REF!=предметы!$D$6,COUNTIFS('График ОП'!#REF!,предметы!$D$15)>0),AND('График ОП'!#REF!=предметы!$D$16,COUNTIFS('График ОП'!#REF!,предметы!$D$7)>0),AND('График ОП'!#REF!=предметы!$D$7,COUNTIFS('График ОП'!#REF!,предметы!$D$16)>0),AND('График ОП'!#REF!=предметы!$D$8,COUNTIFS('График ОП'!#REF!,предметы!$D$10)>0),AND('График ОП'!#REF!=предметы!$D$10,COUNTIFS('График ОП'!#REF!,предметы!$D$8)>0),AND('График ОП'!#REF!=предметы!$D$9,COUNTIFS('График ОП'!#REF!,предметы!$D$11)>0),AND('График ОП'!#REF!=предметы!$D$11,COUNTIFS('График ОП'!#REF!,предметы!$D$9)>0)),"<17 (ВПР, КР)","*") -> #REF! | Z6: =IF(OR(COUNTIFS('График ОП'!#REF!,'График ОП'!#REF!)>1,AND('График ОП'!#REF!=предметы!$D$3,COUNTIFS('График ОП'!#REF!,предметы!$D$12)>0),AND('График ОП'!#REF!=предметы!$D$12,COUNTIFS('График ОП'!#REF!,предметы!$D$3)>0),AND('График ОП'!#REF!=предметы!$D$4,COUNTIFS('График ОП'!#REF!,предметы!$D$13)>0),AND('График ОП'!#REF!=предметы!$D$13,COUNTIFS('График ОП'!#REF!,предметы!$D$4)>0),AND('График ОП'!#REF!=предметы!$D$14,COUNTIFS('График ОП'!#REF!,предметы!$D$5)>0),AND('График ОП'!#REF!=предметы!$D$5,COUNTIFS('График ОП'!#REF!,предметы!$D$14)>0),AND('График ОП'!#REF!=предметы!$D$15,COUNTIFS('График ОП'!#REF!,предметы!$D$6)>0),AND('График ОП'!#REF!=предметы!$D$6,COUNTIFS('График ОП'!#REF!,предметы!$D$15)>0),AND('График ОП'!#REF!=предметы!$D$16,COUNTIFS('График ОП'!#REF!,предметы!$D$7)>0),AND('График ОП'!#REF!=предметы!$D$7,COUNTIFS('График ОП'!#REF!,предметы!$D$16)>0),AND('График ОП'!#REF!=предметы!$D$8,COUNTIFS('График ОП'!#REF!,предметы!$D$10)>0),AND('График ОП'!#REF!=предметы!$D$10,COUNTIFS('График ОП'!#REF!,предметы!$D$8)>0),AND('График ОП'!#REF!=предметы!$D$9,COUNTIFS('График ОП'!#REF!,предметы!$D$11)>0),AND('График ОП'!#REF!=предметы!$D$11,COUNTIFS('График ОП'!#REF!,предметы!$D$9)>0)),"<17 (ВПР, КР)","*") -> #REF! | AA6: =IF(OR(COUNTIFS('График ОП'!Q7:Q23,'График ОП'!Q7)>1,AND('График ОП'!Q7=предметы!$E$3,COUNTIFS('График ОП'!Q7:Q23,предметы!$E$12)>0),AND('График ОП'!Q7=предметы!$E$12,COUNTIFS('График ОП'!Q7:Q23,предметы!$E$3)>0),AND('График ОП'!Q7=предметы!$E$4,COUNTIFS('График ОП'!Q7:Q23,предметы!$E$13)>0),AND('График ОП'!Q7=предметы!$E$13,COUNTIFS('График ОП'!Q7:Q23,предметы!$E$4)>0),AND('График ОП'!Q7=предметы!$E$5,COUNTIFS('График ОП'!Q7:Q23,предметы!$E$14)>0),AND('График ОП'!Q7=предметы!$E$14,COUNTIFS('График ОП'!Q7:Q23,предметы!$E$5)>0),AND('График ОП'!Q7=предметы!$E$6,COUNTIFS('График ОП'!Q7:Q23,предметы!$E$15)>0),AND('График ОП'!Q7=предметы!$E$15,COUNTIFS('График ОП'!Q7:Q23,предметы!$E$6)>0),AND('График ОП'!Q7=предметы!$E$7,COUNTIFS('График ОП'!Q7:Q23,предметы!$E$16)>0),AND('График ОП'!Q7=предметы!$E$16,COUNTIFS('График ОП'!Q7:Q23,предметы!$E$7)>0),AND('График ОП'!Q7=предметы!$E$8,COUNTIFS('График ОП'!Q7:Q23,предметы!$E$17)>0),AND('График ОП'!Q7=предметы!$E$17,COUNTIFS('График ОП'!Q7:Q23,предметы!$E$8)>0),AND('График ОП'!Q7=предметы!$E$9,COUNTIFS('График ОП'!Q7:Q23,предметы!$E$18)>0),AND('График ОП'!Q7=предметы!$E$18,COUNTIFS('График ОП'!Q7:Q23,предметы!$E$9)>0),AND('График ОП'!Q7=предметы!$E$10,COUNTIFS('График ОП'!Q7:Q23,предметы!$E$19)>0),AND('График ОП'!Q7=предметы!$E$19,COUNTIFS('График ОП'!Q7:Q23,предметы!$E$10)>0),AND('График ОП'!Q7=предметы!$E$11,COUNTIFS('График ОП'!Q7:Q23,предметы!$E$20)>0),AND('График ОП'!Q7=предметы!$E$20,COUNTIFS('График ОП'!Q7:Q23,предметы!$E$11)>0)),"<17 (ВПР, КР)","*") -> * | AB6: =IF(OR(COUNTIFS('График ОП'!R7:R23,'График ОП'!R7)>1,AND('График ОП'!R7=предметы!$E$3,COUNTIFS('График ОП'!R7:R23,предметы!$E$12)>0),AND('График ОП'!R7=предметы!$E$12,COUNTIFS('График ОП'!R7:R23,предметы!$E$3)>0),AND('График ОП'!R7=предметы!$E$4,COUNTIFS('График ОП'!R7:R23,предметы!$E$13)>0),AND('График ОП'!R7=предметы!$E$13,COUNTIFS('График ОП'!R7:R23,предметы!$E$4)>0),AND('График ОП'!R7=предметы!$E$5,COUNTIFS('График ОП'!R7:R23,предметы!$E$14)>0),AND('График ОП'!R7=предметы!$E$14,COUNTIFS('График ОП'!R7:R23,предметы!$E$5)>0),AND('График ОП'!R7=предметы!$E$6,COUNTIFS('График ОП'!R7:R23,предметы!$E$15)>0),AND('График ОП'!R7=предметы!$E$15,COUNTIFS('График ОП'!R7:R23,предметы!$E$6)>0),AND('График ОП'!R7=предметы!$E$7,COUNTIFS('График ОП'!R7:R23,предметы!$E$16)>0),AND('График ОП'!R7=предметы!$E$16,COUNTIFS('График ОП'!R7:R23,предметы!$E$7)>0),AND('График ОП'!R7=предметы!$E$8,COUNTIFS('График ОП'!R7:R23,предметы!$E$17)>0),AND('График ОП'!R7=предметы!$E$17,COUNTIFS('График ОП'!R7:R23,предметы!$E$8)>0),AND('График ОП'!R7=предметы!$E$9,COUNTIFS('График ОП'!R7:R23,предметы!$E$18)>0),AND('График ОП'!R7=предметы!$E$18,COUNTIFS('График ОП'!R7:R23,предметы!$E$9)>0),AND('График ОП'!R7=предметы!$E$10,COUNTIFS('График ОП'!R7:R23,предметы!$E$19)>0),AND('График ОП'!R7=предметы!$E$19,COUNTIFS('График ОП'!R7:R23,предметы!$E$10)>0),AND('График ОП'!R7=предметы!$E$11,COUNTIFS('График ОП'!R7:R23,предметы!$E$20)>0),AND('График ОП'!R7=предметы!$E$20,COUNTIFS('График ОП'!R7:R23,предметы!$E$11)>0)),"<17 (ВПР, КР)","*") -> * | AC6: =IF(OR(COUNTIFS('График ОП'!S7:S23,'График ОП'!S7)>1,AND('График ОП'!S7=предметы!$E$3,COUNTIFS('График ОП'!S7:S23,предметы!$E$12)>0),AND('График ОП'!S7=предметы!$E$12,COUNTIFS('График ОП'!S7:S23,предметы!$E$3)>0),AND('График ОП'!S7=предметы!$E$4,COUNTIFS('График ОП'!S7:S23,предметы!$E$13)>0),AND('График ОП'!S7=предметы!$E$13,COUNTIFS('График ОП'!S7:S23,предметы!$E$4)>0),AND('График ОП'!S7=предметы!$E$5,COUNTIFS('График ОП'!S7:S23,предметы!$E$14)>0),AND('График ОП'!S7=предметы!$E$14,COUNTIFS('График ОП'!S7:S23,предметы!$E$5)>0),AND('График ОП'!S7=предметы!$E$6,COUNTIFS('График ОП'!S7:S23,предметы!$E$15)>0),AND('График ОП'!S7=предметы!$E$15,COUNTIFS('График ОП'!S7:S23,предметы!$E$6)>0),AND('График ОП'!S7=предметы!$E$7,COUNTIFS('График ОП'!S7:S23,предметы!$E$16)>0),AND('График ОП'!S7=предметы!$E$16,COUNTIFS('График ОП'!S7:S23,предметы!$E$7)>0),AND('График ОП'!S7=предметы!$E$8,COUNTIFS('График ОП'!S7:S23,предметы!$E$17)>0),AND('График ОП'!S7=предметы!$E$17,COUNTIFS('График ОП'!S7:S23,предметы!$E$8)>0),AND('График ОП'!S7=предметы!$E$9,COUNTIFS('График ОП'!S7:S23,предметы!$E$18)>0),AND('График ОП'!S7=предметы!$E$18,COUNTIFS('График ОП'!S7:S23,предметы!$E$9)>0),AND('График ОП'!S7=предметы!$E$10,COUNTIFS('График ОП'!S7:S23,предметы!$E$19)>0),AND('График ОП'!S7=предметы!$E$19,COUNTIFS('График ОП'!S7:S23,предметы!$E$10)>0),AND('График ОП'!S7=предметы!$E$11,COUNTIFS('График ОП'!S7:S23,предметы!$E$20)>0),AND('График ОП'!S7=предметы!$E$20,COUNTIFS('График ОП'!S7:S23,предметы!$E$11)>0)),"<17 (ВПР, КР)","*") -> * | AD6: =IF(OR(COUNTIFS('График ОП'!T7:T23,'График ОП'!T7)>1,AND('График ОП'!T7=предметы!$E$3,COUNTIFS('График ОП'!T7:T23,предметы!$E$12)>0),AND('График ОП'!T7=предметы!$E$12,COUNTIFS('График ОП'!T7:T23,предметы!$E$3)>0),AND('График ОП'!T7=предметы!$E$4,COUNTIFS('График ОП'!T7:T23,предметы!$E$13)>0),AND('График ОП'!T7=предметы!$E$13,COUNTIFS('График ОП'!T7:T23,предметы!$E$4)>0),AND('График ОП'!T7=предметы!$E$5,COUNTIFS('График ОП'!T7:T23,предметы!$E$14)>0),AND('График ОП'!T7=предметы!$E$14,COUNTIFS('График ОП'!T7:T23,предметы!$E$5)>0),AND('График ОП'!T7=предметы!$E$6,COUNTIFS('График ОП'!T7:T23,предметы!$E$15)>0),AND('График ОП'!T7=предметы!$E$15,COUNTIFS('График ОП'!T7:T23,предметы!$E$6)>0),AND('График ОП'!T7=предметы!$E$7,COUNTIFS('График ОП'!T7:T23,предметы!$E$16)>0),AND('График ОП'!T7=предметы!$E$16,COUNTIFS('График ОП'!T7:T23,предметы!$E$7)>0),AND('График ОП'!T7=предметы!$E$8,COUNTIFS('График ОП'!T7:T23,предметы!$E$17)>0),AND('График ОП'!T7=предметы!$E$17,COUNTIFS('График ОП'!T7:T23,предметы!$E$8)>0),AND('График ОП'!T7=предметы!$E$9,COUNTIFS('График ОП'!T7:T23,предметы!$E$18)>0),AND('График ОП'!T7=предметы!$E$18,COUNTIFS('График ОП'!T7:T23,предметы!$E$9)>0),AND('График ОП'!T7=предметы!$E$10,COUNTIFS('График ОП'!T7:T23,предметы!$E$19)>0),AND('График ОП'!T7=предметы!$E$19,COUNTIFS('График ОП'!T7:T23,предметы!$E$10)>0),AND('График ОП'!T7=предметы!$E$11,COUNTIFS('График ОП'!T7:T23,предметы!$E$20)>0),AND('График ОП'!T7=предметы!$E$20,COUNTIFS('График ОП'!T7:T23,предметы!$E$11)>0)),"<17 (ВПР, КР)","*") -> * | AE6: =IF(OR(COUNTIFS('График ОП'!#REF!,'График ОП'!#REF!)>1,AND('График ОП'!#REF!=предметы!$E$3,COUNTIFS('График ОП'!#REF!,предметы!$E$12)>0),AND('График ОП'!#REF!=предметы!$E$12,COUNTIFS('График ОП'!#REF!,предметы!$E$3)>0),AND('График ОП'!#REF!=предметы!$E$4,COUNTIFS('График ОП'!#REF!,предметы!$E$13)>0),AND('График ОП'!#REF!=предметы!$E$13,COUNTIFS('График ОП'!#REF!,предметы!$E$4)>0),AND('График ОП'!#REF!=предметы!$E$5,COUNTIFS('График ОП'!#REF!,предметы!$E$14)>0),AND('График ОП'!#REF!=предметы!$E$14,COUNTIFS('График ОП'!#REF!,предметы!$E$5)>0),AND('График ОП'!#REF!=предметы!$E$6,COUNTIFS('График ОП'!#REF!,предметы!$E$15)>0),AND('График ОП'!#REF!=предметы!$E$15,COUNTIFS('График ОП'!#REF!,предметы!$E$6)>0),AND('График ОП'!#REF!=предметы!$E$7,COUNTIFS('График ОП'!#REF!,предметы!$E$16)>0),AND('График ОП'!#REF!=предметы!$E$16,COUNTIFS('График ОП'!#REF!,предметы!$E$7)>0),AND('График ОП'!#REF!=предметы!$E$8,COUNTIFS('График ОП'!#REF!,предметы!$E$17)>0),AND('График ОП'!#REF!=предметы!$E$17,COUNTIFS('График ОП'!#REF!,предметы!$E$8)>0),AND('График ОП'!#REF!=предметы!$E$9,COUNTIFS('График ОП'!#REF!,предметы!$E$18)>0),AND('График ОП'!#REF!=предметы!$E$18,COUNTIFS('График ОП'!#REF!,предметы!$E$9)>0),AND('График ОП'!#REF!=предметы!$E$10,COUNTIFS('График ОП'!#REF!,предметы!$E$19)>0),AND('График ОП'!#REF!=предметы!$E$19,COUNTIFS('График ОП'!#REF!,предметы!$E$10)>0),AND('График ОП'!#REF!=предметы!$E$11,COUNTIFS('График ОП'!#REF!,предметы!$E$20)>0),AND('График ОП'!#REF!=предметы!$E$20,COUNTIFS('График ОП'!#REF!,предметы!$E$11)>0)),"<17 (ВПР, КР)","*") -> #REF! | AF6: =IF(OR(COUNTIFS('График ОП'!#REF!,'График ОП'!#REF!)>1,AND('График ОП'!#REF!=предметы!$E$3,COUNTIFS('График ОП'!#REF!,предметы!$E$12)>0),AND('График ОП'!#REF!=предметы!$E$12,COUNTIFS('График ОП'!#REF!,предметы!$E$3)>0),AND('График ОП'!#REF!=предметы!$E$4,COUNTIFS('График ОП'!#REF!,предметы!$E$13)>0),AND('График ОП'!#REF!=предметы!$E$13,COUNTIFS('График ОП'!#REF!,предметы!$E$4)>0),AND('График ОП'!#REF!=предметы!$E$5,COUNTIFS('График ОП'!#REF!,предметы!$E$14)>0),AND('График ОП'!#REF!=предметы!$E$14,COUNTIFS('График ОП'!#REF!,предметы!$E$5)>0),AND('График ОП'!#REF!=предметы!$E$6,COUNTIFS('График ОП'!#REF!,предметы!$E$15)>0),AND('График ОП'!#REF!=предметы!$E$15,COUNTIFS('График ОП'!#REF!,предметы!$E$6)>0),AND('График ОП'!#REF!=предметы!$E$7,COUNTIFS('График ОП'!#REF!,предметы!$E$16)>0),AND('График ОП'!#REF!=предметы!$E$16,COUNTIFS('График ОП'!#REF!,предметы!$E$7)>0),AND('График ОП'!#REF!=предметы!$E$8,COUNTIFS('График ОП'!#REF!,предметы!$E$17)>0),AND('График ОП'!#REF!=предметы!$E$17,COUNTIFS('График ОП'!#REF!,предметы!$E$8)>0),AND('График ОП'!#REF!=предметы!$E$9,COUNTIFS('График ОП'!#REF!,предметы!$E$18)>0),AND('График ОП'!#REF!=предметы!$E$18,COUNTIFS('График ОП'!#REF!,предметы!$E$9)>0),AND('График ОП'!#REF!=предметы!$E$10,COUNTIFS('График ОП'!#REF!,предметы!$E$19)>0),AND('График ОП'!#REF!=предметы!$E$19,COUNTIFS('График ОП'!#REF!,предметы!$E$10)>0),AND('График ОП'!#REF!=предметы!$E$11,COUNTIFS('График ОП'!#REF!,предметы!$E$20)>0),AND('График ОП'!#REF!=предметы!$E$20,COUNTIFS('График ОП'!#REF!,предметы!$E$11)>0)),"<17 (ВПР, КР)","*") -> #REF! | AG6: =IF(OR(COUNTIFS('График ОП'!U7:U23,'График ОП'!U7)>1,AND('График ОП'!U7=предметы!$F$3,COUNTIFS('График ОП'!U7:U23,предметы!$F$13)>0),AND('График ОП'!U7=предметы!$F$13,COUNTIFS('График ОП'!U7:U23,предметы!$F$3)>0),AND('График ОП'!U7=предметы!$F$4,COUNTIFS('График ОП'!U7:U23,предметы!$F$14)>0),AND('График ОП'!U7=предметы!$F$14,COUNTIFS('График ОП'!U7:U23,предметы!$F$4)>0),AND('График ОП'!U7=предметы!$F$5,COUNTIFS('График ОП'!U7:U23,предметы!$F$15)>0),AND('График ОП'!U7=предметы!$F$15,COUNTIFS('График ОП'!U7:U23,предметы!$F$5)>0),AND('График ОП'!U7=предметы!$F$6,COUNTIFS('График ОП'!U7:U23,предметы!$F$16)>0),AND('График ОП'!U7=предметы!$F$16,COUNTIFS('График ОП'!U7:U23,предметы!$F$6)>0),AND('График ОП'!U7=предметы!$F$7,COUNTIFS('График ОП'!U7:U23,предметы!$F$17)>0),AND('График ОП'!U7=предметы!$F$17,COUNTIFS('График ОП'!U7:U23,предметы!$F$7)>0),AND('График ОП'!U7=предметы!$F$8,COUNTIFS('График ОП'!U7:U23,предметы!$F$18)>0),AND('График ОП'!U7=предметы!$F$18,COUNTIFS('График ОП'!U7:U23,предметы!$F$8)>0),AND('График ОП'!U7=предметы!$F$9,COUNTIFS('График ОП'!U7:U23,предметы!$F$19)>0),AND('График ОП'!U7=предметы!$F$19,COUNTIFS('График ОП'!U7:U23,предметы!$F$9)>0),AND('График ОП'!U7=предметы!$F$10,COUNTIFS('График ОП'!U7:U23,предметы!$F$20)>0),AND('График ОП'!U7=предметы!$F$20,COUNTIFS('График ОП'!U7:U23,предметы!$F$10)>0),AND('График ОП'!U7=предметы!$F$11,COUNTIFS('График ОП'!U7:U23,предметы!$F$21)>0),AND('График ОП'!U7=предметы!$F$21,COUNTIFS('График ОП'!U7:U23,предметы!$F$11)>0),AND('График ОП'!U7=предметы!$F$12,COUNTIFS('График ОП'!U7:U23,предметы!$F$22)>0),AND('График ОП'!U7=предметы!$F$22,COUNTIFS('График ОП'!U7:U23,предметы!$F$12)>0)),"<17 (ВПР, КР)","*") -> * | AH6: =IF(OR(COUNTIFS('График ОП'!V7:V23,'График ОП'!V7)>1,AND('График ОП'!V7=предметы!$F$3,COUNTIFS('График ОП'!V7:V23,предметы!$F$13)>0),AND('График ОП'!V7=предметы!$F$13,COUNTIFS('График ОП'!V7:V23,предметы!$F$3)>0),AND('График ОП'!V7=предметы!$F$4,COUNTIFS('График ОП'!V7:V23,предметы!$F$14)>0),AND('График ОП'!V7=предметы!$F$14,COUNTIFS('График ОП'!V7:V23,предметы!$F$4)>0),AND('График ОП'!V7=предметы!$F$5,COUNTIFS('График ОП'!V7:V23,предметы!$F$15)>0),AND('График ОП'!V7=предметы!$F$15,COUNTIFS('График ОП'!V7:V23,предметы!$F$5)>0),AND('График ОП'!V7=предметы!$F$6,COUNTIFS('График ОП'!V7:V23,предметы!$F$16)>0),AND('График ОП'!V7=предметы!$F$16,COUNTIFS('График ОП'!V7:V23,предметы!$F$6)>0),AND('График ОП'!V7=предметы!$F$7,COUNTIFS('График ОП'!V7:V23,предметы!$F$17)>0),AND('График ОП'!V7=предметы!$F$17,COUNTIFS('График ОП'!V7:V23,предметы!$F$7)>0),AND('График ОП'!V7=предметы!$F$8,COUNTIFS('График ОП'!V7:V23,предметы!$F$18)>0),AND('График ОП'!V7=предметы!$F$18,COUNTIFS('График ОП'!V7:V23,предметы!$F$8)>0),AND('График ОП'!V7=предметы!$F$9,COUNTIFS('График ОП'!V7:V23,предметы!$F$19)>0),AND('График ОП'!V7=предметы!$F$19,COUNTIFS('График ОП'!V7:V23,предметы!$F$9)>0),AND('График ОП'!V7=предметы!$F$10,COUNTIFS('График ОП'!V7:V23,предметы!$F$20)>0),AND('График ОП'!V7=предметы!$F$20,COUNTIFS('График ОП'!V7:V23,предметы!$F$10)>0),AND('График ОП'!V7=предметы!$F$11,COUNTIFS('График ОП'!V7:V23,предметы!$F$21)>0),AND('График ОП'!V7=предметы!$F$21,COUNTIFS('График ОП'!V7:V23,предметы!$F$11)>0),AND('График ОП'!V7=предметы!$F$12,COUNTIFS('График ОП'!V7:V23,предметы!$F$22)>0),AND('График ОП'!V7=предметы!$F$22,COUNTIFS('График ОП'!V7:V23,предметы!$F$12)>0)),"<17 (ВПР, КР)","*") -> * | AI6: =IF(OR(COUNTIFS('График ОП'!W7:W23,'График ОП'!W7)>1,AND('График ОП'!W7=предметы!$F$3,COUNTIFS('График ОП'!W7:W23,предметы!$F$13)>0),AND('График ОП'!W7=предметы!$F$13,COUNTIFS('График ОП'!W7:W23,предметы!$F$3)>0),AND('График ОП'!W7=предметы!$F$4,COUNTIFS('График ОП'!W7:W23,предметы!$F$14)>0),AND('График ОП'!W7=предметы!$F$14,COUNTIFS('График ОП'!W7:W23,предметы!$F$4)>0),AND('График ОП'!W7=предметы!$F$5,COUNTIFS('График ОП'!W7:W23,предметы!$F$15)>0),AND('График ОП'!W7=предметы!$F$15,COUNTIFS('График ОП'!W7:W23,предметы!$F$5)>0),AND('График ОП'!W7=предметы!$F$6,COUNTIFS('График ОП'!W7:W23,предметы!$F$16)>0),AND('График ОП'!W7=предметы!$F$16,COUNTIFS('График ОП'!W7:W23,предметы!$F$6)>0),AND('График ОП'!W7=предметы!$F$7,COUNTIFS('График ОП'!W7:W23,предметы!$F$17)>0),AND('График ОП'!W7=предметы!$F$17,COUNTIFS('График ОП'!W7:W23,предметы!$F$7)>0),AND('График ОП'!W7=предметы!$F$8,COUNTIFS('График ОП'!W7:W23,предметы!$F$18)>0),AND('График ОП'!W7=предметы!$F$18,COUNTIFS('График ОП'!W7:W23,предметы!$F$8)>0),AND('График ОП'!W7=предметы!$F$9,COUNTIFS('График ОП'!W7:W23,предметы!$F$19)>0),AND('График ОП'!W7=предметы!$F$19,COUNTIFS('График ОП'!W7:W23,предметы!$F$9)>0),AND('График ОП'!W7=предметы!$F$10,COUNTIFS('График ОП'!W7:W23,предметы!$F$20)>0),AND('График ОП'!W7=предметы!$F$20,COUNTIFS('График ОП'!W7:W23,предметы!$F$10)>0),AND('График ОП'!W7=предметы!$F$11,COUNTIFS('График ОП'!W7:W23,предметы!$F$21)>0),AND('График ОП'!W7=предметы!$F$21,COUNTIFS('График ОП'!W7:W23,предметы!$F$11)>0),AND('График ОП'!W7=предметы!$F$12,COUNTIFS('График ОП'!W7:W23,предметы!$F$22)>0),AND('График ОП'!W7=предметы!$F$22,COUNTIFS('График ОП'!W7:W23,предметы!$F$12)>0)),"<17 (ВПР, КР)","*") -> * | AJ6: =IF(OR(COUNTIFS('График ОП'!X7:X23,'График ОП'!X7)>1,AND('График ОП'!X7=предметы!$F$3,COUNTIFS('График ОП'!X7:X23,предметы!$F$13)>0),AND('График ОП'!X7=предметы!$F$13,COUNTIFS('График ОП'!X7:X23,предметы!$F$3)>0),AND('График ОП'!X7=предметы!$F$4,COUNTIFS('График ОП'!X7:X23,предметы!$F$14)>0),AND('График ОП'!X7=предметы!$F$14,COUNTIFS('График ОП'!X7:X23,предметы!$F$4)>0),AND('График ОП'!X7=предметы!$F$5,COUNTIFS('График ОП'!X7:X23,предметы!$F$15)>0),AND('График ОП'!X7=предметы!$F$15,COUNTIFS('График ОП'!X7:X23,предметы!$F$5)>0),AND('График ОП'!X7=предметы!$F$6,COUNTIFS('График ОП'!X7:X23,предметы!$F$16)>0),AND('График ОП'!X7=предметы!$F$16,COUNTIFS('График ОП'!X7:X23,предметы!$F$6)>0),AND('График ОП'!X7=предметы!$F$7,COUNTIFS('График ОП'!X7:X23,предметы!$F$17)>0),AND('График ОП'!X7=предметы!$F$17,COUNTIFS('График ОП'!X7:X23,предметы!$F$7)>0),AND('График ОП'!X7=предметы!$F$8,COUNTIFS('График ОП'!X7:X23,предметы!$F$18)>0),AND('График ОП'!X7=предметы!$F$18,COUNTIFS('График ОП'!X7:X23,предметы!$F$8)>0),AND('График ОП'!X7=предметы!$F$9,COUNTIFS('График ОП'!X7:X23,предметы!$F$19)>0),AND('График ОП'!X7=предметы!$F$19,COUNTIFS('График ОП'!X7:X23,предметы!$F$9)>0),AND('График ОП'!X7=предметы!$F$10,COUNTIFS('График ОП'!X7:X23,предметы!$F$20)>0),AND('График ОП'!X7=предметы!$F$20,COUNTIFS('График ОП'!X7:X23,предметы!$F$10)>0),AND('График ОП'!X7=предметы!$F$11,COUNTIFS('График ОП'!X7:X23,предметы!$F$21)>0),AND('График ОП'!X7=предметы!$F$21,COUNTIFS('График ОП'!X7:X23,предметы!$F$11)>0),AND('График ОП'!X7=предметы!$F$12,COUNTIFS('График ОП'!X7:X23,предметы!$F$22)>0),AND('График ОП'!X7=предметы!$F$22,COUNTIFS('График ОП'!X7:X23,предметы!$F$12)>0)),"<17 (ВПР, КР)","*") -> * | AK6: =IF(OR(COUNTIFS('График ОП'!#REF!,'График ОП'!#REF!)>1,AND('График ОП'!#REF!=предметы!$F$3,COUNTIFS('График ОП'!#REF!,предметы!$F$13)>0),AND('График ОП'!#REF!=предметы!$F$13,COUNTIFS('График ОП'!#REF!,предметы!$F$3)>0),AND('График ОП'!#REF!=предметы!$F$4,COUNTIFS('График ОП'!#REF!,предметы!$F$14)>0),AND('График ОП'!#REF!=предметы!$F$14,COUNTIFS('График ОП'!#REF!,предметы!$F$4)>0),AND('График ОП'!#REF!=предметы!$F$5,COUNTIFS('График ОП'!#REF!,предметы!$F$15)>0),AND('График ОП'!#REF!=предметы!$F$15,COUNTIFS('График ОП'!#REF!,предметы!$F$5)>0),AND('График ОП'!#REF!=предметы!$F$6,COUNTIFS('График ОП'!#REF!,предметы!$F$16)>0),AND('График ОП'!#REF!=предметы!$F$16,COUNTIFS('График ОП'!#REF!,предметы!$F$6)>0),AND('График ОП'!#REF!=предметы!$F$7,COUNTIFS('График ОП'!#REF!,предметы!$F$17)>0),AND('График ОП'!#REF!=предметы!$F$17,COUNTIFS('График ОП'!#REF!,предметы!$F$7)>0),AND('График ОП'!#REF!=предметы!$F$8,COUNTIFS('График ОП'!#REF!,предметы!$F$18)>0),AND('График ОП'!#REF!=предметы!$F$18,COUNTIFS('График ОП'!#REF!,предметы!$F$8)>0),AND('График ОП'!#REF!=предметы!$F$9,COUNTIFS('График ОП'!#REF!,предметы!$F$19)>0),AND('График ОП'!#REF!=предметы!$F$19,COUNTIFS('График ОП'!#REF!,предметы!$F$9)>0),AND('График ОП'!#REF!=предметы!$F$10,COUNTIFS('График ОП'!#REF!,предметы!$F$20)>0),AND('График ОП'!#REF!=предметы!$F$20,COUNTIFS('График ОП'!#REF!,предметы!$F$10)>0),AND('График ОП'!#REF!=предметы!$F$11,COUNTIFS('График ОП'!#REF!,предметы!$F$21)>0),AND('График ОП'!#REF!=предметы!$F$21,COUNTIFS('График ОП'!#REF!,предметы!$F$11)>0),AND('График ОП'!#REF!=предметы!$F$12,COUNTIFS('График ОП'!#REF!,предметы!$F$22)>0),AND('График ОП'!#REF!=предметы!$F$22,COUNTIFS('График ОП'!#REF!,предметы!$F$12)>0)),"<17 (ВПР, КР)","*") -> #REF! | AL6: =IF(OR(COUNTIFS('График ОП'!#REF!,'График ОП'!#REF!)>1,AND('График ОП'!#REF!=предметы!$F$3,COUNTIFS('График ОП'!#REF!,предметы!$F$13)>0),AND('График ОП'!#REF!=предметы!$F$13,COUNTIFS('График ОП'!#REF!,предметы!$F$3)>0),AND('График ОП'!#REF!=предметы!$F$4,COUNTIFS('График ОП'!#REF!,предметы!$F$14)>0),AND('График ОП'!#REF!=предметы!$F$14,COUNTIFS('График ОП'!#REF!,предметы!$F$4)>0),AND('График ОП'!#REF!=предметы!$F$5,COUNTIFS('График ОП'!#REF!,предметы!$F$15)>0),AND('График ОП'!#REF!=предметы!$F$15,COUNTIFS('График ОП'!#REF!,предметы!$F$5)>0),AND('График ОП'!#REF!=предметы!$F$6,COUNTIFS('График ОП'!#REF!,предметы!$F$16)>0),AND('График ОП'!#REF!=предметы!$F$16,COUNTIFS('График ОП'!#REF!,предметы!$F$6)>0),AND('График ОП'!#REF!=предметы!$F$7,COUNTIFS('График ОП'!#REF!,предметы!$F$17)>0),AND('График ОП'!#REF!=предметы!$F$17,COUNTIFS('График ОП'!#REF!,предметы!$F$7)>0),AND('График ОП'!#REF!=предметы!$F$8,COUNTIFS('График ОП'!#REF!,предметы!$F$18)>0),AND('График ОП'!#REF!=предметы!$F$18,COUNTIFS('График ОП'!#REF!,предметы!$F$8)>0),AND('График ОП'!#REF!=предметы!$F$9,COUNTIFS('График ОП'!#REF!,предметы!$F$19)>0),AND('График ОП'!#REF!=предметы!$F$19,COUNTIFS('График ОП'!#REF!,предметы!$F$9)>0),AND('График ОП'!#REF!=предметы!$F$10,COUNTIFS('График ОП'!#REF!,предметы!$F$20)>0),AND('График ОП'!#REF!=предметы!$F$20,COUNTIFS('График ОП'!#REF!,предметы!$F$10)>0),AND('График ОП'!#REF!=предметы!$F$11,COUNTIFS('График ОП'!#REF!,предметы!$F$21)>0),AND('График ОП'!#REF!=предметы!$F$21,COUNTIFS('График ОП'!#REF!,предметы!$F$11)>0),AND('График ОП'!#REF!=предметы!$F$12,COUNTIFS('График ОП'!#REF!,предметы!$F$22)>0),AND('График ОП'!#REF!=предметы!$F$22,COUNTIFS('График ОП'!#REF!,предметы!$F$12)>0)),"<17 (ВПР, КР)","*") -> #REF! | AM6: =IF(OR(COUNTIFS('График ОП'!Y7:Y23,'График ОП'!Y7)>1,AND('График ОП'!Y7=предметы!$G$3,COUNTIFS('График ОП'!Y7:Y23,предметы!$G$15)>0),AND('График ОП'!Y7=предметы!$G$15,COUNTIFS('График ОП'!Y7:Y23,предметы!$G$3)>0),AND('График ОП'!Y7=предметы!$G$4,COUNTIFS('График ОП'!Y7:Y23,предметы!$G$18)>0),AND('График ОП'!Y7=предметы!$G$18,COUNTIFS('График ОП'!Y7:Y23,предметы!$G$4)>0),AND('График ОП'!Y7=предметы!$G$5,COUNTIFS('График ОП'!Y7:Y23,предметы!$G$19)>0),AND('График ОП'!Y7=предметы!$G$19,COUNTIFS('График ОП'!Y7:Y23,предметы!$G$5)>0),AND('График ОП'!Y7=предметы!$G$6,COUNTIFS('График ОП'!Y7:Y23,предметы!$G$20)>0),AND('График ОП'!Y7=предметы!$G$20,COUNTIFS('График ОП'!Y7:Y23,предметы!$G$6)>0),AND('График ОП'!Y7=предметы!$G$7,COUNTIFS('График ОП'!Y7:Y23,предметы!$G$21)>0),AND('График ОП'!Y7=предметы!$G$21,COUNTIFS('График ОП'!Y7:Y23,предметы!$G$7)>0),AND('График ОП'!Y7=предметы!$G$8,COUNTIFS('График ОП'!Y7:Y23,предметы!$G$22)>0),AND('График ОП'!Y7=предметы!$G$22,COUNTIFS('График ОП'!Y7:Y23,предметы!$G$8)>0),AND('График ОП'!Y7=предметы!$G$9,COUNTIFS('График ОП'!Y7:Y23,предметы!$G$23)>0),AND('График ОП'!Y7=предметы!$G$23,COUNTIFS('График ОП'!Y7:Y23,предметы!$G$9)>0),AND('График ОП'!Y7=предметы!$G$10,COUNTIFS('График ОП'!Y7:Y23,предметы!$G$24)>0),AND('График ОП'!Y7=предметы!$G$24,COUNTIFS('График ОП'!Y7:Y23,предметы!$G$10)>0),AND('График ОП'!Y7=предметы!$G$11,COUNTIFS('График ОП'!Y7:Y23,предметы!$G$25)>0),AND('График ОП'!Y7=предметы!$G$25,COUNTIFS('График ОП'!Y7:Y23,предметы!$G$11)>0),AND('График ОП'!Y7=предметы!$G$12,COUNTIFS('График ОП'!Y7:Y23,предметы!$G$26)>0),AND('График ОП'!Y7=предметы!$G$26,COUNTIFS('График ОП'!Y7:Y23,предметы!$G$12)>0),AND('График ОП'!Y7=предметы!$G$13,COUNTIFS('График ОП'!Y7:Y23,предметы!$G$27)>0),AND('График ОП'!Y7=предметы!$G$27,COUNTIFS('График ОП'!Y7:Y23,предметы!$G$13)>0),AND('График ОП'!Y7=предметы!$G$14,COUNTIFS('График ОП'!Y7:Y23,предметы!$G$28)>0),AND('График ОП'!Y7=предметы!$G$28,COUNTIFS('График ОП'!Y7:Y23,предметы!$G$14)>0)),"<17 (ВПР, КР)","*") -> * | AN6: =IF(OR(COUNTIFS('График ОП'!Z7:Z23,'График ОП'!Z7)>1,AND('График ОП'!Z7=предметы!$G$3,COUNTIFS('График ОП'!Z7:Z23,предметы!$G$15)>0),AND('График ОП'!Z7=предметы!$G$15,COUNTIFS('График ОП'!Z7:Z23,предметы!$G$3)>0),AND('График ОП'!Z7=предметы!$G$4,COUNTIFS('График ОП'!Z7:Z23,предметы!$G$18)>0),AND('График ОП'!Z7=предметы!$G$18,COUNTIFS('График ОП'!Z7:Z23,предметы!$G$4)>0),AND('График ОП'!Z7=предметы!$G$5,COUNTIFS('График ОП'!Z7:Z23,предметы!$G$19)>0),AND('График ОП'!Z7=предметы!$G$19,COUNTIFS('График ОП'!Z7:Z23,предметы!$G$5)>0),AND('График ОП'!Z7=предметы!$G$6,COUNTIFS('График ОП'!Z7:Z23,предметы!$G$20)>0),AND('График ОП'!Z7=предметы!$G$20,COUNTIFS('График ОП'!Z7:Z23,предметы!$G$6)>0),AND('График ОП'!Z7=предметы!$G$7,COUNTIFS('График ОП'!Z7:Z23,предметы!$G$21)>0),AND('График ОП'!Z7=предметы!$G$21,COUNTIFS('График ОП'!Z7:Z23,предметы!$G$7)>0),AND('График ОП'!Z7=предметы!$G$8,COUNTIFS('График ОП'!Z7:Z23,предметы!$G$22)>0),AND('График ОП'!Z7=предметы!$G$22,COUNTIFS('График ОП'!Z7:Z23,предметы!$G$8)>0),AND('График ОП'!Z7=предметы!$G$9,COUNTIFS('График ОП'!Z7:Z23,предметы!$G$23)>0),AND('График ОП'!Z7=предметы!$G$23,COUNTIFS('График ОП'!Z7:Z23,предметы!$G$9)>0),AND('График ОП'!Z7=предметы!$G$10,COUNTIFS('График ОП'!Z7:Z23,предметы!$G$24)>0),AND('График ОП'!Z7=предметы!$G$24,COUNTIFS('График ОП'!Z7:Z23,предметы!$G$10)>0),AND('График ОП'!Z7=предметы!$G$11,COUNTIFS('График ОП'!Z7:Z23,предметы!$G$25)>0),AND('График ОП'!Z7=предметы!$G$25,COUNTIFS('График ОП'!Z7:Z23,предметы!$G$11)>0),AND('График ОП'!Z7=предметы!$G$12,COUNTIFS('График ОП'!Z7:Z23,предметы!$G$26)>0),AND('График ОП'!Z7=предметы!$G$26,COUNTIFS('График ОП'!Z7:Z23,предметы!$G$12)>0),AND('График ОП'!Z7=предметы!$G$13,COUNTIFS('График ОП'!Z7:Z23,предметы!$G$27)>0),AND('График ОП'!Z7=предметы!$G$27,COUNTIFS('График ОП'!Z7:Z23,предметы!$G$13)>0),AND('График ОП'!Z7=предметы!$G$14,COUNTIFS('График ОП'!Z7:Z23,предметы!$G$28)>0),AND('График ОП'!Z7=предметы!$G$28,COUNTIFS('График ОП'!Z7:Z23,предметы!$G$14)>0)),"<17 (ВПР, КР)","*") -> * | AO6: =IF(OR(COUNTIFS('График ОП'!AA7:AA23,'График ОП'!AA7)>1,AND('График ОП'!AA7=предметы!$G$3,COUNTIFS('График ОП'!AA7:AA23,предметы!$G$15)>0),AND('График ОП'!AA7=предметы!$G$15,COUNTIFS('График ОП'!AA7:AA23,предметы!$G$3)>0),AND('График ОП'!AA7=предметы!$G$4,COUNTIFS('График ОП'!AA7:AA23,предметы!$G$18)>0),AND('График ОП'!AA7=предметы!$G$18,COUNTIFS('График ОП'!AA7:AA23,предметы!$G$4)>0),AND('График ОП'!AA7=предметы!$G$5,COUNTIFS('График ОП'!AA7:AA23,предметы!$G$19)>0),AND('График ОП'!AA7=предметы!$G$19,COUNTIFS('График ОП'!AA7:AA23,предметы!$G$5)>0),AND('График ОП'!AA7=предметы!$G$6,COUNTIFS('График ОП'!AA7:AA23,предметы!$G$20)>0),AND('График ОП'!AA7=предметы!$G$20,COUNTIFS('График ОП'!AA7:AA23,предметы!$G$6)>0),AND('График ОП'!AA7=предметы!$G$7,COUNTIFS('График ОП'!AA7:AA23,предметы!$G$21)>0),AND('График ОП'!AA7=предметы!$G$21,COUNTIFS('График ОП'!AA7:AA23,предметы!$G$7)>0),AND('График ОП'!AA7=предметы!$G$8,COUNTIFS('График ОП'!AA7:AA23,предметы!$G$22)>0),AND('График ОП'!AA7=предметы!$G$22,COUNTIFS('График ОП'!AA7:AA23,предметы!$G$8)>0),AND('График ОП'!AA7=предметы!$G$9,COUNTIFS('График ОП'!AA7:AA23,предметы!$G$23)>0),AND('График ОП'!AA7=предметы!$G$23,COUNTIFS('График ОП'!AA7:AA23,предметы!$G$9)>0),AND('График ОП'!AA7=предметы!$G$10,COUNTIFS('График ОП'!AA7:AA23,предметы!$G$24)>0),AND('График ОП'!AA7=предметы!$G$24,COUNTIFS('График ОП'!AA7:AA23,предметы!$G$10)>0),AND('График ОП'!AA7=предметы!$G$11,COUNTIFS('График ОП'!AA7:AA23,предметы!$G$25)>0),AND('График ОП'!AA7=предметы!$G$25,COUNTIFS('График ОП'!AA7:AA23,предметы!$G$11)>0),AND('График ОП'!AA7=предметы!$G$12,COUNTIFS('График ОП'!AA7:AA23,предметы!$G$26)>0),AND('График ОП'!AA7=предметы!$G$26,COUNTIFS('График ОП'!AA7:AA23,предметы!$G$12)>0),AND('График ОП'!AA7=предметы!$G$13,COUNTIFS('График ОП'!AA7:AA23,предметы!$G$27)>0),AND('График ОП'!AA7=предметы!$G$27,COUNTIFS('График ОП'!AA7:AA23,предметы!$G$13)>0),AND('График ОП'!AA7=предметы!$G$14,COUNTIFS('График ОП'!AA7:AA23,предметы!$G$28)>0),AND('График ОП'!AA7=предметы!$G$28,COUNTIFS('График ОП'!AA7:AA23,предметы!$G$14)>0)),"<17 (ВПР, КР)","*") -> * | AP6: =IF(OR(COUNTIFS('График ОП'!#REF!,'График ОП'!#REF!)>1,AND('График ОП'!#REF!=предметы!$G$3,COUNTIFS('График ОП'!#REF!,предметы!$G$15)>0),AND('График ОП'!#REF!=предметы!$G$15,COUNTIFS('График ОП'!#REF!,предметы!$G$3)>0),AND('График ОП'!#REF!=предметы!$G$4,COUNTIFS('График ОП'!#REF!,предметы!$G$18)>0),AND('График ОП'!#REF!=предметы!$G$18,COUNTIFS('График ОП'!#REF!,предметы!$G$4)>0),AND('График ОП'!#REF!=предметы!$G$5,COUNTIFS('График ОП'!#REF!,предметы!$G$19)>0),AND('График ОП'!#REF!=предметы!$G$19,COUNTIFS('График ОП'!#REF!,предметы!$G$5)>0),AND('График ОП'!#REF!=предметы!$G$6,COUNTIFS('График ОП'!#REF!,предметы!$G$20)>0),AND('График ОП'!#REF!=предметы!$G$20,COUNTIFS('График ОП'!#REF!,предметы!$G$6)>0),AND('График ОП'!#REF!=предметы!$G$7,COUNTIFS('График ОП'!#REF!,предметы!$G$21)>0),AND('График ОП'!#REF!=предметы!$G$21,COUNTIFS('График ОП'!#REF!,предметы!$G$7)>0),AND('График ОП'!#REF!=предметы!$G$8,COUNTIFS('График ОП'!#REF!,предметы!$G$22)>0),AND('График ОП'!#REF!=предметы!$G$22,COUNTIFS('График ОП'!#REF!,предметы!$G$8)>0),AND('График ОП'!#REF!=предметы!$G$9,COUNTIFS('График ОП'!#REF!,предметы!$G$23)>0),AND('График ОП'!#REF!=предметы!$G$23,COUNTIFS('График ОП'!#REF!,предметы!$G$9)>0),AND('График ОП'!#REF!=предметы!$G$10,COUNTIFS('График ОП'!#REF!,предметы!$G$24)>0),AND('График ОП'!#REF!=предметы!$G$24,COUNTIFS('График ОП'!#REF!,предметы!$G$10)>0),AND('График ОП'!#REF!=предметы!$G$11,COUNTIFS('График ОП'!#REF!,предметы!$G$25)>0),AND('График ОП'!#REF!=предметы!$G$25,COUNTIFS('График ОП'!#REF!,предметы!$G$11)>0),AND('График ОП'!#REF!=предметы!$G$12,COUNTIFS('График ОП'!#REF!,предметы!$G$26)>0),AND('График ОП'!#REF!=предметы!$G$26,COUNTIFS('График ОП'!#REF!,предметы!$G$12)>0),AND('График ОП'!#REF!=предметы!$G$13,COUNTIFS('График ОП'!#REF!,предметы!$G$27)>0),AND('График ОП'!#REF!=предметы!$G$27,COUNTIFS('График ОП'!#REF!,предметы!$G$13)>0),AND('График ОП'!#REF!=предметы!$G$14,COUNTIFS('График ОП'!#REF!,предметы!$G$28)>0),AND('График ОП'!#REF!=предметы!$G$28,COUNTIFS('График ОП'!#REF!,предметы!$G$14)>0)),"<17 (ВПР, КР)","*") -> #REF! | AQ6: =IF(OR(COUNTIFS('График ОП'!#REF!,'График ОП'!#REF!)>1,AND('График ОП'!#REF!=предметы!$G$3,COUNTIFS('График ОП'!#REF!,предметы!$G$15)>0),AND('График ОП'!#REF!=предметы!$G$15,COUNTIFS('График ОП'!#REF!,предметы!$G$3)>0),AND('График ОП'!#REF!=предметы!$G$4,COUNTIFS('График ОП'!#REF!,предметы!$G$18)>0),AND('График ОП'!#REF!=предметы!$G$18,COUNTIFS('График ОП'!#REF!,предметы!$G$4)>0),AND('График ОП'!#REF!=предметы!$G$5,COUNTIFS('График ОП'!#REF!,предметы!$G$19)>0),AND('График ОП'!#REF!=предметы!$G$19,COUNTIFS('График ОП'!#REF!,предметы!$G$5)>0),AND('График ОП'!#REF!=предметы!$G$6,COUNTIFS('График ОП'!#REF!,предметы!$G$20)>0),AND('График ОП'!#REF!=предметы!$G$20,COUNTIFS('График ОП'!#REF!,предметы!$G$6)>0),AND('График ОП'!#REF!=предметы!$G$7,COUNTIFS('График ОП'!#REF!,предметы!$G$21)>0),AND('График ОП'!#REF!=предметы!$G$21,COUNTIFS('График ОП'!#REF!,предметы!$G$7)>0),AND('График ОП'!#REF!=предметы!$G$8,COUNTIFS('График ОП'!#REF!,предметы!$G$22)>0),AND('График ОП'!#REF!=предметы!$G$22,COUNTIFS('График ОП'!#REF!,предметы!$G$8)>0),AND('График ОП'!#REF!=предметы!$G$9,COUNTIFS('График ОП'!#REF!,предметы!$G$23)>0),AND('График ОП'!#REF!=предметы!$G$23,COUNTIFS('График ОП'!#REF!,предметы!$G$9)>0),AND('График ОП'!#REF!=предметы!$G$10,COUNTIFS('График ОП'!#REF!,предметы!$G$24)>0),AND('График ОП'!#REF!=предметы!$G$24,COUNTIFS('График ОП'!#REF!,предметы!$G$10)>0),AND('График ОП'!#REF!=предметы!$G$11,COUNTIFS('График ОП'!#REF!,предметы!$G$25)>0),AND('График ОП'!#REF!=предметы!$G$25,COUNTIFS('График ОП'!#REF!,предметы!$G$11)>0),AND('График ОП'!#REF!=предметы!$G$12,COUNTIFS('График ОП'!#REF!,предметы!$G$26)>0),AND('График ОП'!#REF!=предметы!$G$26,COUNTIFS('График ОП'!#REF!,предметы!$G$12)>0),AND('График ОП'!#REF!=предметы!$G$13,COUNTIFS('График ОП'!#REF!,предметы!$G$27)>0),AND('График ОП'!#REF!=предметы!$G$27,COUNTIFS('График ОП'!#REF!,предметы!$G$13)>0),AND('График ОП'!#REF!=предметы!$G$14,COUNTIFS('График ОП'!#REF!,предметы!$G$28)>0),AND('График ОП'!#REF!=предметы!$G$28,COUNTIFS('График ОП'!#REF!,предметы!$G$14)>0)),"<17 (ВПР, КР)","*") -> #REF! | AR6: =IF(OR(COUNTIFS('График ОП'!#REF!,'График ОП'!#REF!)>1,AND('График ОП'!#REF!=предметы!$G$3,COUNTIFS('График ОП'!#REF!,предметы!$G$15)>0),AND('График ОП'!#REF!=предметы!$G$15,COUNTIFS('График ОП'!#REF!,предметы!$G$3)>0),AND('График ОП'!#REF!=предметы!$G$4,COUNTIFS('График ОП'!#REF!,предметы!$G$18)>0),AND('График ОП'!#REF!=предметы!$G$18,COUNTIFS('График ОП'!#REF!,предметы!$G$4)>0),AND('График ОП'!#REF!=предметы!$G$5,COUNTIFS('График ОП'!#REF!,предметы!$G$19)>0),AND('График ОП'!#REF!=предметы!$G$19,COUNTIFS('График ОП'!#REF!,предметы!$G$5)>0),AND('График ОП'!#REF!=предметы!$G$6,COUNTIFS('График ОП'!#REF!,предметы!$G$20)>0),AND('График ОП'!#REF!=предметы!$G$20,COUNTIFS('График ОП'!#REF!,предметы!$G$6)>0),AND('График ОП'!#REF!=предметы!$G$7,COUNTIFS('График ОП'!#REF!,предметы!$G$21)>0),AND('График ОП'!#REF!=предметы!$G$21,COUNTIFS('График ОП'!#REF!,предметы!$G$7)>0),AND('График ОП'!#REF!=предметы!$G$8,COUNTIFS('График ОП'!#REF!,предметы!$G$22)>0),AND('График ОП'!#REF!=предметы!$G$22,COUNTIFS('График ОП'!#REF!,предметы!$G$8)>0),AND('График ОП'!#REF!=предметы!$G$9,COUNTIFS('График ОП'!#REF!,предметы!$G$23)>0),AND('График ОП'!#REF!=предметы!$G$23,COUNTIFS('График ОП'!#REF!,предметы!$G$9)>0),AND('График ОП'!#REF!=предметы!$G$10,COUNTIFS('График ОП'!#REF!,предметы!$G$24)>0),AND('График ОП'!#REF!=предметы!$G$24,COUNTIFS('График ОП'!#REF!,предметы!$G$10)>0),AND('График ОП'!#REF!=предметы!$G$11,COUNTIFS('График ОП'!#REF!,предметы!$G$25)>0),AND('График ОП'!#REF!=предметы!$G$25,COUNTIFS('График ОП'!#REF!,предметы!$G$11)>0),AND('График ОП'!#REF!=предметы!$G$12,COUNTIFS('График ОП'!#REF!,предметы!$G$26)>0),AND('График ОП'!#REF!=предметы!$G$26,COUNTIFS('График ОП'!#REF!,предметы!$G$12)>0),AND('График ОП'!#REF!=предметы!$G$13,COUNTIFS('График ОП'!#REF!,предметы!$G$27)>0),AND('График ОП'!#REF!=предметы!$G$27,COUNTIFS('График ОП'!#REF!,предметы!$G$13)>0),AND('График ОП'!#REF!=предметы!$G$14,COUNTIFS('График ОП'!#REF!,предметы!$G$28)>0),AND('График ОП'!#REF!=предметы!$G$28,COUNTIFS('График ОП'!#REF!,предметы!$G$14)>0)),"<17 (ВПР, КР)","*") -> #REF! | AS6: =IF(OR(COUNTIFS('График ОП'!AB7:AB23,'График ОП'!AB7)>1,AND('График ОП'!AB7=предметы!$H$3,COUNTIFS('График ОП'!AB7:AB23,предметы!$H$16)>0),AND('График ОП'!AB7=предметы!$H$16,COUNTIFS('График ОП'!AB7:AB23,предметы!$H$3)>0),AND('График ОП'!AB7=предметы!$H$4,COUNTIFS('График ОП'!AB7:AB23,предметы!$H$19)>0),AND('График ОП'!AB7=предметы!$H$19,COUNTIFS('График ОП'!AB7:AB23,предметы!$H$4)>0),AND('График ОП'!AB7=предметы!$H$5,COUNTIFS('График ОП'!AB7:AB23,предметы!$H$20)>0),AND('График ОП'!AB7=предметы!$H$20,COUNTIFS('График ОП'!AB7:AB23,предметы!$H$5)>0),AND('График ОП'!AB7=предметы!$H$6,COUNTIFS('График ОП'!AB7:AB23,предметы!$H$21)>0),AND('График ОП'!AB7=предметы!$H$21,COUNTIFS('График ОП'!AB7:AB23,предметы!$H$6)>0),AND('График ОП'!AB7=предметы!$H$7,COUNTIFS('График ОП'!AB7:AB23,предметы!$H$22)>0),AND('График ОП'!AB7=предметы!$H$22,COUNTIFS('График ОП'!AB7:AB23,предметы!$H$7)>0),AND('График ОП'!AB7=предметы!$H$8,COUNTIFS('График ОП'!AB7:AB23,предметы!$H$23)>0),AND('График ОП'!AB7=предметы!$H$23,COUNTIFS('График ОП'!AB7:AB23,предметы!$H$8)>0),AND('График ОП'!AB7=предметы!$H$9,COUNTIFS('График ОП'!AB7:AB23,предметы!$H$24)>0),AND('График ОП'!AB7=предметы!$H$24,COUNTIFS('График ОП'!AB7:AB23,предметы!$H$9)>0),AND('График ОП'!AB7=предметы!$H$10,COUNTIFS('График ОП'!AB7:AB23,предметы!$H$25)>0),AND('График ОП'!AB7=предметы!$H$25,COUNTIFS('График ОП'!AB7:AB23,предметы!$H$10)>0),AND('График ОП'!AB7=предметы!$H$11,COUNTIFS('График ОП'!AB7:AB23,предметы!$H$26)>0),AND('График ОП'!AB7=предметы!$H$26,COUNTIFS('График ОП'!AB7:AB23,предметы!$H$11)>0),AND('График ОП'!AB7=предметы!$H$12,COUNTIFS('График ОП'!AB7:AB23,предметы!$H$27)>0),AND('График ОП'!AB7=предметы!$H$27,COUNTIFS('График ОП'!AB7:AB23,предметы!$H$12)>0),AND('График ОП'!AB7=предметы!$H$13,COUNTIFS('График ОП'!AB7:AB23,предметы!$H$28)>0),AND('График ОП'!AB7=предметы!$H$28,COUNTIFS('График ОП'!AB7:AB23,предметы!$H$13)>0),AND('График ОП'!AB7=предметы!$H$14,COUNTIFS('График ОП'!AB7:AB23,предметы!$H$29)>0),AND('График ОП'!AB7=предметы!$H$29,COUNTIFS('График ОП'!AB7:AB23,предметы!$H$14)>0),AND('График ОП'!AB7=предметы!$H$15,COUNTIFS('График ОП'!AB7:AB23,предметы!$H$30)>0),AND('График ОП'!AB7=предметы!$H$30,COUNTIFS('График ОП'!AB7:AB23,предметы!$H$15)>0)),"<17 (ВПР, КР)","*") -> * | AT6: =IF(OR(COUNTIFS('График ОП'!AC7:AC23,'График ОП'!AC7)>1,AND('График ОП'!AC7=предметы!$H$3,COUNTIFS('График ОП'!AC7:AC23,предметы!$H$16)>0),AND('График ОП'!AC7=предметы!$H$16,COUNTIFS('График ОП'!AC7:AC23,предметы!$H$3)>0),AND('График ОП'!AC7=предметы!$H$4,COUNTIFS('График ОП'!AC7:AC23,предметы!$H$19)>0),AND('График ОП'!AC7=предметы!$H$19,COUNTIFS('График ОП'!AC7:AC23,предметы!$H$4)>0),AND('График ОП'!AC7=предметы!$H$5,COUNTIFS('График ОП'!AC7:AC23,предметы!$H$20)>0),AND('График ОП'!AC7=предметы!$H$20,COUNTIFS('График ОП'!AC7:AC23,предметы!$H$5)>0),AND('График ОП'!AC7=предметы!$H$6,COUNTIFS('График ОП'!AC7:AC23,предметы!$H$21)>0),AND('График ОП'!AC7=предметы!$H$21,COUNTIFS('График ОП'!AC7:AC23,предметы!$H$6)>0),AND('График ОП'!AC7=предметы!$H$7,COUNTIFS('График ОП'!AC7:AC23,предметы!$H$22)>0),AND('График ОП'!AC7=предметы!$H$22,COUNTIFS('График ОП'!AC7:AC23,предметы!$H$7)>0),AND('График ОП'!AC7=предметы!$H$8,COUNTIFS('График ОП'!AC7:AC23,предметы!$H$23)>0),AND('График ОП'!AC7=предметы!$H$23,COUNTIFS('График ОП'!AC7:AC23,предметы!$H$8)>0),AND('График ОП'!AC7=предметы!$H$9,COUNTIFS('График ОП'!AC7:AC23,предметы!$H$24)>0),AND('График ОП'!AC7=предметы!$H$24,COUNTIFS('График ОП'!AC7:AC23,предметы!$H$9)>0),AND('График ОП'!AC7=предметы!$H$10,COUNTIFS('График ОП'!AC7:AC23,предметы!$H$25)>0),AND('График ОП'!AC7=предметы!$H$25,COUNTIFS('График ОП'!AC7:AC23,предметы!$H$10)>0),AND('График ОП'!AC7=предметы!$H$11,COUNTIFS('График ОП'!AC7:AC23,предметы!$H$26)>0),AND('График ОП'!AC7=предметы!$H$26,COUNTIFS('График ОП'!AC7:AC23,предметы!$H$11)>0),AND('График ОП'!AC7=предметы!$H$12,COUNTIFS('График ОП'!AC7:AC23,предметы!$H$27)>0),AND('График ОП'!AC7=предметы!$H$27,COUNTIFS('График ОП'!AC7:AC23,предметы!$H$12)>0),AND('График ОП'!AC7=предметы!$H$13,COUNTIFS('График ОП'!AC7:AC23,предметы!$H$28)>0),AND('График ОП'!AC7=предметы!$H$28,COUNTIFS('График ОП'!AC7:AC23,предметы!$H$13)>0),AND('График ОП'!AC7=предметы!$H$14,COUNTIFS('График ОП'!AC7:AC23,предметы!$H$29)>0),AND('График ОП'!AC7=предметы!$H$29,COUNTIFS('График ОП'!AC7:AC23,предметы!$H$14)>0),AND('График ОП'!AC7=предметы!$H$15,COUNTIFS('График ОП'!AC7:AC23,предметы!$H$30)>0),AND('График ОП'!AC7=предметы!$H$30,COUNTIFS('График ОП'!AC7:AC23,предметы!$H$15)>0)),"<17 (ВПР, КР)","*") -> * | AU6: =IF(OR(COUNTIFS('График ОП'!AD7:AD23,'График ОП'!AD7)>1,AND('График ОП'!AD7=предметы!$H$3,COUNTIFS('График ОП'!AD7:AD23,предметы!$H$16)>0),AND('График ОП'!AD7=предметы!$H$16,COUNTIFS('График ОП'!AD7:AD23,предметы!$H$3)>0),AND('График ОП'!AD7=предметы!$H$4,COUNTIFS('График ОП'!AD7:AD23,предметы!$H$19)>0),AND('График ОП'!AD7=предметы!$H$19,COUNTIFS('График ОП'!AD7:AD23,предметы!$H$4)>0),AND('График ОП'!AD7=предметы!$H$5,COUNTIFS('График ОП'!AD7:AD23,предметы!$H$20)>0),AND('График ОП'!AD7=предметы!$H$20,COUNTIFS('График ОП'!AD7:AD23,предметы!$H$5)>0),AND('График ОП'!AD7=предметы!$H$6,COUNTIFS('График ОП'!AD7:AD23,предметы!$H$21)>0),AND('График ОП'!AD7=предметы!$H$21,COUNTIFS('График ОП'!AD7:AD23,предметы!$H$6)>0),AND('График ОП'!AD7=предметы!$H$7,COUNTIFS('График ОП'!AD7:AD23,предметы!$H$22)>0),AND('График ОП'!AD7=предметы!$H$22,COUNTIFS('График ОП'!AD7:AD23,предметы!$H$7)>0),AND('График ОП'!AD7=предметы!$H$8,COUNTIFS('График ОП'!AD7:AD23,предметы!$H$23)>0),AND('График ОП'!AD7=предметы!$H$23,COUNTIFS('График ОП'!AD7:AD23,предметы!$H$8)>0),AND('График ОП'!AD7=предметы!$H$9,COUNTIFS('График ОП'!AD7:AD23,предметы!$H$24)>0),AND('График ОП'!AD7=предметы!$H$24,COUNTIFS('График ОП'!AD7:AD23,предметы!$H$9)>0),AND('График ОП'!AD7=предметы!$H$10,COUNTIFS('График ОП'!AD7:AD23,предметы!$H$25)>0),AND('График ОП'!AD7=предметы!$H$25,COUNTIFS('График ОП'!AD7:AD23,предметы!$H$10)>0),AND('График ОП'!AD7=предметы!$H$11,COUNTIFS('График ОП'!AD7:AD23,предметы!$H$26)>0),AND('График ОП'!AD7=предметы!$H$26,COUNTIFS('График ОП'!AD7:AD23,предметы!$H$11)>0),AND('График ОП'!AD7=предметы!$H$12,COUNTIFS('График ОП'!AD7:AD23,предметы!$H$27)>0),AND('График ОП'!AD7=предметы!$H$27,COUNTIFS('График ОП'!AD7:AD23,предметы!$H$12)>0),AND('График ОП'!AD7=предметы!$H$13,COUNTIFS('График ОП'!AD7:AD23,предметы!$H$28)>0),AND('График ОП'!AD7=предметы!$H$28,COUNTIFS('График ОП'!AD7:AD23,предметы!$H$13)>0),AND('График ОП'!AD7=предметы!$H$14,COUNTIFS('График ОП'!AD7:AD23,предметы!$H$29)>0),AND('График ОП'!AD7=предметы!$H$29,COUNTIFS('График ОП'!AD7:AD23,предметы!$H$14)>0),AND('График ОП'!AD7=предметы!$H$15,COUNTIFS('График ОП'!AD7:AD23,предметы!$H$30)>0),AND('График ОП'!AD7=предметы!$H$30,COUNTIFS('График ОП'!AD7:AD23,предметы!$H$15)>0)),"<17 (ВПР, КР)","*") -> * | AV6: =IF(OR(COUNTIFS('График ОП'!AE7:AE23,'График ОП'!AE7)>1,AND('График ОП'!AE7=предметы!$H$3,COUNTIFS('График ОП'!AE7:AE23,предметы!$H$16)>0),AND('График ОП'!AE7=предметы!$H$16,COUNTIFS('График ОП'!AE7:AE23,предметы!$H$3)>0),AND('График ОП'!AE7=предметы!$H$4,COUNTIFS('График ОП'!AE7:AE23,предметы!$H$19)>0),AND('График ОП'!AE7=предметы!$H$19,COUNTIFS('График ОП'!AE7:AE23,предметы!$H$4)>0),AND('График ОП'!AE7=предметы!$H$5,COUNTIFS('График ОП'!AE7:AE23,предметы!$H$20)>0),AND('График ОП'!AE7=предметы!$H$20,COUNTIFS('График ОП'!AE7:AE23,предметы!$H$5)>0),AND('График ОП'!AE7=предметы!$H$6,COUNTIFS('График ОП'!AE7:AE23,предметы!$H$21)>0),AND('График ОП'!AE7=предметы!$H$21,COUNTIFS('График ОП'!AE7:AE23,предметы!$H$6)>0),AND('График ОП'!AE7=предметы!$H$7,COUNTIFS('График ОП'!AE7:AE23,предметы!$H$22)>0),AND('График ОП'!AE7=предметы!$H$22,COUNTIFS('График ОП'!AE7:AE23,предметы!$H$7)>0),AND('График ОП'!AE7=предметы!$H$8,COUNTIFS('График ОП'!AE7:AE23,предметы!$H$23)>0),AND('График ОП'!AE7=предметы!$H$23,COUNTIFS('График ОП'!AE7:AE23,предметы!$H$8)>0),AND('График ОП'!AE7=предметы!$H$9,COUNTIFS('График ОП'!AE7:AE23,предметы!$H$24)>0),AND('График ОП'!AE7=предметы!$H$24,COUNTIFS('График ОП'!AE7:AE23,предметы!$H$9)>0),AND('График ОП'!AE7=предметы!$H$10,COUNTIFS('График ОП'!AE7:AE23,предметы!$H$25)>0),AND('График ОП'!AE7=предметы!$H$25,COUNTIFS('График ОП'!AE7:AE23,предметы!$H$10)>0),AND('График ОП'!AE7=предметы!$H$11,COUNTIFS('График ОП'!AE7:AE23,предметы!$H$26)>0),AND('График ОП'!AE7=предметы!$H$26,COUNTIFS('График ОП'!AE7:AE23,предметы!$H$11)>0),AND('График ОП'!AE7=предметы!$H$12,COUNTIFS('График ОП'!AE7:AE23,предметы!$H$27)>0),AND('График ОП'!AE7=предметы!$H$27,COUNTIFS('График ОП'!AE7:AE23,предметы!$H$12)>0),AND('График ОП'!AE7=предметы!$H$13,COUNTIFS('График ОП'!AE7:AE23,предметы!$H$28)>0),AND('График ОП'!AE7=предметы!$H$28,COUNTIFS('График ОП'!AE7:AE23,предметы!$H$13)>0),AND('График ОП'!AE7=предметы!$H$14,COUNTIFS('График ОП'!AE7:AE23,предметы!$H$29)>0),AND('График ОП'!AE7=предметы!$H$29,COUNTIFS('График ОП'!AE7:AE23,предметы!$H$14)>0),AND('График ОП'!AE7=предметы!$H$15,COUNTIFS('График ОП'!AE7:AE23,предметы!$H$30)>0),AND('График ОП'!AE7=предметы!$H$30,COUNTIFS('График ОП'!AE7:AE23,предметы!$H$15)>0)),"<17 (ВПР, КР)","*") -> * | AW6: =IF(OR(COUNTIFS('График ОП'!#REF!,'График ОП'!#REF!)>1,AND('График ОП'!#REF!=предметы!$H$3,COUNTIFS('График ОП'!#REF!,предметы!$H$16)>0),AND('График ОП'!#REF!=предметы!$H$16,COUNTIFS('График ОП'!#REF!,предметы!$H$3)>0),AND('График ОП'!#REF!=предметы!$H$4,COUNTIFS('График ОП'!#REF!,предметы!$H$19)>0),AND('График ОП'!#REF!=предметы!$H$19,COUNTIFS('График ОП'!#REF!,предметы!$H$4)>0),AND('График ОП'!#REF!=предметы!$H$5,COUNTIFS('График ОП'!#REF!,предметы!$H$20)>0),AND('График ОП'!#REF!=предметы!$H$20,COUNTIFS('График ОП'!#REF!,предметы!$H$5)>0),AND('График ОП'!#REF!=предметы!$H$6,COUNTIFS('График ОП'!#REF!,предметы!$H$21)>0),AND('График ОП'!#REF!=предметы!$H$21,COUNTIFS('График ОП'!#REF!,предметы!$H$6)>0),AND('График ОП'!#REF!=предметы!$H$7,COUNTIFS('График ОП'!#REF!,предметы!$H$22)>0),AND('График ОП'!#REF!=предметы!$H$22,COUNTIFS('График ОП'!#REF!,предметы!$H$7)>0),AND('График ОП'!#REF!=предметы!$H$8,COUNTIFS('График ОП'!#REF!,предметы!$H$23)>0),AND('График ОП'!#REF!=предметы!$H$23,COUNTIFS('График ОП'!#REF!,предметы!$H$8)>0),AND('График ОП'!#REF!=предметы!$H$9,COUNTIFS('График ОП'!#REF!,предметы!$H$24)>0),AND('График ОП'!#REF!=предметы!$H$24,COUNTIFS('График ОП'!#REF!,предметы!$H$9)>0),AND('График ОП'!#REF!=предметы!$H$10,COUNTIFS('График ОП'!#REF!,предметы!$H$25)>0),AND('График ОП'!#REF!=предметы!$H$25,COUNTIFS('График ОП'!#REF!,предметы!$H$10)>0),AND('График ОП'!#REF!=предметы!$H$11,COUNTIFS('График ОП'!#REF!,предметы!$H$26)>0),AND('График ОП'!#REF!=предметы!$H$26,COUNTIFS('График ОП'!#REF!,предметы!$H$11)>0),AND('График ОП'!#REF!=предметы!$H$12,COUNTIFS('График ОП'!#REF!,предметы!$H$27)>0),AND('График ОП'!#REF!=предметы!$H$27,COUNTIFS('График ОП'!#REF!,предметы!$H$12)>0),AND('График ОП'!#REF!=предметы!$H$13,COUNTIFS('График ОП'!#REF!,предметы!$H$28)>0),AND('График ОП'!#REF!=предметы!$H$28,COUNTIFS('График ОП'!#REF!,предметы!$H$13)>0),AND('График ОП'!#REF!=предметы!$H$14,COUNTIFS('График ОП'!#REF!,предметы!$H$29)>0),AND('График ОП'!#REF!=предметы!$H$29,COUNTIFS('График ОП'!#REF!,предметы!$H$14)>0),AND('График ОП'!#REF!=предметы!$H$15,COUNTIFS('График ОП'!#REF!,предметы!$H$30)>0),AND('График ОП'!#REF!=предметы!$H$30,COUNTIFS('График ОП'!#REF!,предметы!$H$15)>0)),"<17 (ВПР, КР)","*") -> #REF! | AX6: =IF(OR(COUNTIFS('График ОП'!#REF!,'График ОП'!#REF!)>1,AND('График ОП'!#REF!=предметы!$H$3,COUNTIFS('График ОП'!#REF!,предметы!$H$16)>0),AND('График ОП'!#REF!=предметы!$H$16,COUNTIFS('График ОП'!#REF!,предметы!$H$3)>0),AND('График ОП'!#REF!=предметы!$H$4,COUNTIFS('График ОП'!#REF!,предметы!$H$19)>0),AND('График ОП'!#REF!=предметы!$H$19,COUNTIFS('График ОП'!#REF!,предметы!$H$4)>0),AND('График ОП'!#REF!=предметы!$H$5,COUNTIFS('График ОП'!#REF!,предметы!$H$20)>0),AND('График ОП'!#REF!=предметы!$H$20,COUNTIFS('График ОП'!#REF!,предметы!$H$5)>0),AND('График ОП'!#REF!=предметы!$H$6,COUNTIFS('График ОП'!#REF!,предметы!$H$21)>0),AND('График ОП'!#REF!=предметы!$H$21,COUNTIFS('График ОП'!#REF!,предметы!$H$6)>0),AND('График ОП'!#REF!=предметы!$H$7,COUNTIFS('График ОП'!#REF!,предметы!$H$22)>0),AND('График ОП'!#REF!=предметы!$H$22,COUNTIFS('График ОП'!#REF!,предметы!$H$7)>0),AND('График ОП'!#REF!=предметы!$H$8,COUNTIFS('График ОП'!#REF!,предметы!$H$23)>0),AND('График ОП'!#REF!=предметы!$H$23,COUNTIFS('График ОП'!#REF!,предметы!$H$8)>0),AND('График ОП'!#REF!=предметы!$H$9,COUNTIFS('График ОП'!#REF!,предметы!$H$24)>0),AND('График ОП'!#REF!=предметы!$H$24,COUNTIFS('График ОП'!#REF!,предметы!$H$9)>0),AND('График ОП'!#REF!=предметы!$H$10,COUNTIFS('График ОП'!#REF!,предметы!$H$25)>0),AND('График ОП'!#REF!=предметы!$H$25,COUNTIFS('График ОП'!#REF!,предметы!$H$10)>0),AND('График ОП'!#REF!=предметы!$H$11,COUNTIFS('График ОП'!#REF!,предметы!$H$26)>0),AND('График ОП'!#REF!=предметы!$H$26,COUNTIFS('График ОП'!#REF!,предметы!$H$11)>0),AND('График ОП'!#REF!=предметы!$H$12,COUNTIFS('График ОП'!#REF!,предметы!$H$27)>0),AND('График ОП'!#REF!=предметы!$H$27,COUNTIFS('График ОП'!#REF!,предметы!$H$12)>0),AND('График ОП'!#REF!=предметы!$H$13,COUNTIFS('График ОП'!#REF!,предметы!$H$28)>0),AND('График ОП'!#REF!=предметы!$H$28,COUNTIFS('График ОП'!#REF!,предметы!$H$13)>0),AND('График ОП'!#REF!=предметы!$H$14,COUNTIFS('График ОП'!#REF!,предметы!$H$29)>0),AND('График ОП'!#REF!=предметы!$H$29,COUNTIFS('График ОП'!#REF!,предметы!$H$14)>0),AND('График ОП'!#REF!=предметы!$H$15,COUNTIFS('График ОП'!#REF!,предметы!$H$30)>0),AND('График ОП'!#REF!=предметы!$H$30,COUNTIFS('График ОП'!#REF!,предметы!$H$15)>0)),"<17 (ВПР, КР)","*") -> #REF! | AY6: =IF(COUNTIFS('График ОП'!AF7:AF23,'График ОП'!AF7)>1,"<17 (ВПР, КР)","*") -> * | AZ6: =IF(COUNTIFS('График ОП'!AG7:AG23,'График ОП'!AG7)>1,"<17 (ВПР, КР)","*") -> * | BA6: =IF(COUNTIFS('График ОП'!AH7:AH23,'График ОП'!AH7)>1,"<17 (ВПР, КР)","*") -> * | BB6: =IF(COUNTIFS('График ОП'!#REF!,'График ОП'!#REF!)>1,"<17 (ВПР, КР)","*") -> #REF! | BC6: =IF(COUNTIFS('График ОП'!#REF!,'График ОП'!#REF!)>1,"<17 (ВПР, КР)","*") -> #REF! | BD6: =IF(COUNTIFS('График ОП'!#REF!,'График ОП'!#REF!)>1,"<17 (ВПР, КР)","*") -> #REF! | BE6: =IF(OR(COUNTIFS('График ОП'!AI7:AI23,'График ОП'!AI7)>1,AND('График ОП'!AI7=предметы!$J$3,COUNTIFS('График ОП'!AI7:AI23,предметы!$J$16)>0),AND('График ОП'!AI7=предметы!$J$16,COUNTIFS('График ОП'!AI7:AI23,предметы!$J$3)>0),AND('График ОП'!AI7=предметы!$J$4,COUNTIFS('График ОП'!AI7:AI23,предметы!$J$19)>0),AND('График ОП'!AI7=предметы!$J$19,COUNTIFS('График ОП'!AI7:AI23,предметы!$J$4)>0),AND('График ОП'!AI7=предметы!$J$5,COUNTIFS('График ОП'!AI7:AI23,предметы!$J$20)>0),AND('График ОП'!AI7=предметы!$J$20,COUNTIFS('График ОП'!AI7:AI23,предметы!$J$5)>0),AND('График ОП'!AI7=предметы!$J$6,COUNTIFS('График ОП'!AI7:AI23,предметы!$J$21)>0),AND('График ОП'!AI7=предметы!$J$21,COUNTIFS('График ОП'!AI7:AI23,предметы!$J$6)>0),AND('График ОП'!AI7=предметы!$J$7,COUNTIFS('График ОП'!AI7:AI23,предметы!$J$22)>0),AND('График ОП'!AI7=предметы!$J$22,COUNTIFS('График ОП'!AI7:AI23,предметы!$J$7)>0),AND('График ОП'!AI7=предметы!$J$8,COUNTIFS('График ОП'!AI7:AI23,предметы!$J$23)>0),AND('График ОП'!AI7=предметы!$J$23,COUNTIFS('График ОП'!AI7:AI23,предметы!$J$8)>0),AND('График ОП'!AI7=предметы!$J$9,COUNTIFS('График ОП'!AI7:AI23,предметы!$J$24)>0),AND('График ОП'!AI7=предметы!$J$24,COUNTIFS('График ОП'!AI7:AI23,предметы!$J$9)>0),AND('График ОП'!AI7=предметы!$J$10,COUNTIFS('График ОП'!AI7:AI23,предметы!$J$25)>0),AND('График ОП'!AI7=предметы!$J$25,COUNTIFS('График ОП'!AI7:AI23,предметы!$J$10)>0),AND('График ОП'!AI7=предметы!$J$11,COUNTIFS('График ОП'!AI7:AI23,предметы!$J$26)>0),AND('График ОП'!AI7=предметы!$J$26,COUNTIFS('График ОП'!AI7:AI23,предметы!$J$11)>0),AND('График ОП'!AI7=предметы!$J$12,COUNTIFS('График ОП'!AI7:AI23,предметы!$J$27)>0),AND('График ОП'!AI7=предметы!$J$27,COUNTIFS('График ОП'!AI7:AI23,предметы!$J$12)>0),AND('График ОП'!AI7=предметы!$J$13,COUNTIFS('График ОП'!AI7:AI23,предметы!$J$28)>0),AND('График ОП'!AI7=предметы!$J$28,COUNTIFS('График ОП'!AI7:AI23,предметы!$J$13)>0),AND('График ОП'!AI7=предметы!$J$14,COUNTIFS('График ОП'!AI7:AI23,предметы!$J$29)>0),AND('График ОП'!AI7=предметы!$J$29,COUNTIFS('График ОП'!AI7:AI23,предметы!$J$14)>0),AND('График ОП'!AI7=предметы!$J$15,COUNTIFS('График ОП'!AI7:AI23,предметы!$J$30)>0),AND('График ОП'!AI7=предметы!$J$30,COUNTIFS('График ОП'!AI7:AI23,предметы!$J$15)>0)),"<17 (ВПР, КР)","*") -> * | BF6: =IF(OR(COUNTIFS('График ОП'!AJ7:AJ23,'График ОП'!AJ7)>1,AND('График ОП'!AJ7=предметы!$J$3,COUNTIFS('График ОП'!AJ7:AJ23,предметы!$J$16)>0),AND('График ОП'!AJ7=предметы!$J$16,COUNTIFS('График ОП'!AJ7:AJ23,предметы!$J$3)>0),AND('График ОП'!AJ7=предметы!$J$4,COUNTIFS('График ОП'!AJ7:AJ23,предметы!$J$19)>0),AND('График ОП'!AJ7=предметы!$J$19,COUNTIFS('График ОП'!AJ7:AJ23,предметы!$J$4)>0),AND('График ОП'!AJ7=предметы!$J$5,COUNTIFS('График ОП'!AJ7:AJ23,предметы!$J$20)>0),AND('График ОП'!AJ7=предметы!$J$20,COUNTIFS('График ОП'!AJ7:AJ23,предметы!$J$5)>0),AND('График ОП'!AJ7=предметы!$J$6,COUNTIFS('График ОП'!AJ7:AJ23,предметы!$J$21)>0),AND('График ОП'!AJ7=предметы!$J$21,COUNTIFS('График ОП'!AJ7:AJ23,предметы!$J$6)>0),AND('График ОП'!AJ7=предметы!$J$7,COUNTIFS('График ОП'!AJ7:AJ23,предметы!$J$22)>0),AND('График ОП'!AJ7=предметы!$J$22,COUNTIFS('График ОП'!AJ7:AJ23,предметы!$J$7)>0),AND('График ОП'!AJ7=предметы!$J$8,COUNTIFS('График ОП'!AJ7:AJ23,предметы!$J$23)>0),AND('График ОП'!AJ7=предметы!$J$23,COUNTIFS('График ОП'!AJ7:AJ23,предметы!$J$8)>0),AND('График ОП'!AJ7=предметы!$J$9,COUNTIFS('График ОП'!AJ7:AJ23,предметы!$J$24)>0),AND('График ОП'!AJ7=предметы!$J$24,COUNTIFS('График ОП'!AJ7:AJ23,предметы!$J$9)>0),AND('График ОП'!AJ7=предметы!$J$10,COUNTIFS('График ОП'!AJ7:AJ23,предметы!$J$25)>0),AND('График ОП'!AJ7=предметы!$J$25,COUNTIFS('График ОП'!AJ7:AJ23,предметы!$J$10)>0),AND('График ОП'!AJ7=предметы!$J$11,COUNTIFS('График ОП'!AJ7:AJ23,предметы!$J$26)>0),AND('График ОП'!AJ7=предметы!$J$26,COUNTIFS('График ОП'!AJ7:AJ23,предметы!$J$11)>0),AND('График ОП'!AJ7=предметы!$J$12,COUNTIFS('График ОП'!AJ7:AJ23,предметы!$J$27)>0),AND('График ОП'!AJ7=предметы!$J$27,COUNTIFS('График ОП'!AJ7:AJ23,предметы!$J$12)>0),AND('График ОП'!AJ7=предметы!$J$13,COUNTIFS('График ОП'!AJ7:AJ23,предметы!$J$28)>0),AND('График ОП'!AJ7=предметы!$J$28,COUNTIFS('График ОП'!AJ7:AJ23,предметы!$J$13)>0),AND('График ОП'!AJ7=предметы!$J$14,COUNTIFS('График ОП'!AJ7:AJ23,предметы!$J$29)>0),AND('График ОП'!AJ7=предметы!$J$29,COUNTIFS('График ОП'!AJ7:AJ23,предметы!$J$14)>0),AND('График ОП'!AJ7=предметы!$J$15,COUNTIFS('График ОП'!AJ7:AJ23,предметы!$J$30)>0),AND('График ОП'!AJ7=предметы!$J$30,COUNTIFS('График ОП'!AJ7:AJ23,предметы!$J$15)>0)),"<17 (ВПР, КР)","*") -> * | BG6: =IF(OR(COUNTIFS('График ОП'!#REF!,'График ОП'!#REF!)>1,AND('График ОП'!#REF!=предметы!$J$3,COUNTIFS('График ОП'!#REF!,предметы!$J$16)>0),AND('График ОП'!#REF!=предметы!$J$16,COUNTIFS('График ОП'!#REF!,предметы!$J$3)>0),AND('График ОП'!#REF!=предметы!$J$4,COUNTIFS('График ОП'!#REF!,предметы!$J$19)>0),AND('График ОП'!#REF!=предметы!$J$19,COUNTIFS('График ОП'!#REF!,предметы!$J$4)>0),AND('График ОП'!#REF!=предметы!$J$5,COUNTIFS('График ОП'!#REF!,предметы!$J$20)>0),AND('График ОП'!#REF!=предметы!$J$20,COUNTIFS('График ОП'!#REF!,предметы!$J$5)>0),AND('График ОП'!#REF!=предметы!$J$6,COUNTIFS('График ОП'!#REF!,предметы!$J$21)>0),AND('График ОП'!#REF!=предметы!$J$21,COUNTIFS('График ОП'!#REF!,предметы!$J$6)>0),AND('График ОП'!#REF!=предметы!$J$7,COUNTIFS('График ОП'!#REF!,предметы!$J$22)>0),AND('График ОП'!#REF!=предметы!$J$22,COUNTIFS('График ОП'!#REF!,предметы!$J$7)>0),AND('График ОП'!#REF!=предметы!$J$8,COUNTIFS('График ОП'!#REF!,предметы!$J$23)>0),AND('График ОП'!#REF!=предметы!$J$23,COUNTIFS('График ОП'!#REF!,предметы!$J$8)>0),AND('График ОП'!#REF!=предметы!$J$9,COUNTIFS('График ОП'!#REF!,предметы!$J$24)>0),AND('График ОП'!#REF!=предметы!$J$24,COUNTIFS('График ОП'!#REF!,предметы!$J$9)>0),AND('График ОП'!#REF!=предметы!$J$10,COUNTIFS('График ОП'!#REF!,предметы!$J$25)>0),AND('График ОП'!#REF!=предметы!$J$25,COUNTIFS('График ОП'!#REF!,предметы!$J$10)>0),AND('График ОП'!#REF!=предметы!$J$11,COUNTIFS('График ОП'!#REF!,предметы!$J$26)>0),AND('График ОП'!#REF!=предметы!$J$26,COUNTIFS('График ОП'!#REF!,предметы!$J$11)>0),AND('График ОП'!#REF!=предметы!$J$12,COUNTIFS('График ОП'!#REF!,предметы!$J$27)>0),AND('График ОП'!#REF!=предметы!$J$27,COUNTIFS('График ОП'!#REF!,предметы!$J$12)>0),AND('График ОП'!#REF!=предметы!$J$13,COUNTIFS('График ОП'!#REF!,предметы!$J$28)>0),AND('График ОП'!#REF!=предметы!$J$28,COUNTIFS('График ОП'!#REF!,предметы!$J$13)>0),AND('График ОП'!#REF!=предметы!$J$14,COUNTIFS('График ОП'!#REF!,предметы!$J$29)>0),AND('График ОП'!#REF!=предметы!$J$29,COUNTIFS('График ОП'!#REF!,предметы!$J$14)>0),AND('График ОП'!#REF!=предметы!$J$15,COUNTIFS('График ОП'!#REF!,предметы!$J$30)>0),AND('График ОП'!#REF!=предметы!$J$30,COUNTIFS('График ОП'!#REF!,предметы!$J$15)>0)),"<17 (ВПР, КР)","*") -> #REF! | BH6: =IF(OR(COUNTIFS('График ОП'!#REF!,'График ОП'!#REF!)>1,AND('График ОП'!#REF!=предметы!$J$3,COUNTIFS('График ОП'!#REF!,предметы!$J$16)>0),AND('График ОП'!#REF!=предметы!$J$16,COUNTIFS('График ОП'!#REF!,предметы!$J$3)>0),AND('График ОП'!#REF!=предметы!$J$4,COUNTIFS('График ОП'!#REF!,предметы!$J$19)>0),AND('График ОП'!#REF!=предметы!$J$19,COUNTIFS('График ОП'!#REF!,предметы!$J$4)>0),AND('График ОП'!#REF!=предметы!$J$5,COUNTIFS('График ОП'!#REF!,предметы!$J$20)>0),AND('График ОП'!#REF!=предметы!$J$20,COUNTIFS('График ОП'!#REF!,предметы!$J$5)>0),AND('График ОП'!#REF!=предметы!$J$6,COUNTIFS('График ОП'!#REF!,предметы!$J$21)>0),AND('График ОП'!#REF!=предметы!$J$21,COUNTIFS('График ОП'!#REF!,предметы!$J$6)>0),AND('График ОП'!#REF!=предметы!$J$7,COUNTIFS('График ОП'!#REF!,предметы!$J$22)>0),AND('График ОП'!#REF!=предметы!$J$22,COUNTIFS('График ОП'!#REF!,предметы!$J$7)>0),AND('График ОП'!#REF!=предметы!$J$8,COUNTIFS('График ОП'!#REF!,предметы!$J$23)>0),AND('График ОП'!#REF!=предметы!$J$23,COUNTIFS('График ОП'!#REF!,предметы!$J$8)>0),AND('График ОП'!#REF!=предметы!$J$9,COUNTIFS('График ОП'!#REF!,предметы!$J$24)>0),AND('График ОП'!#REF!=предметы!$J$24,COUNTIFS('График ОП'!#REF!,предметы!$J$9)>0),AND('График ОП'!#REF!=предметы!$J$10,COUNTIFS('График ОП'!#REF!,предметы!$J$25)>0),AND('График ОП'!#REF!=предметы!$J$25,COUNTIFS('График ОП'!#REF!,предметы!$J$10)>0),AND('График ОП'!#REF!=предметы!$J$11,COUNTIFS('График ОП'!#REF!,предметы!$J$26)>0),AND('График ОП'!#REF!=предметы!$J$26,COUNTIFS('График ОП'!#REF!,предметы!$J$11)>0),AND('График ОП'!#REF!=предметы!$J$12,COUNTIFS('График ОП'!#REF!,предметы!$J$27)>0),AND('График ОП'!#REF!=предметы!$J$27,COUNTIFS('График ОП'!#REF!,предметы!$J$12)>0),AND('График ОП'!#REF!=предметы!$J$13,COUNTIFS('График ОП'!#REF!,предметы!$J$28)>0),AND('График ОП'!#REF!=предметы!$J$28,COUNTIFS('График ОП'!#REF!,предметы!$J$13)>0),AND('График ОП'!#REF!=предметы!$J$14,COUNTIFS('График ОП'!#REF!,предметы!$J$29)>0),AND('График ОП'!#REF!=предметы!$J$29,COUNTIFS('График ОП'!#REF!,предметы!$J$14)>0),AND('График ОП'!#REF!=предметы!$J$15,COUNTIFS('График ОП'!#REF!,предметы!$J$30)>0),AND('График ОП'!#REF!=предметы!$J$30,COUNTIFS('График ОП'!#REF!,предметы!$J$15)>0)),"<17 (ВПР, КР)","*") -> #REF! | BI6: =IF(OR(COUNTIFS('График ОП'!#REF!,'График ОП'!#REF!)>1,AND('График ОП'!#REF!=предметы!$J$3,COUNTIFS('График ОП'!#REF!,предметы!$J$16)>0),AND('График ОП'!#REF!=предметы!$J$16,COUNTIFS('График ОП'!#REF!,предметы!$J$3)>0),AND('График ОП'!#REF!=предметы!$J$4,COUNTIFS('График ОП'!#REF!,предметы!$J$19)>0),AND('График ОП'!#REF!=предметы!$J$19,COUNTIFS('График ОП'!#REF!,предметы!$J$4)>0),AND('График ОП'!#REF!=предметы!$J$5,COUNTIFS('График ОП'!#REF!,предметы!$J$20)>0),AND('График ОП'!#REF!=предметы!$J$20,COUNTIFS('График ОП'!#REF!,предметы!$J$5)>0),AND('График ОП'!#REF!=предметы!$J$6,COUNTIFS('График ОП'!#REF!,предметы!$J$21)>0),AND('График ОП'!#REF!=предметы!$J$21,COUNTIFS('График ОП'!#REF!,предметы!$J$6)>0),AND('График ОП'!#REF!=предметы!$J$7,COUNTIFS('График ОП'!#REF!,предметы!$J$22)>0),AND('График ОП'!#REF!=предметы!$J$22,COUNTIFS('График ОП'!#REF!,предметы!$J$7)>0),AND('График ОП'!#REF!=предметы!$J$8,COUNTIFS('График ОП'!#REF!,предметы!$J$23)>0),AND('График ОП'!#REF!=предметы!$J$23,COUNTIFS('График ОП'!#REF!,предметы!$J$8)>0),AND('График ОП'!#REF!=предметы!$J$9,COUNTIFS('График ОП'!#REF!,предметы!$J$24)>0),AND('График ОП'!#REF!=предметы!$J$24,COUNTIFS('График ОП'!#REF!,предметы!$J$9)>0),AND('График ОП'!#REF!=предметы!$J$10,COUNTIFS('График ОП'!#REF!,предметы!$J$25)>0),AND('График ОП'!#REF!=предметы!$J$25,COUNTIFS('График ОП'!#REF!,предметы!$J$10)>0),AND('График ОП'!#REF!=предметы!$J$11,COUNTIFS('График ОП'!#REF!,предметы!$J$26)>0),AND('График ОП'!#REF!=предметы!$J$26,COUNTIFS('График ОП'!#REF!,предметы!$J$11)>0),AND('График ОП'!#REF!=предметы!$J$12,COUNTIFS('График ОП'!#REF!,предметы!$J$27)>0),AND('График ОП'!#REF!=предметы!$J$27,COUNTIFS('График ОП'!#REF!,предметы!$J$12)>0),AND('График ОП'!#REF!=предметы!$J$13,COUNTIFS('График ОП'!#REF!,предметы!$J$28)>0),AND('График ОП'!#REF!=предметы!$J$28,COUNTIFS('График ОП'!#REF!,предметы!$J$13)>0),AND('График ОП'!#REF!=предметы!$J$14,COUNTIFS('График ОП'!#REF!,предметы!$J$29)>0),AND('График ОП'!#REF!=предметы!$J$29,COUNTIFS('График ОП'!#REF!,предметы!$J$14)>0),AND('График ОП'!#REF!=предметы!$J$15,COUNTIFS('График ОП'!#REF!,предметы!$J$30)>0),AND('График ОП'!#REF!=предметы!$J$30,COUNTIFS('График ОП'!#REF!,предметы!$J$15)>0)),"<17 (ВПР, КР)","*") -> #REF! | BJ6: =IF(OR(COUNTIFS('График ОП'!#REF!,'График ОП'!#REF!)>1,AND('График ОП'!#REF!=предметы!$J$3,COUNTIFS('График ОП'!#REF!,предметы!$J$16)>0),AND('График ОП'!#REF!=предметы!$J$16,COUNTIFS('График ОП'!#REF!,предметы!$J$3)>0),AND('График ОП'!#REF!=предметы!$J$4,COUNTIFS('График ОП'!#REF!,предметы!$J$19)>0),AND('График ОП'!#REF!=предметы!$J$19,COUNTIFS('График ОП'!#REF!,предметы!$J$4)>0),AND('График ОП'!#REF!=предметы!$J$5,COUNTIFS('График ОП'!#REF!,предметы!$J$20)>0),AND('График ОП'!#REF!=предметы!$J$20,COUNTIFS('График ОП'!#REF!,предметы!$J$5)>0),AND('График ОП'!#REF!=предметы!$J$6,COUNTIFS('График ОП'!#REF!,предметы!$J$21)>0),AND('График ОП'!#REF!=предметы!$J$21,COUNTIFS('График ОП'!#REF!,предметы!$J$6)>0),AND('График ОП'!#REF!=предметы!$J$7,COUNTIFS('График ОП'!#REF!,предметы!$J$22)>0),AND('График ОП'!#REF!=предметы!$J$22,COUNTIFS('График ОП'!#REF!,предметы!$J$7)>0),AND('График ОП'!#REF!=предметы!$J$8,COUNTIFS('График ОП'!#REF!,предметы!$J$23)>0),AND('График ОП'!#REF!=предметы!$J$23,COUNTIFS('График ОП'!#REF!,предметы!$J$8)>0),AND('График ОП'!#REF!=предметы!$J$9,COUNTIFS('График ОП'!#REF!,предметы!$J$24)>0),AND('График ОП'!#REF!=предметы!$J$24,COUNTIFS('График ОП'!#REF!,предметы!$J$9)>0),AND('График ОП'!#REF!=предметы!$J$10,COUNTIFS('График ОП'!#REF!,предметы!$J$25)>0),AND('График ОП'!#REF!=предметы!$J$25,COUNTIFS('График ОП'!#REF!,предметы!$J$10)>0),AND('График ОП'!#REF!=предметы!$J$11,COUNTIFS('График ОП'!#REF!,предметы!$J$26)>0),AND('График ОП'!#REF!=предметы!$J$26,COUNTIFS('График ОП'!#REF!,предметы!$J$11)>0),AND('График ОП'!#REF!=предметы!$J$12,COUNTIFS('График ОП'!#REF!,предметы!$J$27)>0),AND('График ОП'!#REF!=предметы!$J$27,COUNTIFS('График ОП'!#REF!,предметы!$J$12)>0),AND('График ОП'!#REF!=предметы!$J$13,COUNTIFS('График ОП'!#REF!,предметы!$J$28)>0),AND('График ОП'!#REF!=предметы!$J$28,COUNTIFS('График ОП'!#REF!,предметы!$J$13)>0),AND('График ОП'!#REF!=предметы!$J$14,COUNTIFS('График ОП'!#REF!,предметы!$J$29)>0),AND('График ОП'!#REF!=предметы!$J$29,COUNTIFS('График ОП'!#REF!,предметы!$J$14)>0),AND('График ОП'!#REF!=предметы!$J$15,COUNTIFS('График ОП'!#REF!,предметы!$J$30)>0),AND('График ОП'!#REF!=предметы!$J$30,COUNTIFS('График ОП'!#REF!,предметы!$J$15)>0)),"<17 (ВПР, КР)","*") -> #REF! | BK6: =IF(COUNTIFS('График ОП'!AK7:AK23,'График ОП'!AK7)>1,"<17 (ВПР, КР)","*") -> * | BL6: =IF(COUNTIFS('График ОП'!AL7:AL23,'График ОП'!AL7)>1,"<17 (ВПР, КР)","*") -> * | BM6: =IF(COUNTIFS('График ОП'!#REF!,'График ОП'!#REF!)>1,"<17 (ВПР, КР)","*") -> #REF! | BN6: =IF(COUNTIFS('График ОП'!#REF!,'График ОП'!#REF!)>1,"<17 (ВПР, КР)","*") -> #REF! | BO6: =IF(COUNTIFS('График ОП'!#REF!,'График ОП'!#REF!)>1,"<17 (ВПР, КР)","*") -> #REF! | BP6: =IF(COUNTIFS('График ОП'!#REF!,'График ОП'!#REF!)>1,"<17 (ВПР, КР)","*") -> #REF!
A7: 46267 | B7: СР | C7: =IF(COUNTIFS('График ОП'!C8:C24,'График ОП'!C8)>1,"<17 (ВПР, КР)","*") -> * | D7: =IF(COUNTIFS('График ОП'!D8:D24,'График ОП'!D8)>1,"<17 (ВПР, КР)","*") -> * | E7: =IF(COUNTIFS('График ОП'!E8:E24,'График ОП'!E8)>1,"<17 (ВПР, КР)","*") -> * | F7: =IF(COUNTIFS('График ОП'!#REF!,'График ОП'!#REF!)>1,"<17 (ВПР, КР)","*") -> #REF! | G7: =IF(COUNTIFS('График ОП'!#REF!,'График ОП'!#REF!)>1,"<17 (ВПР, КР)","*") -> #REF! | H7: =IF(COUNTIFS('График ОП'!#REF!,'График ОП'!#REF!)>1,"<17 (ВПР, КР)","*") -> #REF! | I7: =IF(COUNTIFS('График ОП'!F8:F24,'График ОП'!F8)>1,"<17 (ВПР, КР)","*") -> * | J7: =IF(COUNTIFS('График ОП'!G8:G24,'График ОП'!G8)>1,"<17 (ВПР, КР)","*") -> * | K7: =IF(COUNTIFS('График ОП'!H8:H24,'График ОП'!H8)>1,"<17 (ВПР, КР)","*") -> * | L7: =IF(COUNTIFS('График ОП'!#REF!,'График ОП'!#REF!)>1,"<17 (ВПР, КР)","*") -> #REF! | M7: =IF(COUNTIFS('График ОП'!#REF!,'График ОП'!#REF!)>1,"<17 (ВПР, КР)","*") -> #REF! | N7: =IF(COUNTIFS('График ОП'!#REF!,'График ОП'!#REF!)>1,"<17 (ВПР, КР)","*") -> #REF! | O7: =IF(COUNTIFS('График ОП'!I8:I24,'График ОП'!I8)>1,"<17 (ВПР, КР)","*") -> * | P7: =IF(COUNTIFS('График ОП'!J8:J24,'График ОП'!J8)>1,"<17 (ВПР, КР)","*") -> * | Q7: =IF(COUNTIFS('График ОП'!K8:K24,'График ОП'!K8)>1,"<17 (ВПР, КР)","*") -> * | R7: =IF(COUNTIFS('График ОП'!L8:L24,'График ОП'!L8)>1,"<17 (ВПР, КР)","*") -> * | S7: =IF(COUNTIFS('График ОП'!#REF!,'График ОП'!#REF!)>1,"<17 (ВПР, КР)","*") -> #REF! | T7: =IF(COUNTIFS('График ОП'!#REF!,'График ОП'!#REF!)>1,"<17 (ВПР, КР)","*") -> #REF! | U7: =IF(OR(COUNTIFS('График ОП'!M8:M24,'График ОП'!M8)>1,AND('График ОП'!M8=предметы!$D$3,COUNTIFS('График ОП'!M8:M24,предметы!$D$12)>0),AND('График ОП'!M8=предметы!$D$12,COUNTIFS('График ОП'!M8:M24,предметы!$D$3)>0),AND('График ОП'!M8=предметы!$D$4,COUNTIFS('График ОП'!M8:M24,предметы!$D$13)>0),AND('График ОП'!M8=предметы!$D$13,COUNTIFS('График ОП'!M8:M24,предметы!$D$4)>0),AND('График ОП'!M8=предметы!$D$14,COUNTIFS('График ОП'!M8:M24,предметы!$D$5)>0),AND('График ОП'!M8=предметы!$D$5,COUNTIFS('График ОП'!M8:M24,предметы!$D$14)>0),AND('График ОП'!M8=предметы!$D$15,COUNTIFS('График ОП'!M8:M24,предметы!$D$6)>0),AND('График ОП'!M8=предметы!$D$6,COUNTIFS('График ОП'!M8:M24,предметы!$D$15)>0),AND('График ОП'!M8=предметы!$D$16,COUNTIFS('График ОП'!M8:M24,предметы!$D$7)>0),AND('График ОП'!M8=предметы!$D$7,COUNTIFS('График ОП'!M8:M24,предметы!$D$16)>0),AND('График ОП'!M8=предметы!$D$8,COUNTIFS('График ОП'!M8:M24,предметы!$D$10)>0),AND('График ОП'!M8=предметы!$D$10,COUNTIFS('График ОП'!M8:M24,предметы!$D$8)>0),AND('График ОП'!M8=предметы!$D$9,COUNTIFS('График ОП'!M8:M24,предметы!$D$11)>0),AND('График ОП'!M8=предметы!$D$11,COUNTIFS('График ОП'!M8:M24,предметы!$D$9)>0)),"<17 (ВПР, КР)","*") -> * | V7: =IF(OR(COUNTIFS('График ОП'!N8:N24,'График ОП'!N8)>1,AND('График ОП'!N8=предметы!$D$3,COUNTIFS('График ОП'!N8:N24,предметы!$D$12)>0),AND('График ОП'!N8=предметы!$D$12,COUNTIFS('График ОП'!N8:N24,предметы!$D$3)>0),AND('График ОП'!N8=предметы!$D$4,COUNTIFS('График ОП'!N8:N24,предметы!$D$13)>0),AND('График ОП'!N8=предметы!$D$13,COUNTIFS('График ОП'!N8:N24,предметы!$D$4)>0),AND('График ОП'!N8=предметы!$D$14,COUNTIFS('График ОП'!N8:N24,предметы!$D$5)>0),AND('График ОП'!N8=предметы!$D$5,COUNTIFS('График ОП'!N8:N24,предметы!$D$14)>0),AND('График ОП'!N8=предметы!$D$15,COUNTIFS('График ОП'!N8:N24,предметы!$D$6)>0),AND('График ОП'!N8=предметы!$D$6,COUNTIFS('График ОП'!N8:N24,предметы!$D$15)>0),AND('График ОП'!N8=предметы!$D$16,COUNTIFS('График ОП'!N8:N24,предметы!$D$7)>0),AND('График ОП'!N8=предметы!$D$7,COUNTIFS('График ОП'!N8:N24,предметы!$D$16)>0),AND('График ОП'!N8=предметы!$D$8,COUNTIFS('График ОП'!N8:N24,предметы!$D$10)>0),AND('График ОП'!N8=предметы!$D$10,COUNTIFS('График ОП'!N8:N24,предметы!$D$8)>0),AND('График ОП'!N8=предметы!$D$9,COUNTIFS('График ОП'!N8:N24,предметы!$D$11)>0),AND('График ОП'!N8=предметы!$D$11,COUNTIFS('График ОП'!N8:N24,предметы!$D$9)>0)),"<17 (ВПР, КР)","*") -> * | W7: =IF(OR(COUNTIFS('График ОП'!O8:O24,'График ОП'!O8)>1,AND('График ОП'!O8=предметы!$D$3,COUNTIFS('График ОП'!O8:O24,предметы!$D$12)>0),AND('График ОП'!O8=предметы!$D$12,COUNTIFS('График ОП'!O8:O24,предметы!$D$3)>0),AND('График ОП'!O8=предметы!$D$4,COUNTIFS('График ОП'!O8:O24,предметы!$D$13)>0),AND('График ОП'!O8=предметы!$D$13,COUNTIFS('График ОП'!O8:O24,предметы!$D$4)>0),AND('График ОП'!O8=предметы!$D$14,COUNTIFS('График ОП'!O8:O24,предметы!$D$5)>0),AND('График ОП'!O8=предметы!$D$5,COUNTIFS('График ОП'!O8:O24,предметы!$D$14)>0),AND('График ОП'!O8=предметы!$D$15,COUNTIFS('График ОП'!O8:O24,предметы!$D$6)>0),AND('График ОП'!O8=предметы!$D$6,COUNTIFS('График ОП'!O8:O24,предметы!$D$15)>0),AND('График ОП'!O8=предметы!$D$16,COUNTIFS('График ОП'!O8:O24,предметы!$D$7)>0),AND('График ОП'!O8=предметы!$D$7,COUNTIFS('График ОП'!O8:O24,предметы!$D$16)>0),AND('График ОП'!O8=предметы!$D$8,COUNTIFS('График ОП'!O8:O24,предметы!$D$10)>0),AND('График ОП'!O8=предметы!$D$10,COUNTIFS('График ОП'!O8:O24,предметы!$D$8)>0),AND('График ОП'!O8=предметы!$D$9,COUNTIFS('График ОП'!O8:O24,предметы!$D$11)>0),AND('График ОП'!O8=предметы!$D$11,COUNTIFS('График ОП'!O8:O24,предметы!$D$9)>0)),"<17 (ВПР, КР)","*") -> * | X7: =IF(OR(COUNTIFS('График ОП'!P8:P24,'График ОП'!P8)>1,AND('График ОП'!P8=предметы!$D$3,COUNTIFS('График ОП'!P8:P24,предметы!$D$12)>0),AND('График ОП'!P8=предметы!$D$12,COUNTIFS('График ОП'!P8:P24,предметы!$D$3)>0),AND('График ОП'!P8=предметы!$D$4,COUNTIFS('График ОП'!P8:P24,предметы!$D$13)>0),AND('График ОП'!P8=предметы!$D$13,COUNTIFS('График ОП'!P8:P24,предметы!$D$4)>0),AND('График ОП'!P8=предметы!$D$14,COUNTIFS('График ОП'!P8:P24,предметы!$D$5)>0),AND('График ОП'!P8=предметы!$D$5,COUNTIFS('График ОП'!P8:P24,предметы!$D$14)>0),AND('График ОП'!P8=предметы!$D$15,COUNTIFS('График ОП'!P8:P24,предметы!$D$6)>0),AND('График ОП'!P8=предметы!$D$6,COUNTIFS('График ОП'!P8:P24,предметы!$D$15)>0),AND('График ОП'!P8=предметы!$D$16,COUNTIFS('График ОП'!P8:P24,предметы!$D$7)>0),AND('График ОП'!P8=предметы!$D$7,COUNTIFS('График ОП'!P8:P24,предметы!$D$16)>0),AND('График ОП'!P8=предметы!$D$8,COUNTIFS('График ОП'!P8:P24,предметы!$D$10)>0),AND('График ОП'!P8=предметы!$D$10,COUNTIFS('График ОП'!P8:P24,предметы!$D$8)>0),AND('График ОП'!P8=предметы!$D$9,COUNTIFS('График ОП'!P8:P24,предметы!$D$11)>0),AND('График ОП'!P8=предметы!$D$11,COUNTIFS('График ОП'!P8:P24,предметы!$D$9)>0)),"<17 (ВПР, КР)","*") -> * | Y7: =IF(OR(COUNTIFS('График ОП'!#REF!,'График ОП'!#REF!)>1,AND('График ОП'!#REF!=предметы!$D$3,COUNTIFS('График ОП'!#REF!,предметы!$D$12)>0),AND('График ОП'!#REF!=предметы!$D$12,COUNTIFS('График ОП'!#REF!,предметы!$D$3)>0),AND('График ОП'!#REF!=предметы!$D$4,COUNTIFS('График ОП'!#REF!,предметы!$D$13)>0),AND('График ОП'!#REF!=предметы!$D$13,COUNTIFS('График ОП'!#REF!,предметы!$D$4)>0),AND('График ОП'!#REF!=предметы!$D$14,COUNTIFS('График ОП'!#REF!,предметы!$D$5)>0),AND('График ОП'!#REF!=предметы!$D$5,COUNTIFS('График ОП'!#REF!,предметы!$D$14)>0),AND('График ОП'!#REF!=предметы!$D$15,COUNTIFS('График ОП'!#REF!,предметы!$D$6)>0),AND('График ОП'!#REF!=предметы!$D$6,COUNTIFS('График ОП'!#REF!,предметы!$D$15)>0),AND('График ОП'!#REF!=предметы!$D$16,COUNTIFS('График ОП'!#REF!,предметы!$D$7)>0),AND('График ОП'!#REF!=предметы!$D$7,COUNTIFS('График ОП'!#REF!,предметы!$D$16)>0),AND('График ОП'!#REF!=предметы!$D$8,COUNTIFS('График ОП'!#REF!,предметы!$D$10)>0),AND('График ОП'!#REF!=предметы!$D$10,COUNTIFS('График ОП'!#REF!,предметы!$D$8)>0),AND('График ОП'!#REF!=предметы!$D$9,COUNTIFS('График ОП'!#REF!,предметы!$D$11)>0),AND('График ОП'!#REF!=предметы!$D$11,COUNTIFS('График ОП'!#REF!,предметы!$D$9)>0)),"<17 (ВПР, КР)","*") -> #REF! | Z7: =IF(OR(COUNTIFS('График ОП'!#REF!,'График ОП'!#REF!)>1,AND('График ОП'!#REF!=предметы!$D$3,COUNTIFS('График ОП'!#REF!,предметы!$D$12)>0),AND('График ОП'!#REF!=предметы!$D$12,COUNTIFS('График ОП'!#REF!,предметы!$D$3)>0),AND('График ОП'!#REF!=предметы!$D$4,COUNTIFS('График ОП'!#REF!,предметы!$D$13)>0),AND('График ОП'!#REF!=предметы!$D$13,COUNTIFS('График ОП'!#REF!,предметы!$D$4)>0),AND('График ОП'!#REF!=предметы!$D$14,COUNTIFS('График ОП'!#REF!,предметы!$D$5)>0),AND('График ОП'!#REF!=предметы!$D$5,COUNTIFS('График ОП'!#REF!,предметы!$D$14)>0),AND('График ОП'!#REF!=предметы!$D$15,COUNTIFS('График ОП'!#REF!,предметы!$D$6)>0),AND('График ОП'!#REF!=предметы!$D$6,COUNTIFS('График ОП'!#REF!,предметы!$D$15)>0),AND('График ОП'!#REF!=предметы!$D$16,COUNTIFS('График ОП'!#REF!,предметы!$D$7)>0),AND('График ОП'!#REF!=предметы!$D$7,COUNTIFS('График ОП'!#REF!,предметы!$D$16)>0),AND('График ОП'!#REF!=предметы!$D$8,COUNTIFS('График ОП'!#REF!,предметы!$D$10)>0),AND('График ОП'!#REF!=предметы!$D$10,COUNTIFS('График ОП'!#REF!,предметы!$D$8)>0),AND('График ОП'!#REF!=предметы!$D$9,COUNTIFS('График ОП'!#REF!,предметы!$D$11)>0),AND('График ОП'!#REF!=предметы!$D$11,COUNTIFS('График ОП'!#REF!,предметы!$D$9)>0)),"<17 (ВПР, КР)","*") -> #REF! | AA7: =IF(OR(COUNTIFS('График ОП'!Q8:Q24,'График ОП'!Q8)>1,AND('График ОП'!Q8=предметы!$E$3,COUNTIFS('График ОП'!Q8:Q24,предметы!$E$12)>0),AND('График ОП'!Q8=предметы!$E$12,COUNTIFS('График ОП'!Q8:Q24,предметы!$E$3)>0),AND('График ОП'!Q8=предметы!$E$4,COUNTIFS('График ОП'!Q8:Q24,предметы!$E$13)>0),AND('График ОП'!Q8=предметы!$E$13,COUNTIFS('График ОП'!Q8:Q24,предметы!$E$4)>0),AND('График ОП'!Q8=предметы!$E$5,COUNTIFS('График ОП'!Q8:Q24,предметы!$E$14)>0),AND('График ОП'!Q8=предметы!$E$14,COUNTIFS('График ОП'!Q8:Q24,предметы!$E$5)>0),AND('График ОП'!Q8=предметы!$E$6,COUNTIFS('График ОП'!Q8:Q24,предметы!$E$15)>0),AND('График ОП'!Q8=предметы!$E$15,COUNTIFS('График ОП'!Q8:Q24,предметы!$E$6)>0),AND('График ОП'!Q8=предметы!$E$7,COUNTIFS('График ОП'!Q8:Q24,предметы!$E$16)>0),AND('График ОП'!Q8=предметы!$E$16,COUNTIFS('График ОП'!Q8:Q24,предметы!$E$7)>0),AND('График ОП'!Q8=предметы!$E$8,COUNTIFS('График ОП'!Q8:Q24,предметы!$E$17)>0),AND('График ОП'!Q8=предметы!$E$17,COUNTIFS('График ОП'!Q8:Q24,предметы!$E$8)>0),AND('График ОП'!Q8=предметы!$E$9,COUNTIFS('График ОП'!Q8:Q24,предметы!$E$18)>0),AND('График ОП'!Q8=предметы!$E$18,COUNTIFS('График ОП'!Q8:Q24,предметы!$E$9)>0),AND('График ОП'!Q8=предметы!$E$10,COUNTIFS('График ОП'!Q8:Q24,предметы!$E$19)>0),AND('График ОП'!Q8=предметы!$E$19,COUNTIFS('График ОП'!Q8:Q24,предметы!$E$10)>0),AND('График ОП'!Q8=предметы!$E$11,COUNTIFS('График ОП'!Q8:Q24,предметы!$E$20)>0),AND('График ОП'!Q8=предметы!$E$20,COUNTIFS('График ОП'!Q8:Q24,предметы!$E$11)>0)),"<17 (ВПР, КР)","*") -> * | AB7: =IF(OR(COUNTIFS('График ОП'!R8:R24,'График ОП'!R8)>1,AND('График ОП'!R8=предметы!$E$3,COUNTIFS('График ОП'!R8:R24,предметы!$E$12)>0),AND('График ОП'!R8=предметы!$E$12,COUNTIFS('График ОП'!R8:R24,предметы!$E$3)>0),AND('График ОП'!R8=предметы!$E$4,COUNTIFS('График ОП'!R8:R24,предметы!$E$13)>0),AND('График ОП'!R8=предметы!$E$13,COUNTIFS('График ОП'!R8:R24,предметы!$E$4)>0),AND('График ОП'!R8=предметы!$E$5,COUNTIFS('График ОП'!R8:R24,предметы!$E$14)>0),AND('График ОП'!R8=предметы!$E$14,COUNTIFS('График ОП'!R8:R24,предметы!$E$5)>0),AND('График ОП'!R8=предметы!$E$6,COUNTIFS('График ОП'!R8:R24,предметы!$E$15)>0),AND('График ОП'!R8=предметы!$E$15,COUNTIFS('График ОП'!R8:R24,предметы!$E$6)>0),AND('График ОП'!R8=предметы!$E$7,COUNTIFS('График ОП'!R8:R24,предметы!$E$16)>0),AND('График ОП'!R8=предметы!$E$16,COUNTIFS('График ОП'!R8:R24,предметы!$E$7)>0),AND('График ОП'!R8=предметы!$E$8,COUNTIFS('График ОП'!R8:R24,предметы!$E$17)>0),AND('График ОП'!R8=предметы!$E$17,COUNTIFS('График ОП'!R8:R24,предметы!$E$8)>0),AND('График ОП'!R8=предметы!$E$9,COUNTIFS('График ОП'!R8:R24,предметы!$E$18)>0),AND('График ОП'!R8=предметы!$E$18,COUNTIFS('График ОП'!R8:R24,предметы!$E$9)>0),AND('График ОП'!R8=предметы!$E$10,COUNTIFS('График ОП'!R8:R24,предметы!$E$19)>0),AND('График ОП'!R8=предметы!$E$19,COUNTIFS('График ОП'!R8:R24,предметы!$E$10)>0),AND('График ОП'!R8=предметы!$E$11,COUNTIFS('График ОП'!R8:R24,предметы!$E$20)>0),AND('График ОП'!R8=предметы!$E$20,COUNTIFS('График ОП'!R8:R24,предметы!$E$11)>0)),"<17 (ВПР, КР)","*") -> * | AC7: =IF(OR(COUNTIFS('График ОП'!S8:S24,'График ОП'!S8)>1,AND('График ОП'!S8=предметы!$E$3,COUNTIFS('График ОП'!S8:S24,предметы!$E$12)>0),AND('График ОП'!S8=предметы!$E$12,COUNTIFS('График ОП'!S8:S24,предметы!$E$3)>0),AND('График ОП'!S8=предметы!$E$4,COUNTIFS('График ОП'!S8:S24,предметы!$E$13)>0),AND('График ОП'!S8=предметы!$E$13,COUNTIFS('График ОП'!S8:S24,предметы!$E$4)>0),AND('График ОП'!S8=предметы!$E$5,COUNTIFS('График ОП'!S8:S24,предметы!$E$14)>0),AND('График ОП'!S8=предметы!$E$14,COUNTIFS('График ОП'!S8:S24,предметы!$E$5)>0),AND('График ОП'!S8=предметы!$E$6,COUNTIFS('График ОП'!S8:S24,предметы!$E$15)>0),AND('График ОП'!S8=предметы!$E$15,COUNTIFS('График ОП'!S8:S24,предметы!$E$6)>0),AND('График ОП'!S8=предметы!$E$7,COUNTIFS('График ОП'!S8:S24,предметы!$E$16)>0),AND('График ОП'!S8=предметы!$E$16,COUNTIFS('График ОП'!S8:S24,предметы!$E$7)>0),AND('График ОП'!S8=предметы!$E$8,COUNTIFS('График ОП'!S8:S24,предметы!$E$17)>0),AND('График ОП'!S8=предметы!$E$17,COUNTIFS('График ОП'!S8:S24,предметы!$E$8)>0),AND('График ОП'!S8=предметы!$E$9,COUNTIFS('График ОП'!S8:S24,предметы!$E$18)>0),AND('График ОП'!S8=предметы!$E$18,COUNTIFS('График ОП'!S8:S24,предметы!$E$9)>0),AND('График ОП'!S8=предметы!$E$10,COUNTIFS('График ОП'!S8:S24,предметы!$E$19)>0),AND('График ОП'!S8=предметы!$E$19,COUNTIFS('График ОП'!S8:S24,предметы!$E$10)>0),AND('График ОП'!S8=предметы!$E$11,COUNTIFS('График ОП'!S8:S24,предметы!$E$20)>0),AND('График ОП'!S8=предметы!$E$20,COUNTIFS('График ОП'!S8:S24,предметы!$E$11)>0)),"<17 (ВПР, КР)","*") -> * | AD7: =IF(OR(COUNTIFS('График ОП'!T8:T24,'График ОП'!T8)>1,AND('График ОП'!T8=предметы!$E$3,COUNTIFS('График ОП'!T8:T24,предметы!$E$12)>0),AND('График ОП'!T8=предметы!$E$12,COUNTIFS('График ОП'!T8:T24,предметы!$E$3)>0),AND('График ОП'!T8=предметы!$E$4,COUNTIFS('График ОП'!T8:T24,предметы!$E$13)>0),AND('График ОП'!T8=предметы!$E$13,COUNTIFS('График ОП'!T8:T24,предметы!$E$4)>0),AND('График ОП'!T8=предметы!$E$5,COUNTIFS('График ОП'!T8:T24,предметы!$E$14)>0),AND('График ОП'!T8=предметы!$E$14,COUNTIFS('График ОП'!T8:T24,предметы!$E$5)>0),AND('График ОП'!T8=предметы!$E$6,COUNTIFS('График ОП'!T8:T24,предметы!$E$15)>0),AND('График ОП'!T8=предметы!$E$15,COUNTIFS('График ОП'!T8:T24,предметы!$E$6)>0),AND('График ОП'!T8=предметы!$E$7,COUNTIFS('График ОП'!T8:T24,предметы!$E$16)>0),AND('График ОП'!T8=предметы!$E$16,COUNTIFS('График ОП'!T8:T24,предметы!$E$7)>0),AND('График ОП'!T8=предметы!$E$8,COUNTIFS('График ОП'!T8:T24,предметы!$E$17)>0),AND('График ОП'!T8=предметы!$E$17,COUNTIFS('График ОП'!T8:T24,предметы!$E$8)>0),AND('График ОП'!T8=предметы!$E$9,COUNTIFS('График ОП'!T8:T24,предметы!$E$18)>0),AND('График ОП'!T8=предметы!$E$18,COUNTIFS('График ОП'!T8:T24,предметы!$E$9)>0),AND('График ОП'!T8=предметы!$E$10,COUNTIFS('График ОП'!T8:T24,предметы!$E$19)>0),AND('График ОП'!T8=предметы!$E$19,COUNTIFS('График ОП'!T8:T24,предметы!$E$10)>0),AND('График ОП'!T8=предметы!$E$11,COUNTIFS('График ОП'!T8:T24,предметы!$E$20)>0),AND('График ОП'!T8=предметы!$E$20,COUNTIFS('График ОП'!T8:T24,предметы!$E$11)>0)),"<17 (ВПР, КР)","*") -> * | AE7: =IF(OR(COUNTIFS('График ОП'!#REF!,'График ОП'!#REF!)>1,AND('График ОП'!#REF!=предметы!$E$3,COUNTIFS('График ОП'!#REF!,предметы!$E$12)>0),AND('График ОП'!#REF!=предметы!$E$12,COUNTIFS('График ОП'!#REF!,предметы!$E$3)>0),AND('График ОП'!#REF!=предметы!$E$4,COUNTIFS('График ОП'!#REF!,предметы!$E$13)>0),AND('График ОП'!#REF!=предметы!$E$13,COUNTIFS('График ОП'!#REF!,предметы!$E$4)>0),AND('График ОП'!#REF!=предметы!$E$5,COUNTIFS('График ОП'!#REF!,предметы!$E$14)>0),AND('График ОП'!#REF!=предметы!$E$14,COUNTIFS('График ОП'!#REF!,предметы!$E$5)>0),AND('График ОП'!#REF!=предметы!$E$6,COUNTIFS('График ОП'!#REF!,предметы!$E$15)>0),AND('График ОП'!#REF!=предметы!$E$15,COUNTIFS('График ОП'!#REF!,предметы!$E$6)>0),AND('График ОП'!#REF!=предметы!$E$7,COUNTIFS('График ОП'!#REF!,предметы!$E$16)>0),AND('График ОП'!#REF!=предметы!$E$16,COUNTIFS('График ОП'!#REF!,предметы!$E$7)>0),AND('График ОП'!#REF!=предметы!$E$8,COUNTIFS('График ОП'!#REF!,предметы!$E$17)>0),AND('График ОП'!#REF!=предметы!$E$17,COUNTIFS('График ОП'!#REF!,предметы!$E$8)>0),AND('График ОП'!#REF!=предметы!$E$9,COUNTIFS('График ОП'!#REF!,предметы!$E$18)>0),AND('График ОП'!#REF!=предметы!$E$18,COUNTIFS('График ОП'!#REF!,предметы!$E$9)>0),AND('График ОП'!#REF!=предметы!$E$10,COUNTIFS('График ОП'!#REF!,предметы!$E$19)>0),AND('График ОП'!#REF!=предметы!$E$19,COUNTIFS('График ОП'!#REF!,предметы!$E$10)>0),AND('График ОП'!#REF!=предметы!$E$11,COUNTIFS('График ОП'!#REF!,предметы!$E$20)>0),AND('График ОП'!#REF!=предметы!$E$20,COUNTIFS('График ОП'!#REF!,предметы!$E$11)>0)),"<17 (ВПР, КР)","*") -> #REF! | AF7: =IF(OR(COUNTIFS('График ОП'!#REF!,'График ОП'!#REF!)>1,AND('График ОП'!#REF!=предметы!$E$3,COUNTIFS('График ОП'!#REF!,предметы!$E$12)>0),AND('График ОП'!#REF!=предметы!$E$12,COUNTIFS('График ОП'!#REF!,предметы!$E$3)>0),AND('График ОП'!#REF!=предметы!$E$4,COUNTIFS('График ОП'!#REF!,предметы!$E$13)>0),AND('График ОП'!#REF!=предметы!$E$13,COUNTIFS('График ОП'!#REF!,предметы!$E$4)>0),AND('График ОП'!#REF!=предметы!$E$5,COUNTIFS('График ОП'!#REF!,предметы!$E$14)>0),AND('График ОП'!#REF!=предметы!$E$14,COUNTIFS('График ОП'!#REF!,предметы!$E$5)>0),AND('График ОП'!#REF!=предметы!$E$6,COUNTIFS('График ОП'!#REF!,предметы!$E$15)>0),AND('График ОП'!#REF!=предметы!$E$15,COUNTIFS('График ОП'!#REF!,предметы!$E$6)>0),AND('График ОП'!#REF!=предметы!$E$7,COUNTIFS('График ОП'!#REF!,предметы!$E$16)>0),AND('График ОП'!#REF!=предметы!$E$16,COUNTIFS('График ОП'!#REF!,предметы!$E$7)>0),AND('График ОП'!#REF!=предметы!$E$8,COUNTIFS('График ОП'!#REF!,предметы!$E$17)>0),AND('График ОП'!#REF!=предметы!$E$17,COUNTIFS('График ОП'!#REF!,предметы!$E$8)>0),AND('График ОП'!#REF!=предметы!$E$9,COUNTIFS('График ОП'!#REF!,предметы!$E$18)>0),AND('График ОП'!#REF!=предметы!$E$18,COUNTIFS('График ОП'!#REF!,предметы!$E$9)>0),AND('График ОП'!#REF!=предметы!$E$10,COUNTIFS('График ОП'!#REF!,предметы!$E$19)>0),AND('График ОП'!#REF!=предметы!$E$19,COUNTIFS('График ОП'!#REF!,предметы!$E$10)>0),AND('График ОП'!#REF!=предметы!$E$11,COUNTIFS('График ОП'!#REF!,предметы!$E$20)>0),AND('График ОП'!#REF!=предметы!$E$20,COUNTIFS('График ОП'!#REF!,предметы!$E$11)>0)),"<17 (ВПР, КР)","*") -> #REF! | AG7: =IF(OR(COUNTIFS('График ОП'!U8:U24,'График ОП'!U8)>1,AND('График ОП'!U8=предметы!$F$3,COUNTIFS('График ОП'!U8:U24,предметы!$F$13)>0),AND('График ОП'!U8=предметы!$F$13,COUNTIFS('График ОП'!U8:U24,предметы!$F$3)>0),AND('График ОП'!U8=предметы!$F$4,COUNTIFS('График ОП'!U8:U24,предметы!$F$14)>0),AND('График ОП'!U8=предметы!$F$14,COUNTIFS('График ОП'!U8:U24,предметы!$F$4)>0),AND('График ОП'!U8=предметы!$F$5,COUNTIFS('График ОП'!U8:U24,предметы!$F$15)>0),AND('График ОП'!U8=предметы!$F$15,COUNTIFS('График ОП'!U8:U24,предметы!$F$5)>0),AND('График ОП'!U8=предметы!$F$6,COUNTIFS('График ОП'!U8:U24,предметы!$F$16)>0),AND('График ОП'!U8=предметы!$F$16,COUNTIFS('График ОП'!U8:U24,предметы!$F$6)>0),AND('График ОП'!U8=предметы!$F$7,COUNTIFS('График ОП'!U8:U24,предметы!$F$17)>0),AND('График ОП'!U8=предметы!$F$17,COUNTIFS('График ОП'!U8:U24,предметы!$F$7)>0),AND('График ОП'!U8=предметы!$F$8,COUNTIFS('График ОП'!U8:U24,предметы!$F$18)>0),AND('График ОП'!U8=предметы!$F$18,COUNTIFS('График ОП'!U8:U24,предметы!$F$8)>0),AND('График ОП'!U8=предметы!$F$9,COUNTIFS('График ОП'!U8:U24,предметы!$F$19)>0),AND('График ОП'!U8=предметы!$F$19,COUNTIFS('График ОП'!U8:U24,предметы!$F$9)>0),AND('График ОП'!U8=предметы!$F$10,COUNTIFS('График ОП'!U8:U24,предметы!$F$20)>0),AND('График ОП'!U8=предметы!$F$20,COUNTIFS('График ОП'!U8:U24,предметы!$F$10)>0),AND('График ОП'!U8=предметы!$F$11,COUNTIFS('График ОП'!U8:U24,предметы!$F$21)>0),AND('График ОП'!U8=предметы!$F$21,COUNTIFS('График ОП'!U8:U24,предметы!$F$11)>0),AND('График ОП'!U8=предметы!$F$12,COUNTIFS('График ОП'!U8:U24,предметы!$F$22)>0),AND('График ОП'!U8=предметы!$F$22,COUNTIFS('График ОП'!U8:U24,предметы!$F$12)>0)),"<17 (ВПР, КР)","*") -> * | AH7: =IF(OR(COUNTIFS('График ОП'!V8:V24,'График ОП'!V8)>1,AND('График ОП'!V8=предметы!$F$3,COUNTIFS('График ОП'!V8:V24,предметы!$F$13)>0),AND('График ОП'!V8=предметы!$F$13,COUNTIFS('График ОП'!V8:V24,предметы!$F$3)>0),AND('График ОП'!V8=предметы!$F$4,COUNTIFS('График ОП'!V8:V24,предметы!$F$14)>0),AND('График ОП'!V8=предметы!$F$14,COUNTIFS('График ОП'!V8:V24,предметы!$F$4)>0),AND('График ОП'!V8=предметы!$F$5,COUNTIFS('График ОП'!V8:V24,предметы!$F$15)>0),AND('График ОП'!V8=предметы!$F$15,COUNTIFS('График ОП'!V8:V24,предметы!$F$5)>0),AND('График ОП'!V8=предметы!$F$6,COUNTIFS('График ОП'!V8:V24,предметы!$F$16)>0),AND('График ОП'!V8=предметы!$F$16,COUNTIFS('График ОП'!V8:V24,предметы!$F$6)>0),AND('График ОП'!V8=предметы!$F$7,COUNTIFS('График ОП'!V8:V24,предметы!$F$17)>0),AND('График ОП'!V8=предметы!$F$17,COUNTIFS('График ОП'!V8:V24,предметы!$F$7)>0),AND('График ОП'!V8=предметы!$F$8,COUNTIFS('График ОП'!V8:V24,предметы!$F$18)>0),AND('График ОП'!V8=предметы!$F$18,COUNTIFS('График ОП'!V8:V24,предметы!$F$8)>0),AND('График ОП'!V8=предметы!$F$9,COUNTIFS('График ОП'!V8:V24,предметы!$F$19)>0),AND('График ОП'!V8=предметы!$F$19,COUNTIFS('График ОП'!V8:V24,предметы!$F$9)>0),AND('График ОП'!V8=предметы!$F$10,COUNTIFS('График ОП'!V8:V24,предметы!$F$20)>0),AND('График ОП'!V8=предметы!$F$20,COUNTIFS('График ОП'!V8:V24,предметы!$F$10)>0),AND('График ОП'!V8=предметы!$F$11,COUNTIFS('График ОП'!V8:V24,предметы!$F$21)>0),AND('График ОП'!V8=предметы!$F$21,COUNTIFS('График ОП'!V8:V24,предметы!$F$11)>0),AND('График ОП'!V8=предметы!$F$12,COUNTIFS('График ОП'!V8:V24,предметы!$F$22)>0),AND('График ОП'!V8=предметы!$F$22,COUNTIFS('График ОП'!V8:V24,предметы!$F$12)>0)),"<17 (ВПР, КР)","*") -> * | AI7: =IF(OR(COUNTIFS('График ОП'!W8:W24,'График ОП'!W8)>1,AND('График ОП'!W8=предметы!$F$3,COUNTIFS('График ОП'!W8:W24,предметы!$F$13)>0),AND('График ОП'!W8=предметы!$F$13,COUNTIFS('График ОП'!W8:W24,предметы!$F$3)>0),AND('График ОП'!W8=предметы!$F$4,COUNTIFS('График ОП'!W8:W24,предметы!$F$14)>0),AND('График ОП'!W8=предметы!$F$14,COUNTIFS('График ОП'!W8:W24,предметы!$F$4)>0),AND('График ОП'!W8=предметы!$F$5,COUNTIFS('График ОП'!W8:W24,предметы!$F$15)>0),AND('График ОП'!W8=предметы!$F$15,COUNTIFS('График ОП'!W8:W24,предметы!$F$5)>0),AND('График ОП'!W8=предметы!$F$6,COUNTIFS('График ОП'!W8:W24,предметы!$F$16)>0),AND('График ОП'!W8=предметы!$F$16,COUNTIFS('График ОП'!W8:W24,предметы!$F$6)>0),AND('График ОП'!W8=предметы!$F$7,COUNTIFS('График ОП'!W8:W24,предметы!$F$17)>0),AND('График ОП'!W8=предметы!$F$17,COUNTIFS('График ОП'!W8:W24,предметы!$F$7)>0),AND('График ОП'!W8=предметы!$F$8,COUNTIFS('График ОП'!W8:W24,предметы!$F$18)>0),AND('График ОП'!W8=предметы!$F$18,COUNTIFS('График ОП'!W8:W24,предметы!$F$8)>0),AND('График ОП'!W8=предметы!$F$9,COUNTIFS('График ОП'!W8:W24,предметы!$F$19)>0),AND('График ОП'!W8=предметы!$F$19,COUNTIFS('График ОП'!W8:W24,предметы!$F$9)>0),AND('График ОП'!W8=предметы!$F$10,COUNTIFS('График ОП'!W8:W24,предметы!$F$20)>0),AND('График ОП'!W8=предметы!$F$20,COUNTIFS('График ОП'!W8:W24,предметы!$F$10)>0),AND('График ОП'!W8=предметы!$F$11,COUNTIFS('График ОП'!W8:W24,предметы!$F$21)>0),AND('График ОП'!W8=предметы!$F$21,COUNTIFS('График ОП'!W8:W24,предметы!$F$11)>0),AND('График ОП'!W8=предметы!$F$12,COUNTIFS('График ОП'!W8:W24,предметы!$F$22)>0),AND('График ОП'!W8=предметы!$F$22,COUNTIFS('График ОП'!W8:W24,предметы!$F$12)>0)),"<17 (ВПР, КР)","*") -> * | AJ7: =IF(OR(COUNTIFS('График ОП'!X8:X24,'График ОП'!X8)>1,AND('График ОП'!X8=предметы!$F$3,COUNTIFS('График ОП'!X8:X24,предметы!$F$13)>0),AND('График ОП'!X8=предметы!$F$13,COUNTIFS('График ОП'!X8:X24,предметы!$F$3)>0),AND('График ОП'!X8=предметы!$F$4,COUNTIFS('График ОП'!X8:X24,предметы!$F$14)>0),AND('График ОП'!X8=предметы!$F$14,COUNTIFS('График ОП'!X8:X24,предметы!$F$4)>0),AND('График ОП'!X8=предметы!$F$5,COUNTIFS('График ОП'!X8:X24,предметы!$F$15)>0),AND('График ОП'!X8=предметы!$F$15,COUNTIFS('График ОП'!X8:X24,предметы!$F$5)>0),AND('График ОП'!X8=предметы!$F$6,COUNTIFS('График ОП'!X8:X24,предметы!$F$16)>0),AND('График ОП'!X8=предметы!$F$16,COUNTIFS('График ОП'!X8:X24,предметы!$F$6)>0),AND('График ОП'!X8=предметы!$F$7,COUNTIFS('График ОП'!X8:X24,предметы!$F$17)>0),AND('График ОП'!X8=предметы!$F$17,COUNTIFS('График ОП'!X8:X24,предметы!$F$7)>0),AND('График ОП'!X8=предметы!$F$8,COUNTIFS('График ОП'!X8:X24,предметы!$F$18)>0),AND('График ОП'!X8=предметы!$F$18,COUNTIFS('График ОП'!X8:X24,предметы!$F$8)>0),AND('График ОП'!X8=предметы!$F$9,COUNTIFS('График ОП'!X8:X24,предметы!$F$19)>0),AND('График ОП'!X8=предметы!$F$19,COUNTIFS('График ОП'!X8:X24,предметы!$F$9)>0),AND('График ОП'!X8=предметы!$F$10,COUNTIFS('График ОП'!X8:X24,предметы!$F$20)>0),AND('График ОП'!X8=предметы!$F$20,COUNTIFS('График ОП'!X8:X24,предметы!$F$10)>0),AND('График ОП'!X8=предметы!$F$11,COUNTIFS('График ОП'!X8:X24,предметы!$F$21)>0),AND('График ОП'!X8=предметы!$F$21,COUNTIFS('График ОП'!X8:X24,предметы!$F$11)>0),AND('График ОП'!X8=предметы!$F$12,COUNTIFS('График ОП'!X8:X24,предметы!$F$22)>0),AND('График ОП'!X8=предметы!$F$22,COUNTIFS('График ОП'!X8:X24,предметы!$F$12)>0)),"<17 (ВПР, КР)","*") -> * | AK7: =IF(OR(COUNTIFS('График ОП'!#REF!,'График ОП'!#REF!)>1,AND('График ОП'!#REF!=предметы!$F$3,COUNTIFS('График ОП'!#REF!,предметы!$F$13)>0),AND('График ОП'!#REF!=предметы!$F$13,COUNTIFS('График ОП'!#REF!,предметы!$F$3)>0),AND('График ОП'!#REF!=предметы!$F$4,COUNTIFS('График ОП'!#REF!,предметы!$F$14)>0),AND('График ОП'!#REF!=предметы!$F$14,COUNTIFS('График ОП'!#REF!,предметы!$F$4)>0),AND('График ОП'!#REF!=предметы!$F$5,COUNTIFS('График ОП'!#REF!,предметы!$F$15)>0),AND('График ОП'!#REF!=предметы!$F$15,COUNTIFS('График ОП'!#REF!,предметы!$F$5)>0),AND('График ОП'!#REF!=предметы!$F$6,COUNTIFS('График ОП'!#REF!,предметы!$F$16)>0),AND('График ОП'!#REF!=предметы!$F$16,COUNTIFS('График ОП'!#REF!,предметы!$F$6)>0),AND('График ОП'!#REF!=предметы!$F$7,COUNTIFS('График ОП'!#REF!,предметы!$F$17)>0),AND('График ОП'!#REF!=предметы!$F$17,COUNTIFS('График ОП'!#REF!,предметы!$F$7)>0),AND('График ОП'!#REF!=предметы!$F$8,COUNTIFS('График ОП'!#REF!,предметы!$F$18)>0),AND('График ОП'!#REF!=предметы!$F$18,COUNTIFS('График ОП'!#REF!,предметы!$F$8)>0),AND('График ОП'!#REF!=предметы!$F$9,COUNTIFS('График ОП'!#REF!,предметы!$F$19)>0),AND('График ОП'!#REF!=предметы!$F$19,COUNTIFS('График ОП'!#REF!,предметы!$F$9)>0),AND('График ОП'!#REF!=предметы!$F$10,COUNTIFS('График ОП'!#REF!,предметы!$F$20)>0),AND('График ОП'!#REF!=предметы!$F$20,COUNTIFS('График ОП'!#REF!,предметы!$F$10)>0),AND('График ОП'!#REF!=предметы!$F$11,COUNTIFS('График ОП'!#REF!,предметы!$F$21)>0),AND('График ОП'!#REF!=предметы!$F$21,COUNTIFS('График ОП'!#REF!,предметы!$F$11)>0),AND('График ОП'!#REF!=предметы!$F$12,COUNTIFS('График ОП'!#REF!,предметы!$F$22)>0),AND('График ОП'!#REF!=предметы!$F$22,COUNTIFS('График ОП'!#REF!,предметы!$F$12)>0)),"<17 (ВПР, КР)","*") -> #REF! | AL7: =IF(OR(COUNTIFS('График ОП'!#REF!,'График ОП'!#REF!)>1,AND('График ОП'!#REF!=предметы!$F$3,COUNTIFS('График ОП'!#REF!,предметы!$F$13)>0),AND('График ОП'!#REF!=предметы!$F$13,COUNTIFS('График ОП'!#REF!,предметы!$F$3)>0),AND('График ОП'!#REF!=предметы!$F$4,COUNTIFS('График ОП'!#REF!,предметы!$F$14)>0),AND('График ОП'!#REF!=предметы!$F$14,COUNTIFS('График ОП'!#REF!,предметы!$F$4)>0),AND('График ОП'!#REF!=предметы!$F$5,COUNTIFS('График ОП'!#REF!,предметы!$F$15)>0),AND('График ОП'!#REF!=предметы!$F$15,COUNTIFS('График ОП'!#REF!,предметы!$F$5)>0),AND('График ОП'!#REF!=предметы!$F$6,COUNTIFS('График ОП'!#REF!,предметы!$F$16)>0),AND('График ОП'!#REF!=предметы!$F$16,COUNTIFS('График ОП'!#REF!,предметы!$F$6)>0),AND('График ОП'!#REF!=предметы!$F$7,COUNTIFS('График ОП'!#REF!,предметы!$F$17)>0),AND('График ОП'!#REF!=предметы!$F$17,COUNTIFS('График ОП'!#REF!,предметы!$F$7)>0),AND('График ОП'!#REF!=предметы!$F$8,COUNTIFS('График ОП'!#REF!,предметы!$F$18)>0),AND('График ОП'!#REF!=предметы!$F$18,COUNTIFS('График ОП'!#REF!,предметы!$F$8)>0),AND('График ОП'!#REF!=предметы!$F$9,COUNTIFS('График ОП'!#REF!,предметы!$F$19)>0),AND('График ОП'!#REF!=предметы!$F$19,COUNTIFS('График ОП'!#REF!,предметы!$F$9)>0),AND('График ОП'!#REF!=предметы!$F$10,COUNTIFS('График ОП'!#REF!,предметы!$F$20)>0),AND('График ОП'!#REF!=предметы!$F$20,COUNTIFS('График ОП'!#REF!,предметы!$F$10)>0),AND('График ОП'!#REF!=предметы!$F$11,COUNTIFS('График ОП'!#REF!,предметы!$F$21)>0),AND('График ОП'!#REF!=предметы!$F$21,COUNTIFS('График ОП'!#REF!,предметы!$F$11)>0),AND('График ОП'!#REF!=предметы!$F$12,COUNTIFS('График ОП'!#REF!,предметы!$F$22)>0),AND('График ОП'!#REF!=предметы!$F$22,COUNTIFS('График ОП'!#REF!,предметы!$F$12)>0)),"<17 (ВПР, КР)","*") -> #REF! | AM7: =IF(OR(COUNTIFS('График ОП'!Y8:Y24,'График ОП'!Y8)>1,AND('График ОП'!Y8=предметы!$G$3,COUNTIFS('График ОП'!Y8:Y24,предметы!$G$15)>0),AND('График ОП'!Y8=предметы!$G$15,COUNTIFS('График ОП'!Y8:Y24,предметы!$G$3)>0),AND('График ОП'!Y8=предметы!$G$4,COUNTIFS('График ОП'!Y8:Y24,предметы!$G$18)>0),AND('График ОП'!Y8=предметы!$G$18,COUNTIFS('График ОП'!Y8:Y24,предметы!$G$4)>0),AND('График ОП'!Y8=предметы!$G$5,COUNTIFS('График ОП'!Y8:Y24,предметы!$G$19)>0),AND('График ОП'!Y8=предметы!$G$19,COUNTIFS('График ОП'!Y8:Y24,предметы!$G$5)>0),AND('График ОП'!Y8=предметы!$G$6,COUNTIFS('График ОП'!Y8:Y24,предметы!$G$20)>0),AND('График ОП'!Y8=предметы!$G$20,COUNTIFS('График ОП'!Y8:Y24,предметы!$G$6)>0),AND('График ОП'!Y8=предметы!$G$7,COUNTIFS('График ОП'!Y8:Y24,предметы!$G$21)>0),AND('График ОП'!Y8=предметы!$G$21,COUNTIFS('График ОП'!Y8:Y24,предметы!$G$7)>0),AND('График ОП'!Y8=предметы!$G$8,COUNTIFS('График ОП'!Y8:Y24,предметы!$G$22)>0),AND('График ОП'!Y8=предметы!$G$22,COUNTIFS('График ОП'!Y8:Y24,предметы!$G$8)>0),AND('График ОП'!Y8=предметы!$G$9,COUNTIFS('График ОП'!Y8:Y24,предметы!$G$23)>0),AND('График ОП'!Y8=предметы!$G$23,COUNTIFS('График ОП'!Y8:Y24,предметы!$G$9)>0),AND('График ОП'!Y8=предметы!$G$10,COUNTIFS('График ОП'!Y8:Y24,предметы!$G$24)>0),AND('График ОП'!Y8=предметы!$G$24,COUNTIFS('График ОП'!Y8:Y24,предметы!$G$10)>0),AND('График ОП'!Y8=предметы!$G$11,COUNTIFS('График ОП'!Y8:Y24,предметы!$G$25)>0),AND('График ОП'!Y8=предметы!$G$25,COUNTIFS('График ОП'!Y8:Y24,предметы!$G$11)>0),AND('График ОП'!Y8=предметы!$G$12,COUNTIFS('График ОП'!Y8:Y24,предметы!$G$26)>0),AND('График ОП'!Y8=предметы!$G$26,COUNTIFS('График ОП'!Y8:Y24,предметы!$G$12)>0),AND('График ОП'!Y8=предметы!$G$13,COUNTIFS('График ОП'!Y8:Y24,предметы!$G$27)>0),AND('График ОП'!Y8=предметы!$G$27,COUNTIFS('График ОП'!Y8:Y24,предметы!$G$13)>0),AND('График ОП'!Y8=предметы!$G$14,COUNTIFS('График ОП'!Y8:Y24,предметы!$G$28)>0),AND('График ОП'!Y8=предметы!$G$28,COUNTIFS('График ОП'!Y8:Y24,предметы!$G$14)>0)),"<17 (ВПР, КР)","*") -> * | AN7: =IF(OR(COUNTIFS('График ОП'!Z8:Z24,'График ОП'!Z8)>1,AND('График ОП'!Z8=предметы!$G$3,COUNTIFS('График ОП'!Z8:Z24,предметы!$G$15)>0),AND('График ОП'!Z8=предметы!$G$15,COUNTIFS('График ОП'!Z8:Z24,предметы!$G$3)>0),AND('График ОП'!Z8=предметы!$G$4,COUNTIFS('График ОП'!Z8:Z24,предметы!$G$18)>0),AND('График ОП'!Z8=предметы!$G$18,COUNTIFS('График ОП'!Z8:Z24,предметы!$G$4)>0),AND('График ОП'!Z8=предметы!$G$5,COUNTIFS('График ОП'!Z8:Z24,предметы!$G$19)>0),AND('График ОП'!Z8=предметы!$G$19,COUNTIFS('График ОП'!Z8:Z24,предметы!$G$5)>0),AND('График ОП'!Z8=предметы!$G$6,COUNTIFS('График ОП'!Z8:Z24,предметы!$G$20)>0),AND('График ОП'!Z8=предметы!$G$20,COUNTIFS('График ОП'!Z8:Z24,предметы!$G$6)>0),AND('График ОП'!Z8=предметы!$G$7,COUNTIFS('График ОП'!Z8:Z24,предметы!$G$21)>0),AND('График ОП'!Z8=предметы!$G$21,COUNTIFS('График ОП'!Z8:Z24,предметы!$G$7)>0),AND('График ОП'!Z8=предметы!$G$8,COUNTIFS('График ОП'!Z8:Z24,предметы!$G$22)>0),AND('График ОП'!Z8=предметы!$G$22,COUNTIFS('График ОП'!Z8:Z24,предметы!$G$8)>0),AND('График ОП'!Z8=предметы!$G$9,COUNTIFS('График ОП'!Z8:Z24,предметы!$G$23)>0),AND('График ОП'!Z8=предметы!$G$23,COUNTIFS('График ОП'!Z8:Z24,предметы!$G$9)>0),AND('График ОП'!Z8=предметы!$G$10,COUNTIFS('График ОП'!Z8:Z24,предметы!$G$24)>0),AND('График ОП'!Z8=предметы!$G$24,COUNTIFS('График ОП'!Z8:Z24,предметы!$G$10)>0),AND('График ОП'!Z8=предметы!$G$11,COUNTIFS('График ОП'!Z8:Z24,предметы!$G$25)>0),AND('График ОП'!Z8=предметы!$G$25,COUNTIFS('График ОП'!Z8:Z24,предметы!$G$11)>0),AND('График ОП'!Z8=предметы!$G$12,COUNTIFS('График ОП'!Z8:Z24,предметы!$G$26)>0),AND('График ОП'!Z8=предметы!$G$26,COUNTIFS('График ОП'!Z8:Z24,предметы!$G$12)>0),AND('График ОП'!Z8=предметы!$G$13,COUNTIFS('График ОП'!Z8:Z24,предметы!$G$27)>0),AND('График ОП'!Z8=предметы!$G$27,COUNTIFS('График ОП'!Z8:Z24,предметы!$G$13)>0),AND('График ОП'!Z8=предметы!$G$14,COUNTIFS('График ОП'!Z8:Z24,предметы!$G$28)>0),AND('График ОП'!Z8=предметы!$G$28,COUNTIFS('График ОП'!Z8:Z24,предметы!$G$14)>0)),"<17 (ВПР, КР)","*") -> * | AO7: =IF(OR(COUNTIFS('График ОП'!AA8:AA24,'График ОП'!AA8)>1,AND('График ОП'!AA8=предметы!$G$3,COUNTIFS('График ОП'!AA8:AA24,предметы!$G$15)>0),AND('График ОП'!AA8=предметы!$G$15,COUNTIFS('График ОП'!AA8:AA24,предметы!$G$3)>0),AND('График ОП'!AA8=предметы!$G$4,COUNTIFS('График ОП'!AA8:AA24,предметы!$G$18)>0),AND('График ОП'!AA8=предметы!$G$18,COUNTIFS('График ОП'!AA8:AA24,предметы!$G$4)>0),AND('График ОП'!AA8=предметы!$G$5,COUNTIFS('График ОП'!AA8:AA24,предметы!$G$19)>0),AND('График ОП'!AA8=предметы!$G$19,COUNTIFS('График ОП'!AA8:AA24,предметы!$G$5)>0),AND('График ОП'!AA8=предметы!$G$6,COUNTIFS('График ОП'!AA8:AA24,предметы!$G$20)>0),AND('График ОП'!AA8=предметы!$G$20,COUNTIFS('График ОП'!AA8:AA24,предметы!$G$6)>0),AND('График ОП'!AA8=предметы!$G$7,COUNTIFS('График ОП'!AA8:AA24,предметы!$G$21)>0),AND('График ОП'!AA8=предметы!$G$21,COUNTIFS('График ОП'!AA8:AA24,предметы!$G$7)>0),AND('График ОП'!AA8=предметы!$G$8,COUNTIFS('График ОП'!AA8:AA24,предметы!$G$22)>0),AND('График ОП'!AA8=предметы!$G$22,COUNTIFS('График ОП'!AA8:AA24,предметы!$G$8)>0),AND('График ОП'!AA8=предметы!$G$9,COUNTIFS('График ОП'!AA8:AA24,предметы!$G$23)>0),AND('График ОП'!AA8=предметы!$G$23,COUNTIFS('График ОП'!AA8:AA24,предметы!$G$9)>0),AND('График ОП'!AA8=предметы!$G$10,COUNTIFS('График ОП'!AA8:AA24,предметы!$G$24)>0),AND('График ОП'!AA8=предметы!$G$24,COUNTIFS('График ОП'!AA8:AA24,предметы!$G$10)>0),AND('График ОП'!AA8=предметы!$G$11,COUNTIFS('График ОП'!AA8:AA24,предметы!$G$25)>0),AND('График ОП'!AA8=предметы!$G$25,COUNTIFS('График ОП'!AA8:AA24,предметы!$G$11)>0),AND('График ОП'!AA8=предметы!$G$12,COUNTIFS('График ОП'!AA8:AA24,предметы!$G$26)>0),AND('График ОП'!AA8=предметы!$G$26,COUNTIFS('График ОП'!AA8:AA24,предметы!$G$12)>0),AND('График ОП'!AA8=предметы!$G$13,COUNTIFS('График ОП'!AA8:AA24,предметы!$G$27)>0),AND('График ОП'!AA8=предметы!$G$27,COUNTIFS('График ОП'!AA8:AA24,предметы!$G$13)>0),AND('График ОП'!AA8=предметы!$G$14,COUNTIFS('График ОП'!AA8:AA24,предметы!$G$28)>0),AND('График ОП'!AA8=предметы!$G$28,COUNTIFS('График ОП'!AA8:AA24,предметы!$G$14)>0)),"<17 (ВПР, КР)","*") -> * | AP7: =IF(OR(COUNTIFS('График ОП'!#REF!,'График ОП'!#REF!)>1,AND('График ОП'!#REF!=предметы!$G$3,COUNTIFS('График ОП'!#REF!,предметы!$G$15)>0),AND('График ОП'!#REF!=предметы!$G$15,COUNTIFS('График ОП'!#REF!,предметы!$G$3)>0),AND('График ОП'!#REF!=предметы!$G$4,COUNTIFS('График ОП'!#REF!,предметы!$G$18)>0),AND('График ОП'!#REF!=предметы!$G$18,COUNTIFS('График ОП'!#REF!,предметы!$G$4)>0),AND('График ОП'!#REF!=предметы!$G$5,COUNTIFS('График ОП'!#REF!,предметы!$G$19)>0),AND('График ОП'!#REF!=предметы!$G$19,COUNTIFS('График ОП'!#REF!,предметы!$G$5)>0),AND('График ОП'!#REF!=предметы!$G$6,COUNTIFS('График ОП'!#REF!,предметы!$G$20)>0),AND('График ОП'!#REF!=предметы!$G$20,COUNTIFS('График ОП'!#REF!,предметы!$G$6)>0),AND('График ОП'!#REF!=предметы!$G$7,COUNTIFS('График ОП'!#REF!,предметы!$G$21)>0),AND('График ОП'!#REF!=предметы!$G$21,COUNTIFS('График ОП'!#REF!,предметы!$G$7)>0),AND('График ОП'!#REF!=предметы!$G$8,COUNTIFS('График ОП'!#REF!,предметы!$G$22)>0),AND('График ОП'!#REF!=предметы!$G$22,COUNTIFS('График ОП'!#REF!,предметы!$G$8)>0),AND('График ОП'!#REF!=предметы!$G$9,COUNTIFS('График ОП'!#REF!,предметы!$G$23)>0),AND('График ОП'!#REF!=предметы!$G$23,COUNTIFS('График ОП'!#REF!,предметы!$G$9)>0),AND('График ОП'!#REF!=предметы!$G$10,COUNTIFS('График ОП'!#REF!,предметы!$G$24)>0),AND('График ОП'!#REF!=предметы!$G$24,COUNTIFS('График ОП'!#REF!,предметы!$G$10)>0),AND('График ОП'!#REF!=предметы!$G$11,COUNTIFS('График ОП'!#REF!,предметы!$G$25)>0),AND('График ОП'!#REF!=предметы!$G$25,COUNTIFS('График ОП'!#REF!,предметы!$G$11)>0),AND('График ОП'!#REF!=предметы!$G$12,COUNTIFS('График ОП'!#REF!,предметы!$G$26)>0),AND('График ОП'!#REF!=предметы!$G$26,COUNTIFS('График ОП'!#REF!,предметы!$G$12)>0),AND('График ОП'!#REF!=предметы!$G$13,COUNTIFS('График ОП'!#REF!,предметы!$G$27)>0),AND('График ОП'!#REF!=предметы!$G$27,COUNTIFS('График ОП'!#REF!,предметы!$G$13)>0),AND('График ОП'!#REF!=предметы!$G$14,COUNTIFS('График ОП'!#REF!,предметы!$G$28)>0),AND('График ОП'!#REF!=предметы!$G$28,COUNTIFS('График ОП'!#REF!,предметы!$G$14)>0)),"<17 (ВПР, КР)","*") -> #REF! | AQ7: =IF(OR(COUNTIFS('График ОП'!#REF!,'График ОП'!#REF!)>1,AND('График ОП'!#REF!=предметы!$G$3,COUNTIFS('График ОП'!#REF!,предметы!$G$15)>0),AND('График ОП'!#REF!=предметы!$G$15,COUNTIFS('График ОП'!#REF!,предметы!$G$3)>0),AND('График ОП'!#REF!=предметы!$G$4,COUNTIFS('График ОП'!#REF!,предметы!$G$18)>0),AND('График ОП'!#REF!=предметы!$G$18,COUNTIFS('График ОП'!#REF!,предметы!$G$4)>0),AND('График ОП'!#REF!=предметы!$G$5,COUNTIFS('График ОП'!#REF!,предметы!$G$19)>0),AND('График ОП'!#REF!=предметы!$G$19,COUNTIFS('График ОП'!#REF!,предметы!$G$5)>0),AND('График ОП'!#REF!=предметы!$G$6,COUNTIFS('График ОП'!#REF!,предметы!$G$20)>0),AND('График ОП'!#REF!=предметы!$G$20,COUNTIFS('График ОП'!#REF!,предметы!$G$6)>0),AND('График ОП'!#REF!=предметы!$G$7,COUNTIFS('График ОП'!#REF!,предметы!$G$21)>0),AND('График ОП'!#REF!=предметы!$G$21,COUNTIFS('График ОП'!#REF!,предметы!$G$7)>0),AND('График ОП'!#REF!=предметы!$G$8,COUNTIFS('График ОП'!#REF!,предметы!$G$22)>0),AND('График ОП'!#REF!=предметы!$G$22,COUNTIFS('График ОП'!#REF!,предметы!$G$8)>0),AND('График ОП'!#REF!=предметы!$G$9,COUNTIFS('График ОП'!#REF!,предметы!$G$23)>0),AND('График ОП'!#REF!=предметы!$G$23,COUNTIFS('График ОП'!#REF!,предметы!$G$9)>0),AND('График ОП'!#REF!=предметы!$G$10,COUNTIFS('График ОП'!#REF!,предметы!$G$24)>0),AND('График ОП'!#REF!=предметы!$G$24,COUNTIFS('График ОП'!#REF!,предметы!$G$10)>0),AND('График ОП'!#REF!=предметы!$G$11,COUNTIFS('График ОП'!#REF!,предметы!$G$25)>0),AND('График ОП'!#REF!=предметы!$G$25,COUNTIFS('График ОП'!#REF!,предметы!$G$11)>0),AND('График ОП'!#REF!=предметы!$G$12,COUNTIFS('График ОП'!#REF!,предметы!$G$26)>0),AND('График ОП'!#REF!=предметы!$G$26,COUNTIFS('График ОП'!#REF!,предметы!$G$12)>0),AND('График ОП'!#REF!=предметы!$G$13,COUNTIFS('График ОП'!#REF!,предметы!$G$27)>0),AND('График ОП'!#REF!=предметы!$G$27,COUNTIFS('График ОП'!#REF!,предметы!$G$13)>0),AND('График ОП'!#REF!=предметы!$G$14,COUNTIFS('График ОП'!#REF!,предметы!$G$28)>0),AND('График ОП'!#REF!=предметы!$G$28,COUNTIFS('График ОП'!#REF!,предметы!$G$14)>0)),"<17 (ВПР, КР)","*") -> #REF! | AR7: =IF(OR(COUNTIFS('График ОП'!#REF!,'График ОП'!#REF!)>1,AND('График ОП'!#REF!=предметы!$G$3,COUNTIFS('График ОП'!#REF!,предметы!$G$15)>0),AND('График ОП'!#REF!=предметы!$G$15,COUNTIFS('График ОП'!#REF!,предметы!$G$3)>0),AND('График ОП'!#REF!=предметы!$G$4,COUNTIFS('График ОП'!#REF!,предметы!$G$18)>0),AND('График ОП'!#REF!=предметы!$G$18,COUNTIFS('График ОП'!#REF!,предметы!$G$4)>0),AND('График ОП'!#REF!=предметы!$G$5,COUNTIFS('График ОП'!#REF!,предметы!$G$19)>0),AND('График ОП'!#REF!=предметы!$G$19,COUNTIFS('График ОП'!#REF!,предметы!$G$5)>0),AND('График ОП'!#REF!=предметы!$G$6,COUNTIFS('График ОП'!#REF!,предметы!$G$20)>0),AND('График ОП'!#REF!=предметы!$G$20,COUNTIFS('График ОП'!#REF!,предметы!$G$6)>0),AND('График ОП'!#REF!=предметы!$G$7,COUNTIFS('График ОП'!#REF!,предметы!$G$21)>0),AND('График ОП'!#REF!=предметы!$G$21,COUNTIFS('График ОП'!#REF!,предметы!$G$7)>0),AND('График ОП'!#REF!=предметы!$G$8,COUNTIFS('График ОП'!#REF!,предметы!$G$22)>0),AND('График ОП'!#REF!=предметы!$G$22,COUNTIFS('График ОП'!#REF!,предметы!$G$8)>0),AND('График ОП'!#REF!=предметы!$G$9,COUNTIFS('График ОП'!#REF!,предметы!$G$23)>0),AND('График ОП'!#REF!=предметы!$G$23,COUNTIFS('График ОП'!#REF!,предметы!$G$9)>0),AND('График ОП'!#REF!=предметы!$G$10,COUNTIFS('График ОП'!#REF!,предметы!$G$24)>0),AND('График ОП'!#REF!=предметы!$G$24,COUNTIFS('График ОП'!#REF!,предметы!$G$10)>0),AND('График ОП'!#REF!=предметы!$G$11,COUNTIFS('График ОП'!#REF!,предметы!$G$25)>0),AND('График ОП'!#REF!=предметы!$G$25,COUNTIFS('График ОП'!#REF!,предметы!$G$11)>0),AND('График ОП'!#REF!=предметы!$G$12,COUNTIFS('График ОП'!#REF!,предметы!$G$26)>0),AND('График ОП'!#REF!=предметы!$G$26,COUNTIFS('График ОП'!#REF!,предметы!$G$12)>0),AND('График ОП'!#REF!=предметы!$G$13,COUNTIFS('График ОП'!#REF!,предметы!$G$27)>0),AND('График ОП'!#REF!=предметы!$G$27,COUNTIFS('График ОП'!#REF!,предметы!$G$13)>0),AND('График ОП'!#REF!=предметы!$G$14,COUNTIFS('График ОП'!#REF!,предметы!$G$28)>0),AND('График ОП'!#REF!=предметы!$G$28,COUNTIFS('График ОП'!#REF!,предметы!$G$14)>0)),"<17 (ВПР, КР)","*") -> #REF! | AS7: =IF(OR(COUNTIFS('График ОП'!AB8:AB24,'График ОП'!AB8)>1,AND('График ОП'!AB8=предметы!$H$3,COUNTIFS('График ОП'!AB8:AB24,предметы!$H$16)>0),AND('График ОП'!AB8=предметы!$H$16,COUNTIFS('График ОП'!AB8:AB24,предметы!$H$3)>0),AND('График ОП'!AB8=предметы!$H$4,COUNTIFS('График ОП'!AB8:AB24,предметы!$H$19)>0),AND('График ОП'!AB8=предметы!$H$19,COUNTIFS('График ОП'!AB8:AB24,предметы!$H$4)>0),AND('График ОП'!AB8=предметы!$H$5,COUNTIFS('График ОП'!AB8:AB24,предметы!$H$20)>0),AND('График ОП'!AB8=предметы!$H$20,COUNTIFS('График ОП'!AB8:AB24,предметы!$H$5)>0),AND('График ОП'!AB8=предметы!$H$6,COUNTIFS('График ОП'!AB8:AB24,предметы!$H$21)>0),AND('График ОП'!AB8=предметы!$H$21,COUNTIFS('График ОП'!AB8:AB24,предметы!$H$6)>0),AND('График ОП'!AB8=предметы!$H$7,COUNTIFS('График ОП'!AB8:AB24,предметы!$H$22)>0),AND('График ОП'!AB8=предметы!$H$22,COUNTIFS('График ОП'!AB8:AB24,предметы!$H$7)>0),AND('График ОП'!AB8=предметы!$H$8,COUNTIFS('График ОП'!AB8:AB24,предметы!$H$23)>0),AND('График ОП'!AB8=предметы!$H$23,COUNTIFS('График ОП'!AB8:AB24,предметы!$H$8)>0),AND('График ОП'!AB8=предметы!$H$9,COUNTIFS('График ОП'!AB8:AB24,предметы!$H$24)>0),AND('График ОП'!AB8=предметы!$H$24,COUNTIFS('График ОП'!AB8:AB24,предметы!$H$9)>0),AND('График ОП'!AB8=предметы!$H$10,COUNTIFS('График ОП'!AB8:AB24,предметы!$H$25)>0),AND('График ОП'!AB8=предметы!$H$25,COUNTIFS('График ОП'!AB8:AB24,предметы!$H$10)>0),AND('График ОП'!AB8=предметы!$H$11,COUNTIFS('График ОП'!AB8:AB24,предметы!$H$26)>0),AND('График ОП'!AB8=предметы!$H$26,COUNTIFS('График ОП'!AB8:AB24,предметы!$H$11)>0),AND('График ОП'!AB8=предметы!$H$12,COUNTIFS('График ОП'!AB8:AB24,предметы!$H$27)>0),AND('График ОП'!AB8=предметы!$H$27,COUNTIFS('График ОП'!AB8:AB24,предметы!$H$12)>0),AND('График ОП'!AB8=предметы!$H$13,COUNTIFS('График ОП'!AB8:AB24,предметы!$H$28)>0),AND('График ОП'!AB8=предметы!$H$28,COUNTIFS('График ОП'!AB8:AB24,предметы!$H$13)>0),AND('График ОП'!AB8=предметы!$H$14,COUNTIFS('График ОП'!AB8:AB24,предметы!$H$29)>0),AND('График ОП'!AB8=предметы!$H$29,COUNTIFS('График ОП'!AB8:AB24,предметы!$H$14)>0),AND('График ОП'!AB8=предметы!$H$15,COUNTIFS('График ОП'!AB8:AB24,предметы!$H$30)>0),AND('График ОП'!AB8=предметы!$H$30,COUNTIFS('График ОП'!AB8:AB24,предметы!$H$15)>0)),"<17 (ВПР, КР)","*") -> * | AT7: =IF(OR(COUNTIFS('График ОП'!AC8:AC24,'График ОП'!AC8)>1,AND('График ОП'!AC8=предметы!$H$3,COUNTIFS('График ОП'!AC8:AC24,предметы!$H$16)>0),AND('График ОП'!AC8=предметы!$H$16,COUNTIFS('График ОП'!AC8:AC24,предметы!$H$3)>0),AND('График ОП'!AC8=предметы!$H$4,COUNTIFS('График ОП'!AC8:AC24,предметы!$H$19)>0),AND('График ОП'!AC8=предметы!$H$19,COUNTIFS('График ОП'!AC8:AC24,предметы!$H$4)>0),AND('График ОП'!AC8=предметы!$H$5,COUNTIFS('График ОП'!AC8:AC24,предметы!$H$20)>0),AND('График ОП'!AC8=предметы!$H$20,COUNTIFS('График ОП'!AC8:AC24,предметы!$H$5)>0),AND('График ОП'!AC8=предметы!$H$6,COUNTIFS('График ОП'!AC8:AC24,предметы!$H$21)>0),AND('График ОП'!AC8=предметы!$H$21,COUNTIFS('График ОП'!AC8:AC24,предметы!$H$6)>0),AND('График ОП'!AC8=предметы!$H$7,COUNTIFS('График ОП'!AC8:AC24,предметы!$H$22)>0),AND('График ОП'!AC8=предметы!$H$22,COUNTIFS('График ОП'!AC8:AC24,предметы!$H$7)>0),AND('График ОП'!AC8=предметы!$H$8,COUNTIFS('График ОП'!AC8:AC24,предметы!$H$23)>0),AND('График ОП'!AC8=предметы!$H$23,COUNTIFS('График ОП'!AC8:AC24,предметы!$H$8)>0),AND('График ОП'!AC8=предметы!$H$9,COUNTIFS('График ОП'!AC8:AC24,предметы!$H$24)>0),AND('График ОП'!AC8=предметы!$H$24,COUNTIFS('График ОП'!AC8:AC24,предметы!$H$9)>0),AND('График ОП'!AC8=предметы!$H$10,COUNTIFS('График ОП'!AC8:AC24,предметы!$H$25)>0),AND('График ОП'!AC8=предметы!$H$25,COUNTIFS('График ОП'!AC8:AC24,предметы!$H$10)>0),AND('График ОП'!AC8=предметы!$H$11,COUNTIFS('График ОП'!AC8:AC24,предметы!$H$26)>0),AND('График ОП'!AC8=предметы!$H$26,COUNTIFS('График ОП'!AC8:AC24,предметы!$H$11)>0),AND('График ОП'!AC8=предметы!$H$12,COUNTIFS('График ОП'!AC8:AC24,предметы!$H$27)>0),AND('График ОП'!AC8=предметы!$H$27,COUNTIFS('График ОП'!AC8:AC24,предметы!$H$12)>0),AND('График ОП'!AC8=предметы!$H$13,COUNTIFS('График ОП'!AC8:AC24,предметы!$H$28)>0),AND('График ОП'!AC8=предметы!$H$28,COUNTIFS('График ОП'!AC8:AC24,предметы!$H$13)>0),AND('График ОП'!AC8=предметы!$H$14,COUNTIFS('График ОП'!AC8:AC24,предметы!$H$29)>0),AND('График ОП'!AC8=предметы!$H$29,COUNTIFS('График ОП'!AC8:AC24,предметы!$H$14)>0),AND('График ОП'!AC8=предметы!$H$15,COUNTIFS('График ОП'!AC8:AC24,предметы!$H$30)>0),AND('График ОП'!AC8=предметы!$H$30,COUNTIFS('График ОП'!AC8:AC24,предметы!$H$15)>0)),"<17 (ВПР, КР)","*") -> * | AU7: =IF(OR(COUNTIFS('График ОП'!AD8:AD24,'График ОП'!AD8)>1,AND('График ОП'!AD8=предметы!$H$3,COUNTIFS('График ОП'!AD8:AD24,предметы!$H$16)>0),AND('График ОП'!AD8=предметы!$H$16,COUNTIFS('График ОП'!AD8:AD24,предметы!$H$3)>0),AND('График ОП'!AD8=предметы!$H$4,COUNTIFS('График ОП'!AD8:AD24,предметы!$H$19)>0),AND('График ОП'!AD8=предметы!$H$19,COUNTIFS('График ОП'!AD8:AD24,предметы!$H$4)>0),AND('График ОП'!AD8=предметы!$H$5,COUNTIFS('График ОП'!AD8:AD24,предметы!$H$20)>0),AND('График ОП'!AD8=предметы!$H$20,COUNTIFS('График ОП'!AD8:AD24,предметы!$H$5)>0),AND('График ОП'!AD8=предметы!$H$6,COUNTIFS('График ОП'!AD8:AD24,предметы!$H$21)>0),AND('График ОП'!AD8=предметы!$H$21,COUNTIFS('График ОП'!AD8:AD24,предметы!$H$6)>0),AND('График ОП'!AD8=предметы!$H$7,COUNTIFS('График ОП'!AD8:AD24,предметы!$H$22)>0),AND('График ОП'!AD8=предметы!$H$22,COUNTIFS('График ОП'!AD8:AD24,предметы!$H$7)>0),AND('График ОП'!AD8=предметы!$H$8,COUNTIFS('График ОП'!AD8:AD24,предметы!$H$23)>0),AND('График ОП'!AD8=предметы!$H$23,COUNTIFS('График ОП'!AD8:AD24,предметы!$H$8)>0),AND('График ОП'!AD8=предметы!$H$9,COUNTIFS('График ОП'!AD8:AD24,предметы!$H$24)>0),AND('График ОП'!AD8=предметы!$H$24,COUNTIFS('График ОП'!AD8:AD24,предметы!$H$9)>0),AND('График ОП'!AD8=предметы!$H$10,COUNTIFS('График ОП'!AD8:AD24,предметы!$H$25)>0),AND('График ОП'!AD8=предметы!$H$25,COUNTIFS('График ОП'!AD8:AD24,предметы!$H$10)>0),AND('График ОП'!AD8=предметы!$H$11,COUNTIFS('График ОП'!AD8:AD24,предметы!$H$26)>0),AND('График ОП'!AD8=предметы!$H$26,COUNTIFS('График ОП'!AD8:AD24,предметы!$H$11)>0),AND('График ОП'!AD8=предметы!$H$12,COUNTIFS('График ОП'!AD8:AD24,предметы!$H$27)>0),AND('График ОП'!AD8=предметы!$H$27,COUNTIFS('График ОП'!AD8:AD24,предметы!$H$12)>0),AND('График ОП'!AD8=предметы!$H$13,COUNTIFS('График ОП'!AD8:AD24,предметы!$H$28)>0),AND('График ОП'!AD8=предметы!$H$28,COUNTIFS('График ОП'!AD8:AD24,предметы!$H$13)>0),AND('График ОП'!AD8=предметы!$H$14,COUNTIFS('График ОП'!AD8:AD24,предметы!$H$29)>0),AND('График ОП'!AD8=предметы!$H$29,COUNTIFS('График ОП'!AD8:AD24,предметы!$H$14)>0),AND('График ОП'!AD8=предметы!$H$15,COUNTIFS('График ОП'!AD8:AD24,предметы!$H$30)>0),AND('График ОП'!AD8=предметы!$H$30,COUNTIFS('График ОП'!AD8:AD24,предметы!$H$15)>0)),"<17 (ВПР, КР)","*") -> * | AV7: =IF(OR(COUNTIFS('График ОП'!AE8:AE24,'График ОП'!AE8)>1,AND('График ОП'!AE8=предметы!$H$3,COUNTIFS('График ОП'!AE8:AE24,предметы!$H$16)>0),AND('График ОП'!AE8=предметы!$H$16,COUNTIFS('График ОП'!AE8:AE24,предметы!$H$3)>0),AND('График ОП'!AE8=предметы!$H$4,COUNTIFS('График ОП'!AE8:AE24,предметы!$H$19)>0),AND('График ОП'!AE8=предметы!$H$19,COUNTIFS('График ОП'!AE8:AE24,предметы!$H$4)>0),AND('График ОП'!AE8=предметы!$H$5,COUNTIFS('График ОП'!AE8:AE24,предметы!$H$20)>0),AND('График ОП'!AE8=предметы!$H$20,COUNTIFS('График ОП'!AE8:AE24,предметы!$H$5)>0),AND('График ОП'!AE8=предметы!$H$6,COUNTIFS('График ОП'!AE8:AE24,предметы!$H$21)>0),AND('График ОП'!AE8=предметы!$H$21,COUNTIFS('График ОП'!AE8:AE24,предметы!$H$6)>0),AND('График ОП'!AE8=предметы!$H$7,COUNTIFS('График ОП'!AE8:AE24,предметы!$H$22)>0),AND('График ОП'!AE8=предметы!$H$22,COUNTIFS('График ОП'!AE8:AE24,предметы!$H$7)>0),AND('График ОП'!AE8=предметы!$H$8,COUNTIFS('График ОП'!AE8:AE24,предметы!$H$23)>0),AND('График ОП'!AE8=предметы!$H$23,COUNTIFS('График ОП'!AE8:AE24,предметы!$H$8)>0),AND('График ОП'!AE8=предметы!$H$9,COUNTIFS('График ОП'!AE8:AE24,предметы!$H$24)>0),AND('График ОП'!AE8=предметы!$H$24,COUNTIFS('График ОП'!AE8:AE24,предметы!$H$9)>0),AND('График ОП'!AE8=предметы!$H$10,COUNTIFS('График ОП'!AE8:AE24,предметы!$H$25)>0),AND('График ОП'!AE8=предметы!$H$25,COUNTIFS('График ОП'!AE8:AE24,предметы!$H$10)>0),AND('График ОП'!AE8=предметы!$H$11,COUNTIFS('График ОП'!AE8:AE24,предметы!$H$26)>0),AND('График ОП'!AE8=предметы!$H$26,COUNTIFS('График ОП'!AE8:AE24,предметы!$H$11)>0),AND('График ОП'!AE8=предметы!$H$12,COUNTIFS('График ОП'!AE8:AE24,предметы!$H$27)>0),AND('График ОП'!AE8=предметы!$H$27,COUNTIFS('График ОП'!AE8:AE24,предметы!$H$12)>0),AND('График ОП'!AE8=предметы!$H$13,COUNTIFS('График ОП'!AE8:AE24,предметы!$H$28)>0),AND('График ОП'!AE8=предметы!$H$28,COUNTIFS('График ОП'!AE8:AE24,предметы!$H$13)>0),AND('График ОП'!AE8=предметы!$H$14,COUNTIFS('График ОП'!AE8:AE24,предметы!$H$29)>0),AND('График ОП'!AE8=предметы!$H$29,COUNTIFS('График ОП'!AE8:AE24,предметы!$H$14)>0),AND('График ОП'!AE8=предметы!$H$15,COUNTIFS('График ОП'!AE8:AE24,предметы!$H$30)>0),AND('График ОП'!AE8=предметы!$H$30,COUNTIFS('График ОП'!AE8:AE24,предметы!$H$15)>0)),"<17 (ВПР, КР)","*") -> * | AW7: =IF(OR(COUNTIFS('График ОП'!#REF!,'График ОП'!#REF!)>1,AND('График ОП'!#REF!=предметы!$H$3,COUNTIFS('График ОП'!#REF!,предметы!$H$16)>0),AND('График ОП'!#REF!=предметы!$H$16,COUNTIFS('График ОП'!#REF!,предметы!$H$3)>0),AND('График ОП'!#REF!=предметы!$H$4,COUNTIFS('График ОП'!#REF!,предметы!$H$19)>0),AND('График ОП'!#REF!=предметы!$H$19,COUNTIFS('График ОП'!#REF!,предметы!$H$4)>0),AND('График ОП'!#REF!=предметы!$H$5,COUNTIFS('График ОП'!#REF!,предметы!$H$20)>0),AND('График ОП'!#REF!=предметы!$H$20,COUNTIFS('График ОП'!#REF!,предметы!$H$5)>0),AND('График ОП'!#REF!=предметы!$H$6,COUNTIFS('График ОП'!#REF!,предметы!$H$21)>0),AND('График ОП'!#REF!=предметы!$H$21,COUNTIFS('График ОП'!#REF!,предметы!$H$6)>0),AND('График ОП'!#REF!=предметы!$H$7,COUNTIFS('График ОП'!#REF!,предметы!$H$22)>0),AND('График ОП'!#REF!=предметы!$H$22,COUNTIFS('График ОП'!#REF!,предметы!$H$7)>0),AND('График ОП'!#REF!=предметы!$H$8,COUNTIFS('График ОП'!#REF!,предметы!$H$23)>0),AND('График ОП'!#REF!=предметы!$H$23,COUNTIFS('График ОП'!#REF!,предметы!$H$8)>0),AND('График ОП'!#REF!=предметы!$H$9,COUNTIFS('График ОП'!#REF!,предметы!$H$24)>0),AND('График ОП'!#REF!=предметы!$H$24,COUNTIFS('График ОП'!#REF!,предметы!$H$9)>0),AND('График ОП'!#REF!=предметы!$H$10,COUNTIFS('График ОП'!#REF!,предметы!$H$25)>0),AND('График ОП'!#REF!=предметы!$H$25,COUNTIFS('График ОП'!#REF!,предметы!$H$10)>0),AND('График ОП'!#REF!=предметы!$H$11,COUNTIFS('График ОП'!#REF!,предметы!$H$26)>0),AND('График ОП'!#REF!=предметы!$H$26,COUNTIFS('График ОП'!#REF!,предметы!$H$11)>0),AND('График ОП'!#REF!=предметы!$H$12,COUNTIFS('График ОП'!#REF!,предметы!$H$27)>0),AND('График ОП'!#REF!=предметы!$H$27,COUNTIFS('График ОП'!#REF!,предметы!$H$12)>0),AND('График ОП'!#REF!=предметы!$H$13,COUNTIFS('График ОП'!#REF!,предметы!$H$28)>0),AND('График ОП'!#REF!=предметы!$H$28,COUNTIFS('График ОП'!#REF!,предметы!$H$13)>0),AND('График ОП'!#REF!=предметы!$H$14,COUNTIFS('График ОП'!#REF!,предметы!$H$29)>0),AND('График ОП'!#REF!=предметы!$H$29,COUNTIFS('График ОП'!#REF!,предметы!$H$14)>0),AND('График ОП'!#REF!=предметы!$H$15,COUNTIFS('График ОП'!#REF!,предметы!$H$30)>0),AND('График ОП'!#REF!=предметы!$H$30,COUNTIFS('График ОП'!#REF!,предметы!$H$15)>0)),"<17 (ВПР, КР)","*") -> #REF! | AX7: =IF(OR(COUNTIFS('График ОП'!#REF!,'График ОП'!#REF!)>1,AND('График ОП'!#REF!=предметы!$H$3,COUNTIFS('График ОП'!#REF!,предметы!$H$16)>0),AND('График ОП'!#REF!=предметы!$H$16,COUNTIFS('График ОП'!#REF!,предметы!$H$3)>0),AND('График ОП'!#REF!=предметы!$H$4,COUNTIFS('График ОП'!#REF!,предметы!$H$19)>0),AND('График ОП'!#REF!=предметы!$H$19,COUNTIFS('График ОП'!#REF!,предметы!$H$4)>0),AND('График ОП'!#REF!=предметы!$H$5,COUNTIFS('График ОП'!#REF!,предметы!$H$20)>0),AND('График ОП'!#REF!=предметы!$H$20,COUNTIFS('График ОП'!#REF!,предметы!$H$5)>0),AND('График ОП'!#REF!=предметы!$H$6,COUNTIFS('График ОП'!#REF!,предметы!$H$21)>0),AND('График ОП'!#REF!=предметы!$H$21,COUNTIFS('График ОП'!#REF!,предметы!$H$6)>0),AND('График ОП'!#REF!=предметы!$H$7,COUNTIFS('График ОП'!#REF!,предметы!$H$22)>0),AND('График ОП'!#REF!=предметы!$H$22,COUNTIFS('График ОП'!#REF!,предметы!$H$7)>0),AND('График ОП'!#REF!=предметы!$H$8,COUNTIFS('График ОП'!#REF!,предметы!$H$23)>0),AND('График ОП'!#REF!=предметы!$H$23,COUNTIFS('График ОП'!#REF!,предметы!$H$8)>0),AND('График ОП'!#REF!=предметы!$H$9,COUNTIFS('График ОП'!#REF!,предметы!$H$24)>0),AND('График ОП'!#REF!=предметы!$H$24,COUNTIFS('График ОП'!#REF!,предметы!$H$9)>0),AND('График ОП'!#REF!=предметы!$H$10,COUNTIFS('График ОП'!#REF!,предметы!$H$25)>0),AND('График ОП'!#REF!=предметы!$H$25,COUNTIFS('График ОП'!#REF!,предметы!$H$10)>0),AND('График ОП'!#REF!=предметы!$H$11,COUNTIFS('График ОП'!#REF!,предметы!$H$26)>0),AND('График ОП'!#REF!=предметы!$H$26,COUNTIFS('График ОП'!#REF!,предметы!$H$11)>0),AND('График ОП'!#REF!=предметы!$H$12,COUNTIFS('График ОП'!#REF!,предметы!$H$27)>0),AND('График ОП'!#REF!=предметы!$H$27,COUNTIFS('График ОП'!#REF!,предметы!$H$12)>0),AND('График ОП'!#REF!=предметы!$H$13,COUNTIFS('График ОП'!#REF!,предметы!$H$28)>0),AND('График ОП'!#REF!=предметы!$H$28,COUNTIFS('График ОП'!#REF!,предметы!$H$13)>0),AND('График ОП'!#REF!=предметы!$H$14,COUNTIFS('График ОП'!#REF!,предметы!$H$29)>0),AND('График ОП'!#REF!=предметы!$H$29,COUNTIFS('График ОП'!#REF!,предметы!$H$14)>0),AND('График ОП'!#REF!=предметы!$H$15,COUNTIFS('График ОП'!#REF!,предметы!$H$30)>0),AND('График ОП'!#REF!=предметы!$H$30,COUNTIFS('График ОП'!#REF!,предметы!$H$15)>0)),"<17 (ВПР, КР)","*") -> #REF! | AY7: =IF(COUNTIFS('График ОП'!AF8:AF24,'График ОП'!AF8)>1,"<17 (ВПР, КР)","*") -> * | AZ7: =IF(COUNTIFS('График ОП'!AG8:AG24,'График ОП'!AG8)>1,"<17 (ВПР, КР)","*") -> * | BA7: =IF(COUNTIFS('График ОП'!AH8:AH24,'График ОП'!AH8)>1,"<17 (ВПР, КР)","*") -> * | BB7: =IF(COUNTIFS('График ОП'!#REF!,'График ОП'!#REF!)>1,"<17 (ВПР, КР)","*") -> #REF! | BC7: =IF(COUNTIFS('График ОП'!#REF!,'График ОП'!#REF!)>1,"<17 (ВПР, КР)","*") -> #REF! | BD7: =IF(COUNTIFS('График ОП'!#REF!,'График ОП'!#REF!)>1,"<17 (ВПР, КР)","*") -> #REF! | BE7: =IF(OR(COUNTIFS('График ОП'!AI8:AI24,'График ОП'!AI8)>1,AND('График ОП'!AI8=предметы!$J$3,COUNTIFS('График ОП'!AI8:AI24,предметы!$J$16)>0),AND('График ОП'!AI8=предметы!$J$16,COUNTIFS('График ОП'!AI8:AI24,предметы!$J$3)>0),AND('График ОП'!AI8=предметы!$J$4,COUNTIFS('График ОП'!AI8:AI24,предметы!$J$19)>0),AND('График ОП'!AI8=предметы!$J$19,COUNTIFS('График ОП'!AI8:AI24,предметы!$J$4)>0),AND('График ОП'!AI8=предметы!$J$5,COUNTIFS('График ОП'!AI8:AI24,предметы!$J$20)>0),AND('График ОП'!AI8=предметы!$J$20,COUNTIFS('График ОП'!AI8:AI24,предметы!$J$5)>0),AND('График ОП'!AI8=предметы!$J$6,COUNTIFS('График ОП'!AI8:AI24,предметы!$J$21)>0),AND('График ОП'!AI8=предметы!$J$21,COUNTIFS('График ОП'!AI8:AI24,предметы!$J$6)>0),AND('График ОП'!AI8=предметы!$J$7,COUNTIFS('График ОП'!AI8:AI24,предметы!$J$22)>0),AND('График ОП'!AI8=предметы!$J$22,COUNTIFS('График ОП'!AI8:AI24,предметы!$J$7)>0),AND('График ОП'!AI8=предметы!$J$8,COUNTIFS('График ОП'!AI8:AI24,предметы!$J$23)>0),AND('График ОП'!AI8=предметы!$J$23,COUNTIFS('График ОП'!AI8:AI24,предметы!$J$8)>0),AND('График ОП'!AI8=предметы!$J$9,COUNTIFS('График ОП'!AI8:AI24,предметы!$J$24)>0),AND('График ОП'!AI8=предметы!$J$24,COUNTIFS('График ОП'!AI8:AI24,предметы!$J$9)>0),AND('График ОП'!AI8=предметы!$J$10,COUNTIFS('График ОП'!AI8:AI24,предметы!$J$25)>0),AND('График ОП'!AI8=предметы!$J$25,COUNTIFS('График ОП'!AI8:AI24,предметы!$J$10)>0),AND('График ОП'!AI8=предметы!$J$11,COUNTIFS('График ОП'!AI8:AI24,предметы!$J$26)>0),AND('График ОП'!AI8=предметы!$J$26,COUNTIFS('График ОП'!AI8:AI24,предметы!$J$11)>0),AND('График ОП'!AI8=предметы!$J$12,COUNTIFS('График ОП'!AI8:AI24,предметы!$J$27)>0),AND('График ОП'!AI8=предметы!$J$27,COUNTIFS('График ОП'!AI8:AI24,предметы!$J$12)>0),AND('График ОП'!AI8=предметы!$J$13,COUNTIFS('График ОП'!AI8:AI24,предметы!$J$28)>0),AND('График ОП'!AI8=предметы!$J$28,COUNTIFS('График ОП'!AI8:AI24,предметы!$J$13)>0),AND('График ОП'!AI8=предметы!$J$14,COUNTIFS('График ОП'!AI8:AI24,предметы!$J$29)>0),AND('График ОП'!AI8=предметы!$J$29,COUNTIFS('График ОП'!AI8:AI24,предметы!$J$14)>0),AND('График ОП'!AI8=предметы!$J$15,COUNTIFS('График ОП'!AI8:AI24,предметы!$J$30)>0),AND('График ОП'!AI8=предметы!$J$30,COUNTIFS('График ОП'!AI8:AI24,предметы!$J$15)>0)),"<17 (ВПР, КР)","*") -> * | BF7: =IF(OR(COUNTIFS('График ОП'!AJ8:AJ24,'График ОП'!AJ8)>1,AND('График ОП'!AJ8=предметы!$J$3,COUNTIFS('График ОП'!AJ8:AJ24,предметы!$J$16)>0),AND('График ОП'!AJ8=предметы!$J$16,COUNTIFS('График ОП'!AJ8:AJ24,предметы!$J$3)>0),AND('График ОП'!AJ8=предметы!$J$4,COUNTIFS('График ОП'!AJ8:AJ24,предметы!$J$19)>0),AND('График ОП'!AJ8=предметы!$J$19,COUNTIFS('График ОП'!AJ8:AJ24,предметы!$J$4)>0),AND('График ОП'!AJ8=предметы!$J$5,COUNTIFS('График ОП'!AJ8:AJ24,предметы!$J$20)>0),AND('График ОП'!AJ8=предметы!$J$20,COUNTIFS('График ОП'!AJ8:AJ24,предметы!$J$5)>0),AND('График ОП'!AJ8=предметы!$J$6,COUNTIFS('График ОП'!AJ8:AJ24,предметы!$J$21)>0),AND('График ОП'!AJ8=предметы!$J$21,COUNTIFS('График ОП'!AJ8:AJ24,предметы!$J$6)>0),AND('График ОП'!AJ8=предметы!$J$7,COUNTIFS('График ОП'!AJ8:AJ24,предметы!$J$22)>0),AND('График ОП'!AJ8=предметы!$J$22,COUNTIFS('График ОП'!AJ8:AJ24,предметы!$J$7)>0),AND('График ОП'!AJ8=предметы!$J$8,COUNTIFS('График ОП'!AJ8:AJ24,предметы!$J$23)>0),AND('График ОП'!AJ8=предметы!$J$23,COUNTIFS('График ОП'!AJ8:AJ24,предметы!$J$8)>0),AND('График ОП'!AJ8=предметы!$J$9,COUNTIFS('График ОП'!AJ8:AJ24,предметы!$J$24)>0),AND('График ОП'!AJ8=предметы!$J$24,COUNTIFS('График ОП'!AJ8:AJ24,предметы!$J$9)>0),AND('График ОП'!AJ8=предметы!$J$10,COUNTIFS('График ОП'!AJ8:AJ24,предметы!$J$25)>0),AND('График ОП'!AJ8=предметы!$J$25,COUNTIFS('График ОП'!AJ8:AJ24,предметы!$J$10)>0),AND('График ОП'!AJ8=предметы!$J$11,COUNTIFS('График ОП'!AJ8:AJ24,предметы!$J$26)>0),AND('График ОП'!AJ8=предметы!$J$26,COUNTIFS('График ОП'!AJ8:AJ24,предметы!$J$11)>0),AND('График ОП'!AJ8=предметы!$J$12,COUNTIFS('График ОП'!AJ8:AJ24,предметы!$J$27)>0),AND('График ОП'!AJ8=предметы!$J$27,COUNTIFS('График ОП'!AJ8:AJ24,предметы!$J$12)>0),AND('График ОП'!AJ8=предметы!$J$13,COUNTIFS('График ОП'!AJ8:AJ24,предметы!$J$28)>0),AND('График ОП'!AJ8=предметы!$J$28,COUNTIFS('График ОП'!AJ8:AJ24,предметы!$J$13)>0),AND('График ОП'!AJ8=предметы!$J$14,COUNTIFS('График ОП'!AJ8:AJ24,предметы!$J$29)>0),AND('График ОП'!AJ8=предметы!$J$29,COUNTIFS('График ОП'!AJ8:AJ24,предметы!$J$14)>0),AND('График ОП'!AJ8=предметы!$J$15,COUNTIFS('График ОП'!AJ8:AJ24,предметы!$J$30)>0),AND('График ОП'!AJ8=предметы!$J$30,COUNTIFS('График ОП'!AJ8:AJ24,предметы!$J$15)>0)),"<17 (ВПР, КР)","*") -> * | BG7: =IF(OR(COUNTIFS('График ОП'!#REF!,'График ОП'!#REF!)>1,AND('График ОП'!#REF!=предметы!$J$3,COUNTIFS('График ОП'!#REF!,предметы!$J$16)>0),AND('График ОП'!#REF!=предметы!$J$16,COUNTIFS('График ОП'!#REF!,предметы!$J$3)>0),AND('График ОП'!#REF!=предметы!$J$4,COUNTIFS('График ОП'!#REF!,предметы!$J$19)>0),AND('График ОП'!#REF!=предметы!$J$19,COUNTIFS('График ОП'!#REF!,предметы!$J$4)>0),AND('График ОП'!#REF!=предметы!$J$5,COUNTIFS('График ОП'!#REF!,предметы!$J$20)>0),AND('График ОП'!#REF!=предметы!$J$20,COUNTIFS('График ОП'!#REF!,предметы!$J$5)>0),AND('График ОП'!#REF!=предметы!$J$6,COUNTIFS('График ОП'!#REF!,предметы!$J$21)>0),AND('График ОП'!#REF!=предметы!$J$21,COUNTIFS('График ОП'!#REF!,предметы!$J$6)>0),AND('График ОП'!#REF!=предметы!$J$7,COUNTIFS('График ОП'!#REF!,предметы!$J$22)>0),AND('График ОП'!#REF!=предметы!$J$22,COUNTIFS('График ОП'!#REF!,предметы!$J$7)>0),AND('График ОП'!#REF!=предметы!$J$8,COUNTIFS('График ОП'!#REF!,предметы!$J$23)>0),AND('График ОП'!#REF!=предметы!$J$23,COUNTIFS('График ОП'!#REF!,предметы!$J$8)>0),AND('График ОП'!#REF!=предметы!$J$9,COUNTIFS('График ОП'!#REF!,предметы!$J$24)>0),AND('График ОП'!#REF!=предметы!$J$24,COUNTIFS('График ОП'!#REF!,предметы!$J$9)>0),AND('График ОП'!#REF!=предметы!$J$10,COUNTIFS('График ОП'!#REF!,предметы!$J$25)>0),AND('График ОП'!#REF!=предметы!$J$25,COUNTIFS('График ОП'!#REF!,предметы!$J$10)>0),AND('График ОП'!#REF!=предметы!$J$11,COUNTIFS('График ОП'!#REF!,предметы!$J$26)>0),AND('График ОП'!#REF!=предметы!$J$26,COUNTIFS('График ОП'!#REF!,предметы!$J$11)>0),AND('График ОП'!#REF!=предметы!$J$12,COUNTIFS('График ОП'!#REF!,предметы!$J$27)>0),AND('График ОП'!#REF!=предметы!$J$27,COUNTIFS('График ОП'!#REF!,предметы!$J$12)>0),AND('График ОП'!#REF!=предметы!$J$13,COUNTIFS('График ОП'!#REF!,предметы!$J$28)>0),AND('График ОП'!#REF!=предметы!$J$28,COUNTIFS('График ОП'!#REF!,предметы!$J$13)>0),AND('График ОП'!#REF!=предметы!$J$14,COUNTIFS('График ОП'!#REF!,предметы!$J$29)>0),AND('График ОП'!#REF!=предметы!$J$29,COUNTIFS('График ОП'!#REF!,предметы!$J$14)>0),AND('График ОП'!#REF!=предметы!$J$15,COUNTIFS('График ОП'!#REF!,предметы!$J$30)>0),AND('График ОП'!#REF!=предметы!$J$30,COUNTIFS('График ОП'!#REF!,предметы!$J$15)>0)),"<17 (ВПР, КР)","*") -> #REF! | BH7: =IF(OR(COUNTIFS('График ОП'!#REF!,'График ОП'!#REF!)>1,AND('График ОП'!#REF!=предметы!$J$3,COUNTIFS('График ОП'!#REF!,предметы!$J$16)>0),AND('График ОП'!#REF!=предметы!$J$16,COUNTIFS('График ОП'!#REF!,предметы!$J$3)>0),AND('График ОП'!#REF!=предметы!$J$4,COUNTIFS('График ОП'!#REF!,предметы!$J$19)>0),AND('График ОП'!#REF!=предметы!$J$19,COUNTIFS('График ОП'!#REF!,предметы!$J$4)>0),AND('График ОП'!#REF!=предметы!$J$5,COUNTIFS('График ОП'!#REF!,предметы!$J$20)>0),AND('График ОП'!#REF!=предметы!$J$20,COUNTIFS('График ОП'!#REF!,предметы!$J$5)>0),AND('График ОП'!#REF!=предметы!$J$6,COUNTIFS('График ОП'!#REF!,предметы!$J$21)>0),AND('График ОП'!#REF!=предметы!$J$21,COUNTIFS('График ОП'!#REF!,предметы!$J$6)>0),AND('График ОП'!#REF!=предметы!$J$7,COUNTIFS('График ОП'!#REF!,предметы!$J$22)>0),AND('График ОП'!#REF!=предметы!$J$22,COUNTIFS('График ОП'!#REF!,предметы!$J$7)>0),AND('График ОП'!#REF!=предметы!$J$8,COUNTIFS('График ОП'!#REF!,предметы!$J$23)>0),AND('График ОП'!#REF!=предметы!$J$23,COUNTIFS('График ОП'!#REF!,предметы!$J$8)>0),AND('График ОП'!#REF!=предметы!$J$9,COUNTIFS('График ОП'!#REF!,предметы!$J$24)>0),AND('График ОП'!#REF!=предметы!$J$24,COUNTIFS('График ОП'!#REF!,предметы!$J$9)>0),AND('График ОП'!#REF!=предметы!$J$10,COUNTIFS('График ОП'!#REF!,предметы!$J$25)>0),AND('График ОП'!#REF!=предметы!$J$25,COUNTIFS('График ОП'!#REF!,предметы!$J$10)>0),AND('График ОП'!#REF!=предметы!$J$11,COUNTIFS('График ОП'!#REF!,предметы!$J$26)>0),AND('График ОП'!#REF!=предметы!$J$26,COUNTIFS('График ОП'!#REF!,предметы!$J$11)>0),AND('График ОП'!#REF!=предметы!$J$12,COUNTIFS('График ОП'!#REF!,предметы!$J$27)>0),AND('График ОП'!#REF!=предметы!$J$27,COUNTIFS('График ОП'!#REF!,предметы!$J$12)>0),AND('График ОП'!#REF!=предметы!$J$13,COUNTIFS('График ОП'!#REF!,предметы!$J$28)>0),AND('График ОП'!#REF!=предметы!$J$28,COUNTIFS('График ОП'!#REF!,предметы!$J$13)>0),AND('График ОП'!#REF!=предметы!$J$14,COUNTIFS('График ОП'!#REF!,предметы!$J$29)>0),AND('График ОП'!#REF!=предметы!$J$29,COUNTIFS('График ОП'!#REF!,предметы!$J$14)>0),AND('График ОП'!#REF!=предметы!$J$15,COUNTIFS('График ОП'!#REF!,предметы!$J$30)>0),AND('График ОП'!#REF!=предметы!$J$30,COUNTIFS('График ОП'!#REF!,предметы!$J$15)>0)),"<17 (ВПР, КР)","*") -> #REF! | BI7: =IF(OR(COUNTIFS('График ОП'!#REF!,'График ОП'!#REF!)>1,AND('График ОП'!#REF!=предметы!$J$3,COUNTIFS('График ОП'!#REF!,предметы!$J$16)>0),AND('График ОП'!#REF!=предметы!$J$16,COUNTIFS('График ОП'!#REF!,предметы!$J$3)>0),AND('График ОП'!#REF!=предметы!$J$4,COUNTIFS('График ОП'!#REF!,предметы!$J$19)>0),AND('График ОП'!#REF!=предметы!$J$19,COUNTIFS('График ОП'!#REF!,предметы!$J$4)>0),AND('График ОП'!#REF!=предметы!$J$5,COUNTIFS('График ОП'!#REF!,предметы!$J$20)>0),AND('График ОП'!#REF!=предметы!$J$20,COUNTIFS('График ОП'!#REF!,предметы!$J$5)>0),AND('График ОП'!#REF!=предметы!$J$6,COUNTIFS('График ОП'!#REF!,предметы!$J$21)>0),AND('График ОП'!#REF!=предметы!$J$21,COUNTIFS('График ОП'!#REF!,предметы!$J$6)>0),AND('График ОП'!#REF!=предметы!$J$7,COUNTIFS('График ОП'!#REF!,предметы!$J$22)>0),AND('График ОП'!#REF!=предметы!$J$22,COUNTIFS('График ОП'!#REF!,предметы!$J$7)>0),AND('График ОП'!#REF!=предметы!$J$8,COUNTIFS('График ОП'!#REF!,предметы!$J$23)>0),AND('График ОП'!#REF!=предметы!$J$23,COUNTIFS('График ОП'!#REF!,предметы!$J$8)>0),AND('График ОП'!#REF!=предметы!$J$9,COUNTIFS('График ОП'!#REF!,предметы!$J$24)>0),AND('График ОП'!#REF!=предметы!$J$24,COUNTIFS('График ОП'!#REF!,предметы!$J$9)>0),AND('График ОП'!#REF!=предметы!$J$10,COUNTIFS('График ОП'!#REF!,предметы!$J$25)>0),AND('График ОП'!#REF!=предметы!$J$25,COUNTIFS('График ОП'!#REF!,предметы!$J$10)>0),AND('График ОП'!#REF!=предметы!$J$11,COUNTIFS('График ОП'!#REF!,предметы!$J$26)>0),AND('График ОП'!#REF!=предметы!$J$26,COUNTIFS('График ОП'!#REF!,предметы!$J$11)>0),AND('График ОП'!#REF!=предметы!$J$12,COUNTIFS('График ОП'!#REF!,предметы!$J$27)>0),AND('График ОП'!#REF!=предметы!$J$27,COUNTIFS('График ОП'!#REF!,предметы!$J$12)>0),AND('График ОП'!#REF!=предметы!$J$13,COUNTIFS('График ОП'!#REF!,предметы!$J$28)>0),AND('График ОП'!#REF!=предметы!$J$28,COUNTIFS('График ОП'!#REF!,предметы!$J$13)>0),AND('График ОП'!#REF!=предметы!$J$14,COUNTIFS('График ОП'!#REF!,предметы!$J$29)>0),AND('График ОП'!#REF!=предметы!$J$29,COUNTIFS('График ОП'!#REF!,предметы!$J$14)>0),AND('График ОП'!#REF!=предметы!$J$15,COUNTIFS('График ОП'!#REF!,предметы!$J$30)>0),AND('График ОП'!#REF!=предметы!$J$30,COUNTIFS('График ОП'!#REF!,предметы!$J$15)>0)),"<17 (ВПР, КР)","*") -> #REF! | BJ7: =IF(OR(COUNTIFS('График ОП'!#REF!,'График ОП'!#REF!)>1,AND('График ОП'!#REF!=предметы!$J$3,COUNTIFS('График ОП'!#REF!,предметы!$J$16)>0),AND('График ОП'!#REF!=предметы!$J$16,COUNTIFS('График ОП'!#REF!,предметы!$J$3)>0),AND('График ОП'!#REF!=предметы!$J$4,COUNTIFS('График ОП'!#REF!,предметы!$J$19)>0),AND('График ОП'!#REF!=предметы!$J$19,COUNTIFS('График ОП'!#REF!,предметы!$J$4)>0),AND('График ОП'!#REF!=предметы!$J$5,COUNTIFS('График ОП'!#REF!,предметы!$J$20)>0),AND('График ОП'!#REF!=предметы!$J$20,COUNTIFS('График ОП'!#REF!,предметы!$J$5)>0),AND('График ОП'!#REF!=предметы!$J$6,COUNTIFS('График ОП'!#REF!,предметы!$J$21)>0),AND('График ОП'!#REF!=предметы!$J$21,COUNTIFS('График ОП'!#REF!,предметы!$J$6)>0),AND('График ОП'!#REF!=предметы!$J$7,COUNTIFS('График ОП'!#REF!,предметы!$J$22)>0),AND('График ОП'!#REF!=предметы!$J$22,COUNTIFS('График ОП'!#REF!,предметы!$J$7)>0),AND('График ОП'!#REF!=предметы!$J$8,COUNTIFS('График ОП'!#REF!,предметы!$J$23)>0),AND('График ОП'!#REF!=предметы!$J$23,COUNTIFS('График ОП'!#REF!,предметы!$J$8)>0),AND('График ОП'!#REF!=предметы!$J$9,COUNTIFS('График ОП'!#REF!,предметы!$J$24)>0),AND('График ОП'!#REF!=предметы!$J$24,COUNTIFS('График ОП'!#REF!,предметы!$J$9)>0),AND('График ОП'!#REF!=предметы!$J$10,COUNTIFS('График ОП'!#REF!,предметы!$J$25)>0),AND('График ОП'!#REF!=предметы!$J$25,COUNTIFS('График ОП'!#REF!,предметы!$J$10)>0),AND('График ОП'!#REF!=предметы!$J$11,COUNTIFS('График ОП'!#REF!,предметы!$J$26)>0),AND('График ОП'!#REF!=предметы!$J$26,COUNTIFS('График ОП'!#REF!,предметы!$J$11)>0),AND('График ОП'!#REF!=предметы!$J$12,COUNTIFS('График ОП'!#REF!,предметы!$J$27)>0),AND('График ОП'!#REF!=предметы!$J$27,COUNTIFS('График ОП'!#REF!,предметы!$J$12)>0),AND('График ОП'!#REF!=предметы!$J$13,COUNTIFS('График ОП'!#REF!,предметы!$J$28)>0),AND('График ОП'!#REF!=предметы!$J$28,COUNTIFS('График ОП'!#REF!,предметы!$J$13)>0),AND('График ОП'!#REF!=предметы!$J$14,COUNTIFS('График ОП'!#REF!,предметы!$J$29)>0),AND('График ОП'!#REF!=предметы!$J$29,COUNTIFS('График ОП'!#REF!,предметы!$J$14)>0),AND('График ОП'!#REF!=предметы!$J$15,COUNTIFS('График ОП'!#REF!,предметы!$J$30)>0),AND('График ОП'!#REF!=предметы!$J$30,COUNTIFS('График ОП'!#REF!,предметы!$J$15)>0)),"<17 (ВПР, КР)","*") -> #REF! | BK7: =IF(COUNTIFS('График ОП'!AK8:AK24,'График ОП'!AK8)>1,"<17 (ВПР, КР)","*") -> * | BL7: =IF(COUNTIFS('График ОП'!AL8:AL24,'График ОП'!AL8)>1,"<17 (ВПР, КР)","*") -> * | BM7: =IF(COUNTIFS('График ОП'!#REF!,'График ОП'!#REF!)>1,"<17 (ВПР, КР)","*") -> #REF! | BN7: =IF(COUNTIFS('График ОП'!#REF!,'График ОП'!#REF!)>1,"<17 (ВПР, КР)","*") -> #REF! | BO7: =IF(COUNTIFS('График ОП'!#REF!,'График ОП'!#REF!)>1,"<17 (ВПР, КР)","*") -> #REF! | BP7: =IF(COUNTIFS('График ОП'!#REF!,'График ОП'!#REF!)>1,"<17 (ВПР, КР)","*") -> #REF!
